PDS_VERSION_ID = PDS3
/* FILE DATA ELEMENTS */
RECORD_TYPE = STREAM
/* POINTERS TO DATA OBJECTS */
^COMPRESSED_FILE = "H5204_0000_S13.JP2"
/* IDENTIFICATION DATA ELEMENTS */
DATA_SET_ID = "MEX-M-HRSC-5-REFDR-MAPPROJECTED-V3.0"
DATA_SET_NAME = "MARS EXPRESS HRSC MAP PROJECTED REFDR V3.0"
DETECTOR_ID = MEX_HRSC_S1
EVENT_TYPE = "MARS-REGIONAL-MAPPING-Vo-Eo-La"
INSTRUMENT_HOST_ID = MEX
INSTRUMENT_HOST_NAME = "MARS EXPRESS"
INSTRUMENT_ID = HRSC
INSTRUMENT_NAME = "HIGH RESOLUTION STEREO CAMERA"
MISSION_NAME = "MARS EXPRESS"
MISSION_PHASE_NAME = ME_Phase_11
PROCESSING_LEVEL_ID = 3
PRODUCT_CREATION_TIME = 2016-05-13T12:18:58.000Z
PRODUCT_ID = "H5204_0000_S13.JP2"
RELEASE_ID = 0060
REVISION_ID = 0000
/* QUALITY DATA ELEMENTS */
DATA_QUALITY_ID = 2
DATA_QUALITY_DESC = "Data calculated based on photogrammetrically improved orbit and attitude data"
/* TIME DATA ELEMENTS */
SPACECRAFT_CLOCK_START_COUNT = "1/0148926817.07301"
SPACECRAFT_CLOCK_STOP_COUNT = "1/0148927022.56654"
START_TIME = 2008-01-20T16:33:40.967Z
STOP_TIME = 2008-01-20T16:36:05.712Z
/* ORBITAL DATA ELEMENTS */
ASCENDING_NODE_LONGITUDE = 119.86
MAXIMUM_RESOLUTION = 28.9
FOOTPRINT_POINT_LATITUDE = (17.1806,17.181,17.1809,17.1804,17.1792 ,16.9403,16.7484,16.5565,16.3643, 16.0759,15.8836,15.691,15.4019,15.2092, 15.0162,14.8231,14.5335,14.3401,14.1466 ,13.9542,13.7672,13.58,13.2987,13.1111, 12.9237,12.6421,12.4543,12.2664,12.0784 ,11.8901,11.7019,11.4197,11.2316, 11.0439,10.8557,10.6674,10.4797,10.2914 ,10.1032,9.91435,9.72622,9.53765, 9.25423,9.06515,8.87581,8.59182,8.40306 ,8.21408,8.02441,7.83481,7.64506, 7.63216,7.63169,7.62962,7.81565,8.0049, 8.1936,8.47799,8.66735,8.85615,9.13892, 9.32745,9.5161,9.70541,9.89429,10.0826, 10.2714,10.4602,10.6489,10.9311,11.1197 ,11.3082,11.4967,11.685,11.9675,12.1558 ,12.3439,12.5319,12.7199,12.9078, 13.0956,13.2832,13.4709,13.7521,13.94, 14.1325,14.3251,14.6152,14.9049,15.0982 ,15.2912,15.4841,15.7733,16.0622, 16.2547,16.4471,16.6394,16.8314,17.1194 ,17.1806)
FOOTPRINT_POINT_LONGITUDE = (202.171,201.981,201.766,201.576,201.35 ,201.217,201.218,201.219,201.22,201.221 ,201.222,201.222,201.223,201.224, 201.224,201.225,201.225,201.226,201.226 ,201.226,201.226,201.226,201.226, 201.226,201.226,201.226,201.225,201.225 ,201.225,201.224,201.224,201.223, 201.222,201.222,201.221,201.221,201.22, 201.219,201.219,201.218,201.217,201.216 ,201.214,201.213,201.212,201.21,201.209 ,201.208,201.206,201.205,201.203, 201.561,201.799,202.169,202.437,202.437 ,202.438,202.438,202.438,202.439, 202.439,202.44,202.44,202.441,202.441, 202.442,202.442,202.443,202.443,202.444 ,202.445,202.445,202.446,202.446, 202.447,202.448,202.448,202.449,202.45, 202.45,202.451,202.452,202.452,202.454, 202.454,202.455,202.456,202.457,202.459 ,202.459,202.46,202.461,202.463,202.464 ,202.465,202.466,202.467,202.468,202.47 ,202.171)
ORBIT_NUMBER = 5204
ORBITAL_ECCENTRICITY = 0.573
ORBITAL_INCLINATION = 86.73
ORBITAL_SEMIMAJOR_AXIS = 8718.47
PERIAPSIS_ALTITUDE = 325.78
PERIAPSIS_ARGUMENT_ANGLE = 162.82
PERIAPSIS_TIME = 2008-01-20T16:34:17.000Z
SPACECRAFT_ORIENTATION = (0.0,-1.0,0.0)
^MEX_ORIENTATION_DESC = "MEX_ORIENTATION_DESC.TXT"
SPACECRAFT_POINTING_MODE = NADIR
^MEX_POINTING_DESC = "MEX_POINTING_DESC.TXT"
RIGHT_ASCENSION = -1e+32
DECLINATION = -1e+32
OFFSET_ANGLE = -1e+32
SPACECRAFT_SOLAR_DISTANCE = 2.40138e+08
TARGET_NAME = MARS
/* CAMERA DATA ELEMENTS */
DETECTOR_TEMPERATURE = 17.5549
FOCAL_PLANE_TEMPERATURE = 8.7872
INST_CMPRS_NAME = "DISCRETE COSINE TRANSFORMATION (DCT)"
INST_CMPRS_RATIO = 6.94055
INST_CMPRS_QUALITY = 0
INST_CMPRS_QUANTZ_TBL_ID = 0
INSTRUMENT_TEMPERATURE = 11.4379
LENS_TEMPERATURE = 8.9911
MACROPIXEL_SIZE = 2
MISSING_FRAMES = 0
PIXEL_SUBSAMPLING_FLAG = N
SIGNAL_CHAIN_ID = 1
/* RADIOMETRIC DATA ELEMENTS */
BANDWIDTH = 180.0
CENTER_FILTER_WAVELENGTH = 677.0
RADIANCE_OFFSET = 4.06718
RADIANCE_SCALING_FACTOR = 0.0194641
REFLECTANCE_SCALING_FACTOR = 0.000585597
MEX:REFLECTANCE_OFFSET = 0.122365
/* IMAGE OBJECT DEFINITIONS */
OBJECT = IMAGE
  INTERCHANGE_FORMAT = BINARY
  LINES = 22322
  LINE_SAMPLES = 3021
  SAMPLE_TYPE = UNSIGNED_INTEGER
  SAMPLE_BITS = 8
  BANDS = 1
  BAND_STORAGE_TYPE = BAND_SEQUENTIAL
  MAXIMUM = 255
  MEAN = 143.599
  MINIMUM = 1
  STANDARD_DEVIATION = 20.9273
END_OBJECT = IMAGE
/* MAP OBJECT DEFINITIONS */
OBJECT = IMAGE_MAP_PROJECTION
  ^DATA_SET_MAP_PROJECTION_CATALOG= "DSMAP.CAT"
  A_AXIS_RADIUS = 3396.0
  B_AXIS_RADIUS = 3396.0
  C_AXIS_RADIUS = 3396.0
  CENTER_LATITUDE = 0.0
  CENTER_LONGITUDE = 202.0
  COORDINATE_SYSTEM_NAME = PLANETOGRAPHIC
  COORDINATE_SYSTEM_TYPE = "BODY-FIXED ROTATING"
  EASTERNMOST_LONGITUDE = 202.47
  FIRST_STANDARD_PARALLEL = "N/A"
  LINE_FIRST_PIXEL = 1
  LINE_LAST_PIXEL = 22322
  LINE_PROJECTION_OFFSET = 40757.25
  MAP_PROJECTION_ROTATION = 0.0
  MAP_PROJECTION_TYPE = SINUSOIDAL
  MAP_RESOLUTION = 2370.85521546667
  MAP_SCALE = 0.025
  MAXIMUM_LATITUDE = 17.181
  MINIMUM_LATITUDE = 7.62962
  POSITIVE_LONGITUDE_DIRECTION = EAST
  REFERENCE_LATITUDE = "N/A"
  REFERENCE_LONGITUDE = "N/A"
  SAMPLE_FIRST_PIXEL = 1
  SAMPLE_LAST_PIXEL = 3021
  SAMPLE_PROJECTION_OFFSET = 1938.75
  SECOND_STANDARD_PARALLEL = "N/A"
  WESTERNMOST_LONGITUDE = 201.203
END_OBJECT = IMAGE_MAP_PROJECTION
/* The JPEG2000 image data file associated with this label. */
OBJECT = COMPRESSED_FILE
  FILE_NAME = "H5204_0000_S13.JP2"
  RECORD_TYPE = UNDEFINED
  FILE_RECORDS = UNK
  ENCODING_TYPE = "JP2"
  INTERCHANGE_FORMAT = BINARY
  UNCOMPRESSED_FILE_NAME = "H5204_0000_S13.IMG"
  REQUIRED_STORAGE_BYTES = "67458930"
  ^DESCRIPTION = "JP2INFO.TXT"
END_OBJECT = COMPRESSED_FILE
END
