PDS_VERSION_ID = PDS3
/* FILE DATA ELEMENTS */
RECORD_TYPE = STREAM
/* POINTERS TO DATA OBJECTS */
^COMPRESSED_FILE = "H5206_0000_ND3.JP2"
/* IDENTIFICATION DATA ELEMENTS */
DATA_SET_ID = "MEX-M-HRSC-5-REFDR-MAPPROJECTED-V3.0"
DATA_SET_NAME = "MARS EXPRESS HRSC MAP PROJECTED REFDR V3.0"
DETECTOR_ID = MEX_HRSC_NADIR
EVENT_TYPE = "MARS-REGIONAL-MAPPING-Im"
INSTRUMENT_HOST_ID = MEX
INSTRUMENT_HOST_NAME = "MARS EXPRESS"
INSTRUMENT_ID = HRSC
INSTRUMENT_NAME = "HIGH RESOLUTION STEREO CAMERA"
MISSION_NAME = "MARS EXPRESS"
MISSION_PHASE_NAME = ME_Phase_11
PROCESSING_LEVEL_ID = 3
PRODUCT_CREATION_TIME = 2016-05-13T12:18:58.000Z
PRODUCT_ID = "H5206_0000_ND3.JP2"
RELEASE_ID = 0060
REVISION_ID = 0000
/* QUALITY DATA ELEMENTS */
DATA_QUALITY_ID = 2
DATA_QUALITY_DESC = "Data calculated based on photogrammetrically improved orbit and attitude data"
/* TIME DATA ELEMENTS */
SPACECRAFT_CLOCK_START_COUNT = "1/0148976246.09070"
SPACECRAFT_CLOCK_STOP_COUNT = "1/0148976437.31781"
START_TIME = 2008-01-21T06:17:59.344Z
STOP_TIME = 2008-01-21T06:20:04.323Z
/* ORBITAL DATA ELEMENTS */
ASCENDING_NODE_LONGITUDE = 119.83
MAXIMUM_RESOLUTION = 14
FOOTPRINT_POINT_LATITUDE = (7.13443,7.13629,7.13788,7.13874, 7.13954,6.98243,6.82539,6.51147,6.19781 ,5.88438,5.57121,5.25831,5.09828, 4.93679,4.77538,4.61406,4.45278,4.29159 ,4.13048,3.96945,3.80852,3.64766, 3.48683,3.32612,3.16549,3.00494,2.84447 ,2.68412,2.52384,2.36362,2.20351, 2.04349,1.88354,1.7237,1.56394,1.40427, 1.2447,1.08521,0.925827,0.766534, 0.607336,0.448229,0.28923,0.130319, -0.0284859,-0.187189,-0.345796,-0.5043, -0.662697,-0.820995,-0.842081,-0.844292 ,-0.846696,-0.849048,-0.850429, -0.692054,-0.533572,-0.374989,-0.216316 ,-0.057538,0.101348,0.26033,0.419407, 0.578583,0.737858,0.897225,1.05669, 1.21623,1.37588,1.53562,1.69546,1.85538 ,2.01539,2.17551,2.33571,2.49599, 2.65636,2.81682,2.97736,3.13798,3.29869 ,3.45947,3.62035,3.7813,3.94233,4.10346 ,4.26465,4.42592,4.58726,4.74868, 4.91017,5.07176,5.23255,5.54555,5.85889 ,6.17247,6.48631,6.80039,6.95751, 7.13443)
FOOTPRINT_POINT_LONGITUDE = (2.12455,1.77588,1.42674,1.20976, 0.970026,0.968414,0.966643,0.963286, 0.959404,0.955768,0.952008,0.947897, 0.945796,0.943716,0.941261,0.938583, 0.936867,0.934617,0.932184,0.929891, 0.926795,0.924252,0.922548,0.920075, 0.917583,0.915096,0.912702,0.90937, 0.906609,0.904281,0.901345,0.898525, 0.89582,0.892991,0.890159,0.887333, 0.884289,0.8815,0.878505,0.87553, 0.872522,0.869605,0.866434,0.863422, 0.860253,0.856983,0.853796,0.850529, 0.847131,0.843771,1.0487,1.34982, 1.67788,2.00563,2.23071,2.22971,2.22884 ,2.22794,2.22682,2.22579,2.22499, 2.22412,2.22319,2.22234,2.22155,2.22067 ,2.21986,2.21872,2.21784,2.2171,2.21634 ,2.21539,2.21469,2.21416,2.21355, 2.21294,2.21234,2.21164,2.21105,2.21047 ,2.20982,2.20911,2.20863,2.20804, 2.20742,2.20727,2.20678,2.20622,2.2056, 2.20508,2.20465,2.20461,2.20509,2.20277 ,2.20232,2.20159,2.20105,2.20045, 2.20017,2.12455)
ORBIT_NUMBER = 5206
ORBITAL_ECCENTRICITY = 0.573
ORBITAL_INCLINATION = 86.72
ORBITAL_SEMIMAJOR_AXIS = 8719.97
PERIAPSIS_ALTITUDE = 326.28
PERIAPSIS_ARGUMENT_ANGLE = 162.46
PERIAPSIS_TIME = 2008-01-21T06:15:20.000Z
SPACECRAFT_ORIENTATION = (0.0,-1.0,0.0)
^MEX_ORIENTATION_DESC = "MEX_ORIENTATION_DESC.TXT"
SPACECRAFT_POINTING_MODE = ACROSSTRACK
^MEX_POINTING_DESC = "MEX_POINTING_DESC.TXT"
RIGHT_ASCENSION = -1e+32
DECLINATION = -1e+32
OFFSET_ANGLE = -0.07
SPACECRAFT_SOLAR_DISTANCE = 2.40224e+08
TARGET_NAME = MARS
/* CAMERA DATA ELEMENTS */
DETECTOR_TEMPERATURE = 16.9432
FOCAL_PLANE_TEMPERATURE = 8.3794
INST_CMPRS_NAME = "DISCRETE COSINE TRANSFORMATION (DCT)"
INST_CMPRS_RATIO = 7.32918
INST_CMPRS_QUALITY = 0
INST_CMPRS_QUANTZ_TBL_ID = 0
INSTRUMENT_TEMPERATURE = 11.0301
LENS_TEMPERATURE = 8.7872
MACROPIXEL_SIZE = 1
MISSING_FRAMES = 0
PIXEL_SUBSAMPLING_FLAG = N
SIGNAL_CHAIN_ID = 0
/* RADIOMETRIC DATA ELEMENTS */
BANDWIDTH = 177.0
CENTER_FILTER_WAVELENGTH = 677.5
RADIANCE_OFFSET = 2.22416
RADIANCE_SCALING_FACTOR = 0.0155483
REFLECTANCE_SCALING_FACTOR = 0.000476652
MEX:REFLECTANCE_OFFSET = 0.0681844
/* IMAGE OBJECT DEFINITIONS */
OBJECT = IMAGE
  INTERCHANGE_FORMAT = BINARY
  LINES = 37888
  LINE_SAMPLES = 6902
  SAMPLE_TYPE = UNSIGNED_INTEGER
  SAMPLE_BITS = 8
  BANDS = 1
  BAND_STORAGE_TYPE = BAND_SEQUENTIAL
  MAXIMUM = 255
  MEAN = 111.367
  MINIMUM = 1
  STANDARD_DEVIATION = 37.3788
END_OBJECT = IMAGE
/* MAP OBJECT DEFINITIONS */
OBJECT = IMAGE_MAP_PROJECTION
  ^DATA_SET_MAP_PROJECTION_CATALOG= "DSMAP.CAT"
  A_AXIS_RADIUS = 3396.0
  B_AXIS_RADIUS = 3396.0
  C_AXIS_RADIUS = 3396.0
  CENTER_LATITUDE = 0.0
  CENTER_LONGITUDE = 2.0
  COORDINATE_SYSTEM_NAME = PLANETOGRAPHIC
  COORDINATE_SYSTEM_TYPE = "BODY-FIXED ROTATING"
  EASTERNMOST_LONGITUDE = 2.23071
  FIRST_STANDARD_PARALLEL = "N/A"
  LINE_FIRST_PIXEL = 1
  LINE_LAST_PIXEL = 37888
  LINE_PROJECTION_OFFSET = 33867.0
  MAP_PROJECTION_ROTATION = 0.0
  MAP_PROJECTION_TYPE = SINUSOIDAL
  MAP_RESOLUTION = 4741.71043093333
  MAP_SCALE = 0.0125
  MAXIMUM_LATITUDE = 7.13954
  MINIMUM_LATITUDE = -0.850429
  POSITIVE_LONGITUDE_DIRECTION = EAST
  REFERENCE_LATITUDE = "N/A"
  REFERENCE_LONGITUDE = "N/A"
  SAMPLE_FIRST_PIXEL = 1
  SAMPLE_LAST_PIXEL = 6902
  SAMPLE_PROJECTION_OFFSET = 5658.0
  SECOND_STANDARD_PARALLEL = "N/A"
  WESTERNMOST_LONGITUDE = 0.843771
END_OBJECT = IMAGE_MAP_PROJECTION
/* The JPEG2000 image data file associated with this label. */
OBJECT = COMPRESSED_FILE
  FILE_NAME = "H5206_0000_ND3.JP2"
  RECORD_TYPE = UNDEFINED
  FILE_RECORDS = UNK
  ENCODING_TYPE = "JP2"
  INTERCHANGE_FORMAT = BINARY
  UNCOMPRESSED_FILE_NAME = "H5206_0000_ND3.IMG"
  REQUIRED_STORAGE_BYTES = "261537486"
  ^DESCRIPTION = "JP2INFO.TXT"
END_OBJECT = COMPRESSED_FILE
END
