PDS_VERSION_ID = PDS3
/* FILE DATA ELEMENTS */
RECORD_TYPE = STREAM
/* POINTERS TO DATA OBJECTS */
^COMPRESSED_FILE = "H5206_0000_P13.JP2"
/* IDENTIFICATION DATA ELEMENTS */
DATA_SET_ID = "MEX-M-HRSC-5-REFDR-MAPPROJECTED-V3.0"
DATA_SET_NAME = "MARS EXPRESS HRSC MAP PROJECTED REFDR V3.0"
DETECTOR_ID = MEX_HRSC_P1
EVENT_TYPE = "MARS-REGIONAL-MAPPING-Im"
INSTRUMENT_HOST_ID = MEX
INSTRUMENT_HOST_NAME = "MARS EXPRESS"
INSTRUMENT_ID = HRSC
INSTRUMENT_NAME = "HIGH RESOLUTION STEREO CAMERA"
MISSION_NAME = "MARS EXPRESS"
MISSION_PHASE_NAME = ME_Phase_11
PROCESSING_LEVEL_ID = 3
PRODUCT_CREATION_TIME = 2016-05-13T12:18:58.000Z
PRODUCT_ID = "H5206_0000_P13.JP2"
RELEASE_ID = 0060
REVISION_ID = 0000
/* QUALITY DATA ELEMENTS */
DATA_QUALITY_ID = 2
DATA_QUALITY_DESC = "Data calculated based on photogrammetrically improved orbit and attitude data"
/* TIME DATA ELEMENTS */
SPACECRAFT_CLOCK_START_COUNT = "1/0148976246.09070"
SPACECRAFT_CLOCK_STOP_COUNT = "1/0148976437.31781"
START_TIME = 2008-01-21T06:17:40.087Z
STOP_TIME = 2008-01-21T06:19:42.879Z
/* ORBITAL DATA ELEMENTS */
ASCENDING_NODE_LONGITUDE = 119.83
MAXIMUM_RESOLUTION = 56.6
FOOTPRINT_POINT_LATITUDE = (7.07416,7.07489,7.07522,7.07522, 7.07501,6.90771,6.67073,6.43371,6.27541 ,6.11732,5.88048,5.72298,5.56471, 5.40675,5.16983,5.01201,4.85449,4.69604 ,4.53728,4.30182,4.14372,3.98611, 3.82645,3.6634,3.50202,3.33913,3.09498, 2.93229,2.6881,2.52416,2.28049,2.11765, 1.9552,1.79257,1.63011,1.46773,1.30492, 1.14286,0.980436,0.818136,0.655845, 0.493772,0.331454,0.169715,-0.0734856, -0.235697,-0.397675,-0.559868,-0.802617 ,-0.964681,-0.9709,-0.971657,-0.971988, -0.97269,-0.973875,-0.974983,-0.812966, -0.651195,-0.489385,-0.327391,-0.165137 ,0.0781357,0.240165,0.40243,0.564614, 0.726777,0.88921,1.13319,1.29642, 1.54013,1.70266,1.86563,2.02834,2.19096 ,2.43465,2.59733,2.76036,2.92332, 3.08599,3.24904,3.4122,3.65665,3.89933, 4.21442,4.37239,4.53064,4.68873,4.92589 ,5.08341,5.31831,5.47982,5.63738, 5.79515,5.95339,6.1905,6.42769,6.58575, 6.74403,6.98144,7.07416)
FOOTPRINT_POINT_LONGITUDE = (1.98789,1.73055,1.50657,1.26002, 1.09147,0.98167,0.97937,0.976959, 0.975154,0.973414,0.97089,0.969365, 0.967391,0.965544,0.962698,0.960818, 0.959055,0.956755,0.954258,0.951826, 0.949563,0.947509,0.944552,0.942245, 0.940756,0.93843,0.93495,0.932604, 0.928919,0.925797,0.922189,0.919515, 0.916995,0.914329,0.911697,0.909054, 0.906133,0.903551,0.900726,0.897911, 0.895046,0.89224,0.88925,0.886507, 0.881979,0.878849,0.875784,0.87255, 0.867872,0.864561,1.19147,1.39285, 1.56903,1.73254,1.92107,2.21421,2.21332 ,2.21257,2.21185,2.21109,2.21026, 2.20914,2.2085,2.20779,2.20716,2.20657, 2.20591,2.20485,2.20394,2.20312,2.20259 ,2.20191,2.20137,2.20089,2.20034, 2.19992,2.19939,2.19891,2.19859,2.19813 ,2.19767,2.19713,2.19653,2.19615, 2.19581,2.19539,2.19505,2.19458,2.19453 ,2.19507,2.19344,2.19345,2.1934,2.19317 ,2.19296,2.19277,2.19269,2.19254, 2.19234,1.98789)
ORBIT_NUMBER = 5206
ORBITAL_ECCENTRICITY = 0.573
ORBITAL_INCLINATION = 86.72
ORBITAL_SEMIMAJOR_AXIS = 8719.97
PERIAPSIS_ALTITUDE = 326.28
PERIAPSIS_ARGUMENT_ANGLE = 162.46
PERIAPSIS_TIME = 2008-01-21T06:15:20.000Z
SPACECRAFT_ORIENTATION = (0.0,-1.0,0.0)
^MEX_ORIENTATION_DESC = "MEX_ORIENTATION_DESC.TXT"
SPACECRAFT_POINTING_MODE = ACROSSTRACK
^MEX_POINTING_DESC = "MEX_POINTING_DESC.TXT"
RIGHT_ASCENSION = -1e+32
DECLINATION = -1e+32
OFFSET_ANGLE = -0.07
SPACECRAFT_SOLAR_DISTANCE = 2.40224e+08
TARGET_NAME = MARS
/* CAMERA DATA ELEMENTS */
DETECTOR_TEMPERATURE = 16.7393
FOCAL_PLANE_TEMPERATURE = 8.3794
INST_CMPRS_NAME = "DISCRETE COSINE TRANSFORMATION (DCT)"
INST_CMPRS_RATIO = 10.5937
INST_CMPRS_QUALITY = 0
INST_CMPRS_QUANTZ_TBL_ID = 0
INSTRUMENT_TEMPERATURE = 11.0301
LENS_TEMPERATURE = 8.7872
MACROPIXEL_SIZE = 4
MISSING_FRAMES = 0
PIXEL_SUBSAMPLING_FLAG = N
SIGNAL_CHAIN_ID = 3
/* RADIOMETRIC DATA ELEMENTS */
BANDWIDTH = 174.0
CENTER_FILTER_WAVELENGTH = 675.0
RADIANCE_OFFSET = 2.67645
RADIANCE_SCALING_FACTOR = 0.0151787
REFLECTANCE_SCALING_FACTOR = 0.000471146
MEX:REFLECTANCE_OFFSET = 0.0830771
/* IMAGE OBJECT DEFINITIONS */
OBJECT = IMAGE
  INTERCHANGE_FORMAT = BINARY
  LINES = 9472
  LINE_SAMPLES = 1726
  SAMPLE_TYPE = UNSIGNED_INTEGER
  SAMPLE_BITS = 8
  BANDS = 1
  BAND_STORAGE_TYPE = BAND_SEQUENTIAL
  MAXIMUM = 255
  MEAN = 114.727
  MINIMUM = 1
  STANDARD_DEVIATION = 38.6941
END_OBJECT = IMAGE
/* MAP OBJECT DEFINITIONS */
OBJECT = IMAGE_MAP_PROJECTION
  ^DATA_SET_MAP_PROJECTION_CATALOG= "DSMAP.CAT"
  A_AXIS_RADIUS = 3396.0
  B_AXIS_RADIUS = 3396.0
  C_AXIS_RADIUS = 3396.0
  CENTER_LATITUDE = 0.0
  CENTER_LONGITUDE = 2.0
  COORDINATE_SYSTEM_NAME = PLANETOGRAPHIC
  COORDINATE_SYSTEM_TYPE = "BODY-FIXED ROTATING"
  EASTERNMOST_LONGITUDE = 2.21421
  FIRST_STANDARD_PARALLEL = "N/A"
  LINE_FIRST_PIXEL = 1
  LINE_LAST_PIXEL = 9472
  LINE_PROJECTION_OFFSET = 8466.375
  MAP_PROJECTION_ROTATION = 0.0
  MAP_PROJECTION_TYPE = SINUSOIDAL
  MAP_RESOLUTION = 1185.42760773333
  MAP_SCALE = 0.05
  MAXIMUM_LATITUDE = 7.07522
  MINIMUM_LATITUDE = -0.974983
  POSITIVE_LONGITUDE_DIRECTION = EAST
  REFERENCE_LATITUDE = "N/A"
  REFERENCE_LONGITUDE = "N/A"
  SAMPLE_FIRST_PIXEL = 1
  SAMPLE_LAST_PIXEL = 1726
  SAMPLE_PROJECTION_OFFSET = 1414.125
  SECOND_STANDARD_PARALLEL = "N/A"
  WESTERNMOST_LONGITUDE = 0.864561
END_OBJECT = IMAGE_MAP_PROJECTION
/* The JPEG2000 image data file associated with this label. */
OBJECT = COMPRESSED_FILE
  FILE_NAME = "H5206_0000_P13.JP2"
  RECORD_TYPE = UNDEFINED
  FILE_RECORDS = UNK
  ENCODING_TYPE = "JP2"
  INTERCHANGE_FORMAT = BINARY
  UNCOMPRESSED_FILE_NAME = "H5206_0000_P13.IMG"
  REQUIRED_STORAGE_BYTES = "16369384"
  ^DESCRIPTION = "JP2INFO.TXT"
END_OBJECT = COMPRESSED_FILE
END
