PDS_VERSION_ID = PDS3
/* FILE DATA ELEMENTS */
RECORD_TYPE = STREAM
/* POINTERS TO DATA OBJECTS */
^COMPRESSED_FILE = "H5207_0000_P13.JP2"
/* IDENTIFICATION DATA ELEMENTS */
DATA_SET_ID = "MEX-M-HRSC-5-REFDR-MAPPROJECTED-V3.0"
DATA_SET_NAME = "MARS EXPRESS HRSC MAP PROJECTED REFDR V3.0"
DETECTOR_ID = MEX_HRSC_P1
EVENT_TYPE = "MARS-REGIONAL-MAPPING-Vo"
INSTRUMENT_HOST_ID = MEX
INSTRUMENT_HOST_NAME = "MARS EXPRESS"
INSTRUMENT_ID = HRSC
INSTRUMENT_NAME = "HIGH RESOLUTION STEREO CAMERA"
MISSION_NAME = "MARS EXPRESS"
MISSION_PHASE_NAME = ME_Phase_11
PROCESSING_LEVEL_ID = 3
PRODUCT_CREATION_TIME = 2016-05-13T12:18:58.000Z
PRODUCT_ID = "H5207_0000_P13.JP2"
RELEASE_ID = 0060
REVISION_ID = 0000
/* QUALITY DATA ELEMENTS */
DATA_QUALITY_ID = 2
DATA_QUALITY_DESC = "Data calculated based on photogrammetrically improved orbit and attitude data"
/* TIME DATA ELEMENTS */
SPACECRAFT_CLOCK_START_COUNT = "1/0149000723.08366"
SPACECRAFT_CLOCK_STOP_COUNT = "1/0149000981.24575"
START_TIME = 2008-01-21T13:05:37.318Z
STOP_TIME = 2008-01-21T13:08:51.949Z
/* ORBITAL DATA ELEMENTS */
ASCENDING_NODE_LONGITUDE = 119.8
MAXIMUM_RESOLUTION = 26.4
FOOTPRINT_POINT_LATITUDE = (17.5742,17.5748,17.5745,17.452,17.1935 ,16.9348,16.6758,16.4168,16.0283, 15.6523,15.4015,15.1506,14.7739,14.5228 ,14.2713,14.0199,13.7684,13.5167, 13.2651,13.0133,12.6352,12.257,12.0049, 11.7527,11.5004,11.2481,10.996,10.7439, 10.4917,10.2395,9.9873,9.60913,9.35696, 9.1048,8.8527,8.60051,8.34825,8.09604, 7.83582,7.57499,7.18394,6.92317,6.6626, 6.40198,6.14159,5.88135,5.62055,5.22969 ,4.83908,4.81104,4.80879,4.80672, 4.80367,5.06417,5.32468,5.58529,5.84601 ,6.10676,6.3675,6.75865,7.14989,7.4107, 7.67161,7.93259,8.18941,8.44165,8.694, 8.94641,9.19872,9.57722,9.82946,10.0817 ,10.3341,10.5864,10.8387,11.0909, 11.3432,11.5954,11.9736,12.2258,12.4779 ,12.73,13.108,13.36,13.6118,13.8634, 14.1149,14.3667,14.6184,14.8699,15.1213 ,15.4983,15.7493,16.0003,16.2583, 16.5178,16.777,17.1659,17.4249,17.5742)
FOOTPRINT_POINT_LONGITUDE = (261.914,261.603,261.246,261.062, 261.064,261.065,261.066,261.067,261.068 ,261.069,261.07,261.07,261.071,261.071, 261.071,261.071,261.071,261.07,261.07, 261.069,261.068,261.067,261.066,261.065 ,261.064,261.063,261.062,261.06,261.059 ,261.057,261.056,261.053,261.052,261.05 ,261.048,261.046,261.044,261.042, 261.039,261.037,261.033,261.03,261.028, 261.025,261.022,261.019,261.016,261.011 ,261.006,261.358,261.652,261.876, 262.222,262.222,262.222,262.221,262.221 ,262.221,262.221,262.221,262.221, 262.221,262.221,262.221,262.221,262.221 ,262.221,262.221,262.222,262.222, 262.222,262.223,262.223,262.223,262.224 ,262.224,262.225,262.225,262.226, 262.226,262.227,262.228,262.228,262.229 ,262.23,262.231,262.231,262.232,262.233 ,262.234,262.234,262.236,262.237, 262.238,262.239,262.24,262.241,262.242, 262.244,261.914)
ORBIT_NUMBER = 5207
ORBITAL_ECCENTRICITY = 0.574
ORBITAL_INCLINATION = 86.73
ORBITAL_SEMIMAJOR_AXIS = 8732.65
PERIAPSIS_ALTITUDE = 325.72
PERIAPSIS_ARGUMENT_ANGLE = 162.3
PERIAPSIS_TIME = 2008-01-21T13:05:54.000Z
SPACECRAFT_ORIENTATION = (0.0,-1.0,0.0)
^MEX_ORIENTATION_DESC = "MEX_ORIENTATION_DESC.TXT"
SPACECRAFT_POINTING_MODE = ACROSSTRACK
^MEX_POINTING_DESC = "MEX_POINTING_DESC.TXT"
RIGHT_ASCENSION = -1e+32
DECLINATION = -1e+32
OFFSET_ANGLE = 0.05
SPACECRAFT_SOLAR_DISTANCE = 2.40267e+08
TARGET_NAME = MARS
/* CAMERA DATA ELEMENTS */
DETECTOR_TEMPERATURE = 17.1471
FOCAL_PLANE_TEMPERATURE = 8.1755
INST_CMPRS_NAME = "DISCRETE COSINE TRANSFORMATION (DCT)"
INST_CMPRS_RATIO = 7.57124
INST_CMPRS_QUALITY = 0
INST_CMPRS_QUANTZ_TBL_ID = 0
INSTRUMENT_TEMPERATURE = 11.234
LENS_TEMPERATURE = 8.5833
MACROPIXEL_SIZE = 2
MISSING_FRAMES = 0
PIXEL_SUBSAMPLING_FLAG = N
SIGNAL_CHAIN_ID = 3
/* RADIOMETRIC DATA ELEMENTS */
BANDWIDTH = 174.0
CENTER_FILTER_WAVELENGTH = 675.0
RADIANCE_OFFSET = 3.45787
RADIANCE_SCALING_FACTOR = 0.0190174
REFLECTANCE_SCALING_FACTOR = 0.000590509
MEX:REFLECTANCE_OFFSET = 0.10737
/* IMAGE OBJECT DEFINITIONS */
OBJECT = IMAGE
  INTERCHANGE_FORMAT = BINARY
  LINES = 30080
  LINE_SAMPLES = 3156
  SAMPLE_TYPE = UNSIGNED_INTEGER
  SAMPLE_BITS = 8
  BANDS = 1
  BAND_STORAGE_TYPE = BAND_SEQUENTIAL
  MAXIMUM = 255
  MEAN = 150.132
  MINIMUM = 1
  STANDARD_DEVIATION = 21.2426
END_OBJECT = IMAGE
/* MAP OBJECT DEFINITIONS */
OBJECT = IMAGE_MAP_PROJECTION
  ^DATA_SET_MAP_PROJECTION_CATALOG= "DSMAP.CAT"
  A_AXIS_RADIUS = 3396.0
  B_AXIS_RADIUS = 3396.0
  C_AXIS_RADIUS = 3396.0
  CENTER_LATITUDE = 0.0
  CENTER_LONGITUDE = 262.0
  COORDINATE_SYSTEM_NAME = PLANETOGRAPHIC
  COORDINATE_SYSTEM_TYPE = "BODY-FIXED ROTATING"
  EASTERNMOST_LONGITUDE = 262.244
  FIRST_STANDARD_PARALLEL = "N/A"
  LINE_FIRST_PIXEL = 1
  LINE_LAST_PIXEL = 30080
  LINE_PROJECTION_OFFSET = 41644.75
  MAP_PROJECTION_ROTATION = 0.0
  MAP_PROJECTION_TYPE = SINUSOIDAL
  MAP_RESOLUTION = 2370.85521546667
  MAP_SCALE = 0.025
  MAXIMUM_LATITUDE = 17.5748
  MINIMUM_LATITUDE = 4.80367
  POSITIVE_LONGITUDE_DIRECTION = EAST
  REFERENCE_LATITUDE = "N/A"
  REFERENCE_LONGITUDE = "N/A"
  SAMPLE_FIRST_PIXEL = 1
  SAMPLE_LAST_PIXEL = 3156
  SAMPLE_PROJECTION_OFFSET = 2483.75
  SECOND_STANDARD_PARALLEL = "N/A"
  WESTERNMOST_LONGITUDE = 261.006
END_OBJECT = IMAGE_MAP_PROJECTION
/* The JPEG2000 image data file associated with this label. */
OBJECT = COMPRESSED_FILE
  FILE_NAME = "H5207_0000_P13.JP2"
  RECORD_TYPE = UNDEFINED
  FILE_RECORDS = UNK
  ENCODING_TYPE = "JP2"
  INTERCHANGE_FORMAT = BINARY
  UNCOMPRESSED_FILE_NAME = "H5207_0000_P13.IMG"
  REQUIRED_STORAGE_BYTES = "94954572"
  ^DESCRIPTION = "JP2INFO.TXT"
END_OBJECT = COMPRESSED_FILE
END
