PDS_VERSION_ID = PDS3
/* FILE DATA ELEMENTS */
RECORD_TYPE = STREAM
/* POINTERS TO DATA OBJECTS */
^COMPRESSED_FILE = "H5208_0000_S13.JP2"
/* IDENTIFICATION DATA ELEMENTS */
DATA_SET_ID = "MEX-M-HRSC-5-REFDR-MAPPROJECTED-V3.0"
DATA_SET_NAME = "MARS EXPRESS HRSC MAP PROJECTED REFDR V3.0"
DETECTOR_ID = MEX_HRSC_S1
EVENT_TYPE = "MARS-REGIONAL-MAPPING-Vo-Te-Eo"
INSTRUMENT_HOST_ID = MEX
INSTRUMENT_HOST_NAME = "MARS EXPRESS"
INSTRUMENT_ID = HRSC
INSTRUMENT_NAME = "HIGH RESOLUTION STEREO CAMERA"
MISSION_NAME = "MARS EXPRESS"
MISSION_PHASE_NAME = ME_Phase_11
PROCESSING_LEVEL_ID = 3
PRODUCT_CREATION_TIME = 2016-05-13T12:18:58.000Z
PRODUCT_ID = "H5208_0000_S13.JP2"
RELEASE_ID = 0060
REVISION_ID = 0000
/* QUALITY DATA ELEMENTS */
DATA_QUALITY_ID = 2
DATA_QUALITY_DESC = "Data calculated based on photogrammetrically improved orbit and attitude data"
/* TIME DATA ELEMENTS */
SPACECRAFT_CLOCK_START_COUNT = "1/0149025285.07303"
SPACECRAFT_CLOCK_STOP_COUNT = "1/0149025541.16306"
START_TIME = 2008-01-21T19:54:48.939Z
STOP_TIME = 2008-01-21T19:58:04.160Z
/* ORBITAL DATA ELEMENTS */
ASCENDING_NODE_LONGITUDE = 119.77
MAXIMUM_RESOLUTION = 27.9
FOOTPRINT_POINT_LATITUDE = (22.175,22.1747,22.1735,22.1722,22.1368 ,21.7465,21.4863,21.2258,20.9648, 20.7037,20.3113,20.0494,19.7875,19.5251 ,19.2653,18.8835,18.629,18.2472,17.9872 ,17.6085,17.3527,17.0968,16.8406, 16.4559,16.0707,15.8139,15.5571,15.1717 ,14.9152,14.6661,14.2925,13.9187, 13.6693,13.4198,13.1705,12.9206,12.6705 ,12.4206,12.1718,11.9223,11.6758, 11.4257,11.1749,10.9226,10.6692,10.4146 ,10.1694,9.92004,9.6635,9.41403,9.3972, 9.39654,9.39512,9.39378,9.64487,9.89587 ,10.1468,10.3989,10.6501,10.9013, 11.2786,11.6563,11.9083,12.1593,12.5359 ,12.7833,13.0365,13.2804,13.5297,13.78, 14.1533,14.4026,14.6516,14.9013,15.1571 ,15.4138,15.7998,16.0565,16.3132, 16.5702,16.9549,17.3387,17.5951,17.8509 ,18.1063,18.3614,18.6164,18.9986,19.253 ,19.5103,19.7751,20.1693,20.4311, 20.6927,20.9546,21.2157,21.4764,21.7371 ,22.1275,22.175)
FOOTPRINT_POINT_LONGITUDE = (161.888,161.705,161.424,161.229, 160.885,160.891,160.894,160.897,160.9, 160.904,160.908,160.91,160.913,160.915, 160.918,160.921,160.923,160.926,160.926 ,160.929,160.931,160.932,160.933, 160.934,160.935,160.936,160.937,160.937 ,160.938,160.938,160.938,160.938, 160.938,160.937,160.937,160.936,160.936 ,160.935,160.935,160.934,160.934, 160.933,160.932,160.931,160.928,160.926 ,160.926,160.925,160.922,160.92,161.28, 161.628,161.884,162.121,162.121,162.121 ,162.122,162.122,162.122,162.123, 162.123,162.123,162.123,162.124,162.124 ,162.126,162.125,162.128,162.129, 162.129,162.131,162.131,162.132,162.133 ,162.134,162.135,162.136,162.138, 162.139,162.139,162.141,162.143,162.144 ,162.145,162.146,162.147,162.148,162.15 ,162.152,162.154,162.154,162.156, 162.158,162.159,162.161,162.162,162.164 ,162.165,162.168,161.888)
ORBIT_NUMBER = 5208
ORBITAL_ECCENTRICITY = 0.573
ORBITAL_INCLINATION = 86.74
ORBITAL_SEMIMAJOR_AXIS = 8716.74
PERIAPSIS_ALTITUDE = 326.66
PERIAPSIS_ARGUMENT_ANGLE = 162.14
PERIAPSIS_TIME = 2008-01-21T19:56:25.000Z
SPACECRAFT_ORIENTATION = (0.0,-1.0,0.0)
^MEX_ORIENTATION_DESC = "MEX_ORIENTATION_DESC.TXT"
SPACECRAFT_POINTING_MODE = NADIR
^MEX_POINTING_DESC = "MEX_POINTING_DESC.TXT"
RIGHT_ASCENSION = -1e+32
DECLINATION = -1e+32
OFFSET_ANGLE = -1e+32
SPACECRAFT_SOLAR_DISTANCE = 2.4031e+08
TARGET_NAME = MARS
/* CAMERA DATA ELEMENTS */
DETECTOR_TEMPERATURE = 17.1471
FOCAL_PLANE_TEMPERATURE = 7.9716
INST_CMPRS_NAME = "DISCRETE COSINE TRANSFORMATION (DCT)"
INST_CMPRS_RATIO = 9.13837
INST_CMPRS_QUALITY = 0
INST_CMPRS_QUANTZ_TBL_ID = 0
INSTRUMENT_TEMPERATURE = 11.234
LENS_TEMPERATURE = 8.3794
MACROPIXEL_SIZE = 2
MISSING_FRAMES = 0
PIXEL_SUBSAMPLING_FLAG = N
SIGNAL_CHAIN_ID = 1
/* RADIOMETRIC DATA ELEMENTS */
BANDWIDTH = 180.0
CENTER_FILTER_WAVELENGTH = 677.0
RADIANCE_OFFSET = 3.13546
RADIANCE_SCALING_FACTOR = 0.0211908
REFLECTANCE_SCALING_FACTOR = 0.000638461
MEX:REFLECTANCE_OFFSET = 0.0944686
/* IMAGE OBJECT DEFINITIONS */
OBJECT = IMAGE
  INTERCHANGE_FORMAT = BINARY
  LINES = 29873
  LINE_SAMPLES = 3047
  SAMPLE_TYPE = UNSIGNED_INTEGER
  SAMPLE_BITS = 8
  BANDS = 1
  BAND_STORAGE_TYPE = BAND_SEQUENTIAL
  MAXIMUM = 255
  MEAN = 135.489
  MINIMUM = 1
  STANDARD_DEVIATION = 24.7064
END_OBJECT = IMAGE
/* MAP OBJECT DEFINITIONS */
OBJECT = IMAGE_MAP_PROJECTION
  ^DATA_SET_MAP_PROJECTION_CATALOG= "DSMAP.CAT"
  A_AXIS_RADIUS = 3396.0
  B_AXIS_RADIUS = 3396.0
  C_AXIS_RADIUS = 3396.0
  CENTER_LATITUDE = 0.0
  CENTER_LONGITUDE = 162.0
  COORDINATE_SYSTEM_NAME = PLANETOGRAPHIC
  COORDINATE_SYSTEM_TYPE = "BODY-FIXED ROTATING"
  EASTERNMOST_LONGITUDE = 162.168
  FIRST_STANDARD_PARALLEL = "N/A"
  LINE_FIRST_PIXEL = 1
  LINE_LAST_PIXEL = 29873
  LINE_PROJECTION_OFFSET = 52343.25
  MAP_PROJECTION_ROTATION = 0.0
  MAP_PROJECTION_TYPE = SINUSOIDAL
  MAP_RESOLUTION = 2370.85521546667
  MAP_SCALE = 0.025
  MAXIMUM_LATITUDE = 22.175
  MINIMUM_LATITUDE = 9.39378
  POSITIVE_LONGITUDE_DIRECTION = EAST
  REFERENCE_LATITUDE = "N/A"
  REFERENCE_LONGITUDE = "N/A"
  SAMPLE_FIRST_PIXEL = 1
  SAMPLE_LAST_PIXEL = 3047
  SAMPLE_PROJECTION_OFFSET = 2628.25
  SECOND_STANDARD_PARALLEL = "N/A"
  WESTERNMOST_LONGITUDE = 160.885
END_OBJECT = IMAGE_MAP_PROJECTION
/* The JPEG2000 image data file associated with this label. */
OBJECT = COMPRESSED_FILE
  FILE_NAME = "H5208_0000_S13.JP2"
  RECORD_TYPE = UNDEFINED
  FILE_RECORDS = UNK
  ENCODING_TYPE = "JP2"
  INTERCHANGE_FORMAT = BINARY
  UNCOMPRESSED_FILE_NAME = "H5208_0000_S13.IMG"
  REQUIRED_STORAGE_BYTES = "91047407"
  ^DESCRIPTION = "JP2INFO.TXT"
END_OBJECT = COMPRESSED_FILE
END
