PDS_VERSION_ID = PDS3
/* FILE DATA ELEMENTS */
RECORD_TYPE = STREAM
/* POINTERS TO DATA OBJECTS */
^COMPRESSED_FILE = "H5209_0000_GR3.JP2"
/* IDENTIFICATION DATA ELEMENTS */
DATA_SET_ID = "MEX-M-HRSC-5-REFDR-MAPPROJECTED-V3.0"
DATA_SET_NAME = "MARS EXPRESS HRSC MAP PROJECTED REFDR V3.0"
DETECTOR_ID = MEX_HRSC_GREEN
EVENT_TYPE = "MARS-REGIONAL-MAPPING-Vo-Im-Eo"
INSTRUMENT_HOST_ID = MEX
INSTRUMENT_HOST_NAME = "MARS EXPRESS"
INSTRUMENT_ID = HRSC
INSTRUMENT_NAME = "HIGH RESOLUTION STEREO CAMERA"
MISSION_NAME = "MARS EXPRESS"
MISSION_PHASE_NAME = ME_Phase_11
PROCESSING_LEVEL_ID = 3
PRODUCT_CREATION_TIME = 2016-05-13T12:18:58.000Z
PRODUCT_ID = "H5209_0000_GR3.JP2"
RELEASE_ID = 0060
REVISION_ID = 0000
/* QUALITY DATA ELEMENTS */
DATA_QUALITY_ID = 2
DATA_QUALITY_DESC = "Data calculated based on photogrammetrically improved orbit and attitude data"
/* TIME DATA ELEMENTS */
SPACECRAFT_CLOCK_START_COUNT = "1/0149050029.07281"
SPACECRAFT_CLOCK_STOP_COUNT = "1/0149050341.04398"
START_TIME = 2008-01-22T02:47:37.022Z
STOP_TIME = 2008-01-22T02:51:37.750Z
/* ORBITAL DATA ELEMENTS */
ASCENDING_NODE_LONGITUDE = 119.76
MAXIMUM_RESOLUTION = 104.3
FOOTPRINT_POINT_LATITUDE = (14.7269,14.7288,14.5859,14.3012, 14.0161,13.7312,13.2975,13.0029,12.7086 ,12.4139,12.1195,11.8251,11.5307, 11.2366,10.9424,10.6484,10.3545,10.0607 ,9.767,9.47337,9.02806,8.57383,8.27102, 7.96835,7.6658,7.3635,7.06132,6.60761, 6.30559,6.0051,5.70297,5.25205,4.95114, 4.65055,4.35011,4.04999,3.75019,3.30071 ,3.00137,2.70226,2.17528,1.81938, 1.28643,0.752844,0.222227,-0.131573, -0.484954,-0.837809,-0.855343,-0.85877, -0.861782,-0.862536,-0.5093,-0.155955, 0.375121,0.729238,1.08443,1.43958, 1.79534,2.15157,2.68048,2.97962,3.27908 ,3.57872,3.87869,4.17887,4.47929, 4.77988,5.0807,5.3818,5.68308,5.98458, 6.28625,6.58812,6.89025,7.19239,7.4948, 7.79745,8.10024,8.40314,8.70611,9.00931 ,9.30815,9.60174,9.89551,10.1894, 10.4834,10.9247,11.3662,11.6605,12.1024 ,12.3969,12.6916,12.9863,13.4283, 13.7153,13.9993,14.285,14.7129,14.7269)
FOOTPRINT_POINT_LONGITUDE = (61.7941,61.4451,61.2225,61.222,61.2211 ,61.2201,61.2184,61.2171,61.216,61.2143 ,61.2127,61.211,61.2091,61.2072,61.2051 ,61.2029,61.2007,61.1983,61.1959, 61.1932,61.1889,61.1847,61.1816,61.1783 ,61.175,61.1716,61.168,61.1617,61.1576, 61.1547,61.1499,61.1443,61.1399,61.1355 ,61.131,61.1264,61.1218,61.1145,61.1096 ,61.1044,61.0954,61.0892,61.0797, 61.0684,61.0589,61.0518,61.0445,61.0371 ,61.5426,61.8616,62.1435,62.3965, 62.3938,62.3921,62.3891,62.3884,62.3862 ,62.3852,62.3838,62.3823,62.3806, 62.3797,62.3787,62.3781,62.3772,62.3765 ,62.3758,62.3753,62.3749,62.3744,62.374 ,62.3736,62.3734,62.3731,62.3728,62.373 ,62.373,62.3728,62.3728,62.3729,62.3734 ,62.3736,62.3737,62.3743,62.3748, 62.3753,62.3759,62.3766,62.3774,62.3782 ,62.3792,62.38,62.3809,62.3818,62.3839, 62.3837,62.3878,62.3872,62.3883, 61.7941)
ORBIT_NUMBER = 5209
ORBITAL_ECCENTRICITY = 0.574
ORBITAL_INCLINATION = 86.74
ORBITAL_SEMIMAJOR_AXIS = 8725.08
PERIAPSIS_ALTITUDE = 325.82
PERIAPSIS_ARGUMENT_ANGLE = 161.97
PERIAPSIS_TIME = 2008-01-22T02:46:51.000Z
SPACECRAFT_ORIENTATION = (0.0,-1.0,0.0)
^MEX_ORIENTATION_DESC = "MEX_ORIENTATION_DESC.TXT"
SPACECRAFT_POINTING_MODE = ACROSSTRACK
^MEX_POINTING_DESC = "MEX_POINTING_DESC.TXT"
RIGHT_ASCENSION = -1e+32
DECLINATION = -1e+32
OFFSET_ANGLE = 0.29
SPACECRAFT_SOLAR_DISTANCE = 2.40353e+08
TARGET_NAME = MARS
/* CAMERA DATA ELEMENTS */
DETECTOR_TEMPERATURE = 18.1666
FOCAL_PLANE_TEMPERATURE = 8.1755
INST_CMPRS_NAME = "DISCRETE COSINE TRANSFORMATION (DCT)"
INST_CMPRS_RATIO = 14.0802
INST_CMPRS_QUALITY = 0
INST_CMPRS_QUANTZ_TBL_ID = 0
INSTRUMENT_TEMPERATURE = 11.234
LENS_TEMPERATURE = 8.7872
MACROPIXEL_SIZE = 8
MISSING_FRAMES = 0
PIXEL_SUBSAMPLING_FLAG = N
SIGNAL_CHAIN_ID = 2
/* RADIOMETRIC DATA ELEMENTS */
BANDWIDTH = 88.0
CENTER_FILTER_WAVELENGTH = 538.0
RADIANCE_OFFSET = 0.932117
RADIANCE_SCALING_FACTOR = 0.00469975
REFLECTANCE_SCALING_FACTOR = 0.000233756
MEX:REFLECTANCE_OFFSET = 0.0463616
/* IMAGE OBJECT DEFINITIONS */
OBJECT = IMAGE
  INTERCHANGE_FORMAT = BINARY
  LINES = 9241
  LINE_SAMPLES = 871
  SAMPLE_TYPE = UNSIGNED_INTEGER
  SAMPLE_BITS = 8
  BANDS = 1
  BAND_STORAGE_TYPE = BAND_SEQUENTIAL
  MAXIMUM = 255
  MEAN = 141.273
  MINIMUM = 1
  STANDARD_DEVIATION = 24.7629
END_OBJECT = IMAGE
/* MAP OBJECT DEFINITIONS */
OBJECT = IMAGE_MAP_PROJECTION
  ^DATA_SET_MAP_PROJECTION_CATALOG= "DSMAP.CAT"
  A_AXIS_RADIUS = 3396.0
  B_AXIS_RADIUS = 3396.0
  C_AXIS_RADIUS = 3396.0
  CENTER_LATITUDE = 0.0
  CENTER_LONGITUDE = 62.0
  COORDINATE_SYSTEM_NAME = PLANETOGRAPHIC
  COORDINATE_SYSTEM_TYPE = "BODY-FIXED ROTATING"
  EASTERNMOST_LONGITUDE = 62.3965
  FIRST_STANDARD_PARALLEL = "N/A"
  LINE_FIRST_PIXEL = 1
  LINE_LAST_PIXEL = 9241
  LINE_PROJECTION_OFFSET = 8730.3125
  MAP_PROJECTION_ROTATION = 0.0
  MAP_PROJECTION_TYPE = SINUSOIDAL
  MAP_RESOLUTION = 592.713803866667
  MAP_SCALE = 0.1
  MAXIMUM_LATITUDE = 14.7288
  MINIMUM_LATITUDE = -0.862536
  POSITIVE_LONGITUDE_DIRECTION = EAST
  REFERENCE_LATITUDE = "N/A"
  REFERENCE_LONGITUDE = "N/A"
  SAMPLE_FIRST_PIXEL = 1
  SAMPLE_LAST_PIXEL = 871
  SAMPLE_PROJECTION_OFFSET = 594.0625
  SECOND_STANDARD_PARALLEL = "N/A"
  WESTERNMOST_LONGITUDE = 61.0371
END_OBJECT = IMAGE_MAP_PROJECTION
/* The JPEG2000 image data file associated with this label. */
OBJECT = COMPRESSED_FILE
  FILE_NAME = "H5209_0000_GR3.JP2"
  RECORD_TYPE = UNDEFINED
  FILE_RECORDS = UNK
  ENCODING_TYPE = "JP2"
  INTERCHANGE_FORMAT = BINARY
  UNCOMPRESSED_FILE_NAME = "H5209_0000_GR3.IMG"
  REQUIRED_STORAGE_BYTES = "8067202"
  ^DESCRIPTION = "JP2INFO.TXT"
END_OBJECT = COMPRESSED_FILE
END
