PDS_VERSION_ID = PDS3
/* FILE DATA ELEMENTS */
RECORD_TYPE = STREAM
/* POINTERS TO DATA OBJECTS */
^COMPRESSED_FILE = "H5210_0001_S23.JP2"
/* IDENTIFICATION DATA ELEMENTS */
DATA_SET_ID = "MEX-M-HRSC-5-REFDR-MAPPROJECTED-V3.0"
DATA_SET_NAME = "MARS EXPRESS HRSC MAP PROJECTED REFDR V3.0"
DETECTOR_ID = MEX_HRSC_S2
EVENT_TYPE = "MARS-REGIONAL-MAPPING-Fl-Pf"
INSTRUMENT_HOST_ID = MEX
INSTRUMENT_HOST_NAME = "MARS EXPRESS"
INSTRUMENT_ID = HRSC
INSTRUMENT_NAME = "HIGH RESOLUTION STEREO CAMERA"
MISSION_NAME = "MARS EXPRESS"
MISSION_PHASE_NAME = ME_Phase_11
PROCESSING_LEVEL_ID = 3
PRODUCT_CREATION_TIME = 2016-05-13T12:18:58.000Z
PRODUCT_ID = "H5210_0001_S23.JP2"
RELEASE_ID = 0060
REVISION_ID = 0000
/* QUALITY DATA ELEMENTS */
DATA_QUALITY_ID = 1
DATA_QUALITY_DESC = "Data calculated based on original SPICE kernels"
/* TIME DATA ELEMENTS */
SPACECRAFT_CLOCK_START_COUNT = "1/0149075484.08238"
SPACECRAFT_CLOCK_STOP_COUNT = "1/0149076659.42996"
START_TIME = 2008-01-22T09:56:08.868Z
STOP_TIME = 2008-01-22T10:11:01.666Z
/* ORBITAL DATA ELEMENTS */
ASCENDING_NODE_LONGITUDE = 119.74
MAXIMUM_RESOLUTION = 109.4
FOOTPRINT_POINT_LATITUDE = (-37.3342,-37.3551,-37.3652,-37.3644, -37.353,-37.544,-38.3487,-38.8856, -39.7075,-40.2568,-40.7951,-41.3264, -41.8535,-42.3679,-42.8731,-43.364, -43.8569,-44.5695,-45.2655,-45.7288, -46.186,-46.632,-47.0713,-47.5031, -47.9285,-48.3458,-48.7557,-49.1591, -49.5551,-49.9443,-50.3274,-50.7037, -51.0741,-51.4382,-51.7974,-52.1496, -52.495,-53.1681,-53.8176,-54.4456, -55.205,-55.7865,-56.3789,-56.9222, -57.4302,-57.4976,-57.5279,-57.5843, -57.5893,-57.5986,-57.597,-57.5962, -57.5802,-57.5189,-57.4567,-57.412, -57.38,-57.298,-57.1584,-57.0938, -56.9872,-56.8228,-56.4531,-55.9724, -55.5648,-55.051,-54.3707,-53.6381, -53.0502,-52.0868,-51.4223,-50.7331, -50.3793,-49.8631,-49.2924,-48.7143, -48.1171,-47.7215,-47.303,-46.8893, -46.459,-46.024,-45.5837,-45.1547, -44.6863,-44.2238,-43.7466,-43.2749, -42.7879,-42.2867,-41.7903,-41.2606, -40.7425,-40.2033,-39.6609,-38.8457, -38.3069,-37.7742,-37.2465,-37.3342)
FOOTPRINT_POINT_LONGITUDE = (322.625,321.751,320.877,320.003, 319.128,318.175,318.056,317.97,317.839, 317.748,317.655,317.561,317.466,317.369 ,317.269,317.166,317.064,316.904,316.74 ,316.632,316.522,316.409,316.294, 316.177,316.059,315.938,315.815,315.69, 315.562,315.432,315.301,315.167,315.031 ,314.892,314.752,314.609,314.464, 314.165,313.857,313.54,313.13,312.79, 312.452,312.092,311.713,312.753,313.457 ,314.346,315.568,316.618,317.842, 319.415,320.11,320.972,322.008,322.698, 323.56,324.587,325.778,326.457,327.303, 328.646,329.41,329.145,328.951,328.686, 328.357,328.034,327.773,327.394,327.144 ,326.897,326.775,326.587,326.412, 326.237,326.066,325.95,325.84,325.729, 325.621,325.514,325.407,325.297,325.197 ,325.095,324.997,324.896,324.798, 324.704,324.608,324.521,324.429,324.343 ,324.257,324.133,324.055,323.98,323.907 ,322.625)
ORBIT_NUMBER = 5210
ORBITAL_ECCENTRICITY = 0.573
ORBITAL_INCLINATION = 86.74
ORBITAL_SEMIMAJOR_AXIS = 8715.7
PERIAPSIS_ALTITUDE = 326.53
PERIAPSIS_ARGUMENT_ANGLE = 161.78
PERIAPSIS_TIME = 2008-01-22T09:37:19.000Z
SPACECRAFT_ORIENTATION = (0.0,-1.0,0.0)
^MEX_ORIENTATION_DESC = "MEX_ORIENTATION_DESC.TXT"
SPACECRAFT_POINTING_MODE = NADIR
^MEX_POINTING_DESC = "MEX_POINTING_DESC.TXT"
RIGHT_ASCENSION = -1e+32
DECLINATION = -1e+32
OFFSET_ANGLE = -1e+32
SPACECRAFT_SOLAR_DISTANCE = 2.40396e+08
TARGET_NAME = MARS
/* CAMERA DATA ELEMENTS */
DETECTOR_TEMPERATURE = 21.8368
FOCAL_PLANE_TEMPERATURE = 8.1755
INST_CMPRS_NAME = "DISCRETE COSINE TRANSFORMATION (DCT)"
INST_CMPRS_RATIO = 13.0996
INST_CMPRS_QUALITY = 0
INST_CMPRS_QUANTZ_TBL_ID = 0
INSTRUMENT_TEMPERATURE = 14.2925
LENS_TEMPERATURE = 8.9911
MACROPIXEL_SIZE = 2
MISSING_FRAMES = 0
PIXEL_SUBSAMPLING_FLAG = N
SIGNAL_CHAIN_ID = 1
/* RADIOMETRIC DATA ELEMENTS */
BANDWIDTH = 178.0
CENTER_FILTER_WAVELENGTH = 679.0
RADIANCE_OFFSET = 0.441208
RADIANCE_SCALING_FACTOR = 0.0145988
REFLECTANCE_SCALING_FACTOR = 0.000446792
MEX:REFLECTANCE_OFFSET = 0.013503
/* IMAGE OBJECT DEFINITIONS */
OBJECT = IMAGE
  INTERCHANGE_FORMAT = BINARY
  LINES = 12032
  LINE_SAMPLES = 3668
  SAMPLE_TYPE = UNSIGNED_INTEGER
  SAMPLE_BITS = 8
  BANDS = 1
  BAND_STORAGE_TYPE = BAND_SEQUENTIAL
  MAXIMUM = 255
  MEAN = 128.386
  MINIMUM = 1
  STANDARD_DEVIATION = 43.0651
END_OBJECT = IMAGE
/* MAP OBJECT DEFINITIONS */
OBJECT = IMAGE_MAP_PROJECTION
  ^DATA_SET_MAP_PROJECTION_CATALOG= "DSMAP.CAT"
  A_AXIS_RADIUS = 3396.0
  B_AXIS_RADIUS = 3396.0
  C_AXIS_RADIUS = 3396.0
  CENTER_LATITUDE = 0.0
  CENTER_LONGITUDE = 321.0
  COORDINATE_SYSTEM_NAME = PLANETOGRAPHIC
  COORDINATE_SYSTEM_TYPE = "BODY-FIXED ROTATING"
  EASTERNMOST_LONGITUDE = 329.41
  FIRST_STANDARD_PARALLEL = "N/A"
  LINE_FIRST_PIXEL = 1
  LINE_LAST_PIXEL = 12032
  LINE_PROJECTION_OFFSET = -22114.25
  MAP_PROJECTION_ROTATION = 0.0
  MAP_PROJECTION_TYPE = SINUSOIDAL
  MAP_RESOLUTION = 592.713803866667
  MAP_SCALE = 0.1
  MAXIMUM_LATITUDE = -37.2465
  MINIMUM_LATITUDE = -57.5986
  POSITIVE_LONGITUDE_DIRECTION = EAST
  REFERENCE_LATITUDE = "N/A"
  REFERENCE_LONGITUDE = "N/A"
  SAMPLE_FIRST_PIXEL = 1
  SAMPLE_LAST_PIXEL = 3668
  SAMPLE_PROJECTION_OFFSET = 1620.25
  SECOND_STANDARD_PARALLEL = "N/A"
  WESTERNMOST_LONGITUDE = 311.713
END_OBJECT = IMAGE_MAP_PROJECTION
/* The JPEG2000 image data file associated with this label. */
OBJECT = COMPRESSED_FILE
  FILE_NAME = "H5210_0001_S23.JP2"
  RECORD_TYPE = UNDEFINED
  FILE_RECORDS = UNK
  ENCODING_TYPE = "JP2"
  INTERCHANGE_FORMAT = BINARY
  UNCOMPRESSED_FILE_NAME = "H5210_0001_S23.IMG"
  REQUIRED_STORAGE_BYTES = "44155384"
  ^DESCRIPTION = "JP2INFO.TXT"
END_OBJECT = COMPRESSED_FILE
END
