PDS_VERSION_ID = PDS3
/* FILE DATA ELEMENTS */
RECORD_TYPE = STREAM
/* POINTERS TO DATA OBJECTS */
^COMPRESSED_FILE = "H5211_0001_GR3.JP2"
/* IDENTIFICATION DATA ELEMENTS */
DATA_SET_ID = "MEX-M-HRSC-5-REFDR-MAPPROJECTED-V3.0"
DATA_SET_NAME = "MARS EXPRESS HRSC MAP PROJECTED REFDR V3.0"
DETECTOR_ID = MEX_HRSC_GREEN
EVENT_TYPE = "MARS-REGIONAL-MAPPING-Vo-Eo"
INSTRUMENT_HOST_ID = MEX
INSTRUMENT_HOST_NAME = "MARS EXPRESS"
INSTRUMENT_ID = HRSC
INSTRUMENT_NAME = "HIGH RESOLUTION STEREO CAMERA"
MISSION_NAME = "MARS EXPRESS"
MISSION_PHASE_NAME = ME_Phase_11
PROCESSING_LEVEL_ID = 3
PRODUCT_CREATION_TIME = 2016-05-13T12:18:58.000Z
PRODUCT_ID = "H5211_0001_GR3.JP2"
RELEASE_ID = 0060
REVISION_ID = 0000
/* QUALITY DATA ELEMENTS */
DATA_QUALITY_ID = 1
DATA_QUALITY_DESC = "Data calculated based on original SPICE kernels"
/* TIME DATA ELEMENTS */
SPACECRAFT_CLOCK_START_COUNT = "1/0149099493.07318"
SPACECRAFT_CLOCK_STOP_COUNT = "1/0149099689.45002"
START_TIME = 2008-01-22T16:32:05.278Z
STOP_TIME = 2008-01-22T16:33:58.206Z
/* ORBITAL DATA ELEMENTS */
ASCENDING_NODE_LONGITUDE = 119.72
MAXIMUM_RESOLUTION = 123.3
FOOTPRINT_POINT_LATITUDE = (1.1188,1.12314,1.12671,1.13019,1.13359 ,1.1369,1.14012,0.933387,0.796681, 0.591644,0.386742,0.250161,0.113736, -0.0910264,-0.227544,-0.363942, -0.500246,-0.636435,-0.908558,-1.11248, -1.31598,-1.58736,-1.85862,-2.06176, -2.20075,-2.33982,-2.47852,-2.61722, -2.75596,-2.89452,-3.03287,-3.17131, -3.31196,-3.45395,-3.59592,-3.73758, -3.87915,-4.02066,-4.16211,-4.30343, -4.44781,-4.66483,-4.80948,-4.95391, -5.17041,-5.315,-5.46157,-5.60929, -5.75693,-5.9045,-5.96895,-5.97142, -5.97495,-5.97849,-5.98198,-5.98547, -5.98771,-5.7653,-5.61769,-5.46997, -5.32359,-5.17922,-5.03476,-4.89021, -4.74555,-4.60082,-4.45597,-4.31191, -4.17052,-4.02908,-3.8875,-3.74585, -3.53312,-3.39124,-3.24931,-3.11082, -2.90293,-2.76434,-2.62564,-2.48692, -2.3481,-2.20916,-2.07058,-1.79965, -1.52846,-1.25697,-1.05307,-0.781074, -0.644966,-0.508824,-0.372572,-0.236228 ,-0.0998392,0.0365419,0.173044,0.377972 ,0.583037,0.719821,0.856375,1.1188)
FOOTPRINT_POINT_LONGITUDE = (222.992,222.743,222.535,222.329, 222.126,221.925,221.726,221.63,221.627, 221.623,221.619,221.616,221.613,221.609 ,221.607,221.604,221.601,221.598, 221.593,221.589,221.584,221.578,221.572 ,221.568,221.565,221.562,221.559, 221.556,221.553,221.55,221.546,221.543, 221.54,221.537,221.533,221.53,221.527, 221.523,221.52,221.517,221.513,221.508, 221.504,221.501,221.495,221.492,221.488 ,221.485,221.481,221.477,221.718, 221.877,222.11,222.345,222.582,222.822, 222.973,223.042,223.04,223.039,223.037, 223.035,223.034,223.032,223.031,223.029 ,223.028,223.026,223.025,223.024, 223.023,223.021,223.019,223.018,223.017 ,223.016,223.014,223.013,223.012, 223.011,223.01,223.009,223.008,223.007, 223.005,223.004,223.002,223.001,223.0, 223.0,222.999,222.999,222.998,222.998, 222.997,222.996,222.996,222.995,222.996 ,222.992)
ORBIT_NUMBER = 5211
ORBITAL_ECCENTRICITY = 0.574
ORBITAL_INCLINATION = 86.74
ORBITAL_SEMIMAJOR_AXIS = 8727.07
PERIAPSIS_ALTITUDE = 326.21
PERIAPSIS_ARGUMENT_ANGLE = 161.59
PERIAPSIS_TIME = 2008-01-22T16:27:44.000Z
SPACECRAFT_ORIENTATION = (0.0,-1.0,0.0)
^MEX_ORIENTATION_DESC = "MEX_ORIENTATION_DESC.TXT"
SPACECRAFT_POINTING_MODE = ACROSSTRACK
^MEX_POINTING_DESC = "MEX_POINTING_DESC.TXT"
RIGHT_ASCENSION = -1e+32
DECLINATION = -1e+32
OFFSET_ANGLE = 0.94
SPACECRAFT_SOLAR_DISTANCE = 2.40438e+08
TARGET_NAME = MARS
/* CAMERA DATA ELEMENTS */
DETECTOR_TEMPERATURE = 19.1861
FOCAL_PLANE_TEMPERATURE = 8.7872
INST_CMPRS_NAME = "DISCRETE COSINE TRANSFORMATION (DCT)"
INST_CMPRS_RATIO = 18.9908
INST_CMPRS_QUALITY = 0
INST_CMPRS_QUANTZ_TBL_ID = 0
INSTRUMENT_TEMPERATURE = 12.6613
LENS_TEMPERATURE = 8.7872
MACROPIXEL_SIZE = 8
MISSING_FRAMES = 0
PIXEL_SUBSAMPLING_FLAG = N
SIGNAL_CHAIN_ID = 2
/* RADIOMETRIC DATA ELEMENTS */
BANDWIDTH = 88.0
CENTER_FILTER_WAVELENGTH = 538.0
RADIANCE_OFFSET = 1.05174
RADIANCE_SCALING_FACTOR = 0.00526529
REFLECTANCE_SCALING_FACTOR = 0.000262073
MEX:REFLECTANCE_OFFSET = 0.0523491
/* IMAGE OBJECT DEFINITIONS */
OBJECT = IMAGE
  INTERCHANGE_FORMAT = BINARY
  LINES = 4215
  LINE_SAMPLES = 1002
  SAMPLE_TYPE = UNSIGNED_INTEGER
  SAMPLE_BITS = 8
  BANDS = 1
  BAND_STORAGE_TYPE = BAND_SEQUENTIAL
  MAXIMUM = 255
  MEAN = 145.436
  MINIMUM = 1
  STANDARD_DEVIATION = 13.4062
END_OBJECT = IMAGE
/* MAP OBJECT DEFINITIONS */
OBJECT = IMAGE_MAP_PROJECTION
  ^DATA_SET_MAP_PROJECTION_CATALOG= "DSMAP.CAT"
  A_AXIS_RADIUS = 3396.0
  B_AXIS_RADIUS = 3396.0
  C_AXIS_RADIUS = 3396.0
  CENTER_LATITUDE = 0.0
  CENTER_LONGITUDE = 222.0
  COORDINATE_SYSTEM_NAME = PLANETOGRAPHIC
  COORDINATE_SYSTEM_TYPE = "BODY-FIXED ROTATING"
  EASTERNMOST_LONGITUDE = 223.042
  FIRST_STANDARD_PARALLEL = "N/A"
  LINE_FIRST_PIXEL = 1
  LINE_LAST_PIXEL = 4215
  LINE_PROJECTION_OFFSET = 678.0625
  MAP_PROJECTION_ROTATION = 0.0
  MAP_PROJECTION_TYPE = SINUSOIDAL
  MAP_RESOLUTION = 592.713803866667
  MAP_SCALE = 0.1
  MAXIMUM_LATITUDE = 1.14012
  MINIMUM_LATITUDE = -5.98771
  POSITIVE_LONGITUDE_DIRECTION = EAST
  REFERENCE_LATITUDE = "N/A"
  REFERENCE_LONGITUDE = "N/A"
  SAMPLE_FIRST_PIXEL = 1
  SAMPLE_LAST_PIXEL = 1002
  SAMPLE_PROJECTION_OFFSET = 323.6875
  SECOND_STANDARD_PARALLEL = "N/A"
  WESTERNMOST_LONGITUDE = 221.477
END_OBJECT = IMAGE_MAP_PROJECTION
/* The JPEG2000 image data file associated with this label. */
OBJECT = COMPRESSED_FILE
  FILE_NAME = "H5211_0001_GR3.JP2"
  RECORD_TYPE = UNDEFINED
  FILE_RECORDS = UNK
  ENCODING_TYPE = "JP2"
  INTERCHANGE_FORMAT = BINARY
  UNCOMPRESSED_FILE_NAME = "H5211_0001_GR3.IMG"
  REQUIRED_STORAGE_BYTES = "4242468"
  ^DESCRIPTION = "JP2INFO.TXT"
END_OBJECT = COMPRESSED_FILE
END
