PDS_VERSION_ID = PDS3
/* FILE DATA ELEMENTS */
RECORD_TYPE = STREAM
/* POINTERS TO DATA OBJECTS */
^COMPRESSED_FILE = "H5211_0001_IR3.JP2"
/* IDENTIFICATION DATA ELEMENTS */
DATA_SET_ID = "MEX-M-HRSC-5-REFDR-MAPPROJECTED-V3.0"
DATA_SET_NAME = "MARS EXPRESS HRSC MAP PROJECTED REFDR V3.0"
DETECTOR_ID = MEX_HRSC_IR
EVENT_TYPE = "MARS-REGIONAL-MAPPING-Vo-Eo"
INSTRUMENT_HOST_ID = MEX
INSTRUMENT_HOST_NAME = "MARS EXPRESS"
INSTRUMENT_ID = HRSC
INSTRUMENT_NAME = "HIGH RESOLUTION STEREO CAMERA"
MISSION_NAME = "MARS EXPRESS"
MISSION_PHASE_NAME = ME_Phase_11
PROCESSING_LEVEL_ID = 3
PRODUCT_CREATION_TIME = 2016-05-13T12:18:58.000Z
PRODUCT_ID = "H5211_0001_IR3.JP2"
RELEASE_ID = 0060
REVISION_ID = 0000
/* QUALITY DATA ELEMENTS */
DATA_QUALITY_ID = 1
DATA_QUALITY_DESC = "Data calculated based on original SPICE kernels"
/* TIME DATA ELEMENTS */
SPACECRAFT_CLOCK_START_COUNT = "1/0149099493.07318"
SPACECRAFT_CLOCK_STOP_COUNT = "1/0149099689.45002"
START_TIME = 2008-01-22T16:31:42.544Z
STOP_TIME = 2008-01-22T16:33:31.754Z
/* ORBITAL DATA ELEMENTS */
ASCENDING_NODE_LONGITUDE = 119.72
MAXIMUM_RESOLUTION = 125.6
FOOTPRINT_POINT_LATITUDE = (1.09958,1.11114,1.12242,1.13333, 1.14388,1.15413,1.15738,1.01664, 0.806042,0.596178,0.455722,0.244868, 0.104347,-0.0364186,-0.177294,-0.318546 ,-0.459419,-0.600133,-0.740583, -0.881139,-1.09177,-1.37151,-1.51156, -1.65212,-1.79259,-1.93309,-2.07307, -2.21341,-2.3541,-2.63334,-2.77327, -2.98222,-3.12197,-3.26191,-3.40191, -3.6118,-3.82618,-3.96925,-4.11216, -4.25512,-4.39828,-4.54082,-4.68365, -4.82661,-4.97296,-5.11906,-5.26612, -5.48582,-5.63247,-5.85238,-5.96787, -5.97821,-5.98886,-6.00192,-6.01685, -6.02663,-5.88024,-5.73373,-5.58736, -5.4409,-5.29418,-5.1473,-5.00054, -4.85474,-4.71164,-4.49684,-4.35361, -4.13877,-3.99577,-3.85254,-3.70904, -3.56885,-3.42906,-3.14968,-3.00943, -2.8693,-2.72945,-2.5199,-2.31003, -2.16995,-2.02985,-1.88988,-1.74958, -1.6099,-1.46944,-1.32923,-1.11852, -0.977906,-0.767249,-0.626832,-0.486615 ,-0.346048,-0.135285,0.0754503,0.21593, 0.356834,0.497785,0.777658,0.918125, 1.09958)
FOOTPRINT_POINT_LONGITUDE = (222.841,222.636,222.434,222.233, 222.035,221.838,221.651,221.648,221.644 ,221.64,221.638,221.634,221.631,221.628 ,221.626,221.623,221.62,221.618,221.615 ,221.612,221.608,221.603,221.6,221.597, 221.594,221.591,221.588,221.586,221.583 ,221.577,221.574,221.569,221.566, 221.563,221.56,221.556,221.551,221.548, 221.545,221.542,221.538,221.535,221.532 ,221.529,221.525,221.522,221.518, 221.513,221.51,221.505,221.765,221.99, 222.217,222.49,222.795,223.026,223.024, 223.023,223.021,223.02,223.019,223.017, 223.016,223.015,223.013,223.012,223.01, 223.009,223.008,223.007,223.006,223.005 ,223.004,223.002,223.001,223.0,222.999, 222.998,222.997,222.996,222.995,222.995 ,222.994,222.994,222.993,222.993, 222.992,222.991,222.99,222.989,222.989, 222.989,222.988,222.988,222.987,222.987 ,222.986,222.987,222.987,222.841)
ORBIT_NUMBER = 5211
ORBITAL_ECCENTRICITY = 0.574
ORBITAL_INCLINATION = 86.74
ORBITAL_SEMIMAJOR_AXIS = 8727.07
PERIAPSIS_ALTITUDE = 326.21
PERIAPSIS_ARGUMENT_ANGLE = 161.59
PERIAPSIS_TIME = 2008-01-22T16:27:44.000Z
SPACECRAFT_ORIENTATION = (0.0,-1.0,0.0)
^MEX_ORIENTATION_DESC = "MEX_ORIENTATION_DESC.TXT"
SPACECRAFT_POINTING_MODE = ACROSSTRACK
^MEX_POINTING_DESC = "MEX_POINTING_DESC.TXT"
RIGHT_ASCENSION = -1e+32
DECLINATION = -1e+32
OFFSET_ANGLE = 0.94
SPACECRAFT_SOLAR_DISTANCE = 2.40438e+08
TARGET_NAME = MARS
/* CAMERA DATA ELEMENTS */
DETECTOR_TEMPERATURE = 18.5744
FOCAL_PLANE_TEMPERATURE = 8.7872
INST_CMPRS_NAME = "DISCRETE COSINE TRANSFORMATION (DCT)"
INST_CMPRS_RATIO = 16.5346
INST_CMPRS_QUALITY = 0
INST_CMPRS_QUANTZ_TBL_ID = 0
INSTRUMENT_TEMPERATURE = 12.6613
LENS_TEMPERATURE = 8.7872
MACROPIXEL_SIZE = 8
MISSING_FRAMES = 0
PIXEL_SUBSAMPLING_FLAG = N
SIGNAL_CHAIN_ID = 2
/* RADIOMETRIC DATA ELEMENTS */
BANDWIDTH = 81.0
CENTER_FILTER_WAVELENGTH = 955.5
RADIANCE_OFFSET = 0.937273
RADIANCE_SCALING_FACTOR = 0.00527366
REFLECTANCE_SCALING_FACTOR = 0.000657733
MEX:REFLECTANCE_OFFSET = 0.116897
/* IMAGE OBJECT DEFINITIONS */
OBJECT = IMAGE
  INTERCHANGE_FORMAT = BINARY
  LINES = 4215
  LINE_SAMPLES = 1002
  SAMPLE_TYPE = UNSIGNED_INTEGER
  SAMPLE_BITS = 8
  BANDS = 1
  BAND_STORAGE_TYPE = BAND_SEQUENTIAL
  MAXIMUM = 255
  MEAN = 132.35
  MINIMUM = 1
  STANDARD_DEVIATION = 12.8339
END_OBJECT = IMAGE
/* MAP OBJECT DEFINITIONS */
OBJECT = IMAGE_MAP_PROJECTION
  ^DATA_SET_MAP_PROJECTION_CATALOG= "DSMAP.CAT"
  A_AXIS_RADIUS = 3396.0
  B_AXIS_RADIUS = 3396.0
  C_AXIS_RADIUS = 3396.0
  CENTER_LATITUDE = 0.0
  CENTER_LONGITUDE = 222.0
  COORDINATE_SYSTEM_NAME = PLANETOGRAPHIC
  COORDINATE_SYSTEM_TYPE = "BODY-FIXED ROTATING"
  EASTERNMOST_LONGITUDE = 223.026
  FIRST_STANDARD_PARALLEL = "N/A"
  LINE_FIRST_PIXEL = 1
  LINE_LAST_PIXEL = 4215
  LINE_PROJECTION_OFFSET = 678.0625
  MAP_PROJECTION_ROTATION = 0.0
  MAP_PROJECTION_TYPE = SINUSOIDAL
  MAP_RESOLUTION = 592.713803866667
  MAP_SCALE = 0.1
  MAXIMUM_LATITUDE = 1.15738
  MINIMUM_LATITUDE = -6.02663
  POSITIVE_LONGITUDE_DIRECTION = EAST
  REFERENCE_LATITUDE = "N/A"
  REFERENCE_LONGITUDE = "N/A"
  SAMPLE_FIRST_PIXEL = 1
  SAMPLE_LAST_PIXEL = 1002
  SAMPLE_PROJECTION_OFFSET = 323.6875
  SECOND_STANDARD_PARALLEL = "N/A"
  WESTERNMOST_LONGITUDE = 221.505
END_OBJECT = IMAGE_MAP_PROJECTION
/* The JPEG2000 image data file associated with this label. */
OBJECT = COMPRESSED_FILE
  FILE_NAME = "H5211_0001_IR3.JP2"
  RECORD_TYPE = UNDEFINED
  FILE_RECORDS = UNK
  ENCODING_TYPE = "JP2"
  INTERCHANGE_FORMAT = BINARY
  UNCOMPRESSED_FILE_NAME = "H5211_0001_IR3.IMG"
  REQUIRED_STORAGE_BYTES = "4242468"
  ^DESCRIPTION = "JP2INFO.TXT"
END_OBJECT = COMPRESSED_FILE
END
