PDS_VERSION_ID = PDS3
/* FILE DATA ELEMENTS */
RECORD_TYPE = STREAM
/* POINTERS TO DATA OBJECTS */
^COMPRESSED_FILE = "H5211_0001_ND3.JP2"
/* IDENTIFICATION DATA ELEMENTS */
DATA_SET_ID = "MEX-M-HRSC-5-REFDR-MAPPROJECTED-V3.0"
DATA_SET_NAME = "MARS EXPRESS HRSC MAP PROJECTED REFDR V3.0"
DETECTOR_ID = MEX_HRSC_NADIR
EVENT_TYPE = "MARS-REGIONAL-MAPPING-Vo-Eo"
INSTRUMENT_HOST_ID = MEX
INSTRUMENT_HOST_NAME = "MARS EXPRESS"
INSTRUMENT_ID = HRSC
INSTRUMENT_NAME = "HIGH RESOLUTION STEREO CAMERA"
MISSION_NAME = "MARS EXPRESS"
MISSION_PHASE_NAME = ME_Phase_11
PROCESSING_LEVEL_ID = 3
PRODUCT_CREATION_TIME = 2016-05-13T12:18:58.000Z
PRODUCT_ID = "H5211_0001_ND3.JP2"
RELEASE_ID = 0060
REVISION_ID = 0000
/* QUALITY DATA ELEMENTS */
DATA_QUALITY_ID = 1
DATA_QUALITY_DESC = "Data calculated based on original SPICE kernels"
/* TIME DATA ELEMENTS */
SPACECRAFT_CLOCK_START_COUNT = "1/0149099493.07318"
SPACECRAFT_CLOCK_STOP_COUNT = "1/0149099689.45002"
START_TIME = 2008-01-22T16:32:11.164Z
STOP_TIME = 2008-01-22T16:34:05.162Z
/* ORBITAL DATA ELEMENTS */
ASCENDING_NODE_LONGITUDE = 119.72
MAXIMUM_RESOLUTION = 15.5
FOOTPRINT_POINT_LATITUDE = (1.13606,1.13807,1.13953,1.14094, 1.14229,1.14364,1.14471,1.00586, 0.867087,0.72838,0.58976,0.451212, 0.312746,0.174357,0.0360468,-0.102173, -0.240315,-0.516362,-0.792091,-1.0675, -1.34258,-1.61732,-1.82743,-1.96824, -2.10897,-2.24959,-2.39013,-2.53058, -2.67093,-2.88309,-3.0269,-3.1706, -3.3142,-3.4577,-3.60109,-3.7444, -3.8876,-4.03396,-4.18061,-4.32716, -4.47359,-4.61993,-4.76614,-4.91225, -5.13619,-5.28563,-5.43498,-5.5842, -5.7333,-5.88228,-5.95816,-5.96018, -5.96128,-5.96289,-5.96455,-5.96588, -5.89086,-5.74188,-5.59278,-5.44356, -5.29422,-5.14477,-4.92086,-4.77476, -4.62854,-4.48222,-4.33578,-4.18923, -4.04257,-3.89623,-3.75303,-3.60972, -3.46631,-3.3228,-3.17919,-2.96358, -2.81979,-2.67952,-2.53915,-2.39869, -2.25814,-2.1175,-1.97676,-1.83593, -1.62581,-1.35104,-1.07594,-0.800504, -0.524737,-0.248642,-0.110474,0.0277757 ,0.166105,0.304509,0.442993,0.581556, 0.720195,0.858921,0.997716,1.13606)
FOOTPRINT_POINT_LONGITUDE = (222.997,222.689,222.467,222.248, 222.032,221.818,221.613,221.611,221.608 ,221.605,221.602,221.599,221.596, 221.593,221.59,221.588,221.585,221.579, 221.573,221.567,221.561,221.555,221.55, 221.547,221.544,221.541,221.538,221.534 ,221.531,221.526,221.523,221.519, 221.516,221.513,221.509,221.506,221.502 ,221.499,221.495,221.491,221.488, 221.484,221.48,221.477,221.471,221.467, 221.463,221.459,221.455,221.452,221.572 ,221.867,222.038,222.306,222.608, 222.882,223.051,223.05,223.048,223.046, 223.045,223.043,223.04,223.039,223.037, 223.035,223.034,223.033,223.031,223.03, 223.029,223.027,223.026,223.025,223.023 ,223.021,223.02,223.019,223.018,223.017 ,223.016,223.015,223.014,223.013, 223.012,223.01,223.009,223.007,223.005, 223.004,223.004,223.003,223.003,223.002 ,223.001,223.001,223.0,223.001,223.001, 222.997)
ORBIT_NUMBER = 5211
ORBITAL_ECCENTRICITY = 0.574
ORBITAL_INCLINATION = 86.74
ORBITAL_SEMIMAJOR_AXIS = 8727.07
PERIAPSIS_ALTITUDE = 326.21
PERIAPSIS_ARGUMENT_ANGLE = 161.59
PERIAPSIS_TIME = 2008-01-22T16:27:44.000Z
SPACECRAFT_ORIENTATION = (0.0,-1.0,0.0)
^MEX_ORIENTATION_DESC = "MEX_ORIENTATION_DESC.TXT"
SPACECRAFT_POINTING_MODE = ACROSSTRACK
^MEX_POINTING_DESC = "MEX_POINTING_DESC.TXT"
RIGHT_ASCENSION = -1e+32
DECLINATION = -1e+32
OFFSET_ANGLE = 0.94
SPACECRAFT_SOLAR_DISTANCE = 2.40438e+08
TARGET_NAME = MARS
/* CAMERA DATA ELEMENTS */
DETECTOR_TEMPERATURE = 19.1861
FOCAL_PLANE_TEMPERATURE = 8.7872
INST_CMPRS_NAME = "DISCRETE COSINE TRANSFORMATION (DCT)"
INST_CMPRS_RATIO = 6.22487
INST_CMPRS_QUALITY = 0
INST_CMPRS_QUANTZ_TBL_ID = 0
INSTRUMENT_TEMPERATURE = 12.6613
LENS_TEMPERATURE = 8.7872
MACROPIXEL_SIZE = 1
MISSING_FRAMES = 0
PIXEL_SUBSAMPLING_FLAG = N
SIGNAL_CHAIN_ID = 0
/* RADIOMETRIC DATA ELEMENTS */
BANDWIDTH = 177.0
CENTER_FILTER_WAVELENGTH = 677.5
RADIANCE_OFFSET = 3.06058
RADIANCE_SCALING_FACTOR = 0.0213699
REFLECTANCE_SCALING_FACTOR = 0.00065629
MEX:REFLECTANCE_OFFSET = 0.0939933
/* IMAGE OBJECT DEFINITIONS */
OBJECT = IMAGE
  INTERCHANGE_FORMAT = BINARY
  LINES = 33718
  LINE_SAMPLES = 8009
  SAMPLE_TYPE = UNSIGNED_INTEGER
  SAMPLE_BITS = 8
  BANDS = 1
  BAND_STORAGE_TYPE = BAND_SEQUENTIAL
  MAXIMUM = 255
  MEAN = 124.792
  MINIMUM = 1
  STANDARD_DEVIATION = 12.2393
END_OBJECT = IMAGE
/* MAP OBJECT DEFINITIONS */
OBJECT = IMAGE_MAP_PROJECTION
  ^DATA_SET_MAP_PROJECTION_CATALOG= "DSMAP.CAT"
  A_AXIS_RADIUS = 3396.0
  B_AXIS_RADIUS = 3396.0
  C_AXIS_RADIUS = 3396.0
  CENTER_LATITUDE = 0.0
  CENTER_LONGITUDE = 222.0
  COORDINATE_SYSTEM_NAME = PLANETOGRAPHIC
  COORDINATE_SYSTEM_TYPE = "BODY-FIXED ROTATING"
  EASTERNMOST_LONGITUDE = 223.051
  FIRST_STANDARD_PARALLEL = "N/A"
  LINE_FIRST_PIXEL = 1
  LINE_LAST_PIXEL = 33718
  LINE_PROJECTION_OFFSET = 5428.0
  MAP_PROJECTION_ROTATION = 0.0
  MAP_PROJECTION_TYPE = SINUSOIDAL
  MAP_RESOLUTION = 4741.71043093333
  MAP_SCALE = 0.0125
  MAXIMUM_LATITUDE = 1.14471
  MINIMUM_LATITUDE = -5.96588
  POSITIVE_LONGITUDE_DIRECTION = EAST
  REFERENCE_LATITUDE = "N/A"
  REFERENCE_LONGITUDE = "N/A"
  SAMPLE_FIRST_PIXEL = 1
  SAMPLE_LAST_PIXEL = 8009
  SAMPLE_PROJECTION_OFFSET = 2593.0
  SECOND_STANDARD_PARALLEL = "N/A"
  WESTERNMOST_LONGITUDE = 221.452
END_OBJECT = IMAGE_MAP_PROJECTION
/* The JPEG2000 image data file associated with this label. */
OBJECT = COMPRESSED_FILE
  FILE_NAME = "H5211_0001_ND3.JP2"
  RECORD_TYPE = UNDEFINED
  FILE_RECORDS = UNK
  ENCODING_TYPE = "JP2"
  INTERCHANGE_FORMAT = BINARY
  UNCOMPRESSED_FILE_NAME = "H5211_0001_ND3.IMG"
  REQUIRED_STORAGE_BYTES = "270079498"
  ^DESCRIPTION = "JP2INFO.TXT"
END_OBJECT = COMPRESSED_FILE
END
