PDS_VERSION_ID = PDS3
/* FILE DATA ELEMENTS */
RECORD_TYPE = STREAM
/* POINTERS TO DATA OBJECTS */
^COMPRESSED_FILE = "H5212_0000_BL3.JP2"
/* IDENTIFICATION DATA ELEMENTS */
DATA_SET_ID = "MEX-M-HRSC-5-REFDR-MAPPROJECTED-V3.0"
DATA_SET_NAME = "MARS EXPRESS HRSC MAP PROJECTED REFDR V3.0"
DETECTOR_ID = MEX_HRSC_BLUE
EVENT_TYPE = "MARS-REGIONAL-MAPPING-Te-Fl-Mw"
INSTRUMENT_HOST_ID = MEX
INSTRUMENT_HOST_NAME = "MARS EXPRESS"
INSTRUMENT_ID = HRSC
INSTRUMENT_NAME = "HIGH RESOLUTION STEREO CAMERA"
MISSION_NAME = "MARS EXPRESS"
MISSION_PHASE_NAME = ME_Phase_11
PROCESSING_LEVEL_ID = 3
PRODUCT_CREATION_TIME = 2016-05-13T12:18:58.000Z
PRODUCT_ID = "H5212_0000_BL3.JP2"
RELEASE_ID = 0060
REVISION_ID = 0000
/* QUALITY DATA ELEMENTS */
DATA_QUALITY_ID = 2
DATA_QUALITY_DESC = "Data calculated based on photogrammetrically improved orbit and attitude data"
/* TIME DATA ELEMENTS */
SPACECRAFT_CLOCK_START_COUNT = "1/0149123904.08249"
SPACECRAFT_CLOCK_STOP_COUNT = "1/0149124248.06173"
START_TIME = 2008-01-22T23:19:01.922Z
STOP_TIME = 2008-01-22T23:23:36.313Z
/* ORBITAL DATA ELEMENTS */
ASCENDING_NODE_LONGITUDE = 119.7
MAXIMUM_RESOLUTION = 105.9
FOOTPRINT_POINT_LATITUDE = (16.1624,16.1629,16.1629,16.1625, 16.0059,15.686,15.2064,14.8868,14.5612, 14.231,13.9009,13.5709,13.241,12.9115, 12.4172,12.0881,11.7591,11.4304,11.1019 ,10.7736,10.4456,10.1073,9.59976, 9.26161,8.92404,8.58658,8.24943,7.74442 ,7.40783,7.07216,6.73666,6.23404, 5.89967,5.56508,5.23169,4.89836,4.56495 ,4.06475,3.49271,3.09778,2.50495, 1.91514,1.52194,1.12951,0.737822, 0.346704,-0.0436188,-0.433144,-0.82145, -1.20926,-1.38793,-1.38959,-1.39297, -1.39281,-1.0052,-0.421998,-0.0328154, 0.358175,0.749526,1.14158,1.53406, 1.92899,2.32359,2.71702,3.30985,3.70495 ,4.24207,4.57504,5.07548,5.40917, 5.91067,6.24519,6.7486,7.08436,7.4204, 7.75691,8.09379,8.43086,8.93705,9.27479 ,9.61314,9.95166,10.4591,10.7873, 11.1158,11.4444,11.7734,12.1026,12.4318 ,12.7614,13.0912,13.4212,13.9166, 14.2468,14.5772,14.9025,15.2223,15.5422 ,15.8622,16.1624)
FOOTPRINT_POINT_LONGITUDE = (122.014,121.606,121.287,121.002, 120.836,120.836,120.835,120.835,120.835 ,120.834,120.833,120.832,120.831,120.83 ,120.828,120.826,120.824,120.822,120.82 ,120.818,120.816,120.813,120.809, 120.806,120.803,120.8,120.796,120.791, 120.787,120.783,120.779,120.773,120.768 ,120.764,120.758,120.753,120.749, 120.743,120.733,120.726,120.717,120.705 ,120.699,120.691,120.684,120.677, 120.669,120.661,120.652,120.644,120.995 ,121.313,121.724,122.053,122.05,122.046 ,122.043,122.042,122.04,122.039,122.037 ,122.038,122.038,122.035,122.032, 122.029,122.027,122.026,122.025,122.024 ,122.022,122.021,122.021,122.02,122.019 ,122.019,122.019,122.018,122.018, 122.017,122.017,122.017,122.018,122.018 ,122.018,122.018,122.018,122.019, 122.019,122.019,122.019,122.02,122.021, 122.021,122.022,122.022,122.023,122.024 ,122.024,122.014)
ORBIT_NUMBER = 5212
ORBITAL_ECCENTRICITY = 0.573
ORBITAL_INCLINATION = 86.72
ORBITAL_SEMIMAJOR_AXIS = 8722.97
PERIAPSIS_ALTITUDE = 326.33
PERIAPSIS_ARGUMENT_ANGLE = 161.43
PERIAPSIS_TIME = 2008-01-22T23:18:20.000Z
SPACECRAFT_ORIENTATION = (0.0,-1.0,0.0)
^MEX_ORIENTATION_DESC = "MEX_ORIENTATION_DESC.TXT"
SPACECRAFT_POINTING_MODE = ACROSSTRACK
^MEX_POINTING_DESC = "MEX_POINTING_DESC.TXT"
RIGHT_ASCENSION = -1e+32
DECLINATION = -1e+32
OFFSET_ANGLE = 0.1
SPACECRAFT_SOLAR_DISTANCE = 2.40481e+08
TARGET_NAME = MARS
/* CAMERA DATA ELEMENTS */
DETECTOR_TEMPERATURE = 18.1666
FOCAL_PLANE_TEMPERATURE = 8.3794
INST_CMPRS_NAME = "DISCRETE COSINE TRANSFORMATION (DCT)"
INST_CMPRS_RATIO = 14.0447
INST_CMPRS_QUALITY = 0
INST_CMPRS_QUANTZ_TBL_ID = 0
INSTRUMENT_TEMPERATURE = 11.0301
LENS_TEMPERATURE = 8.7872
MACROPIXEL_SIZE = 8
MISSING_FRAMES = 0
PIXEL_SUBSAMPLING_FLAG = N
SIGNAL_CHAIN_ID = 2
/* RADIOMETRIC DATA ELEMENTS */
BANDWIDTH = 76.0
CENTER_FILTER_WAVELENGTH = 444.0
RADIANCE_OFFSET = 0.495474
RADIANCE_SCALING_FACTOR = 0.00162795
REFLECTANCE_SCALING_FACTOR = 9.67293e-05
MEX:REFLECTANCE_OFFSET = 0.02944
/* IMAGE OBJECT DEFINITIONS */
OBJECT = IMAGE
  INTERCHANGE_FORMAT = BINARY
  LINES = 10414
  LINE_SAMPLES = 886
  SAMPLE_TYPE = UNSIGNED_INTEGER
  SAMPLE_BITS = 8
  BANDS = 1
  BAND_STORAGE_TYPE = BAND_SEQUENTIAL
  MAXIMUM = 255
  MEAN = 143.142
  MINIMUM = 1
  STANDARD_DEVIATION = 17.6797
END_OBJECT = IMAGE
/* MAP OBJECT DEFINITIONS */
OBJECT = IMAGE_MAP_PROJECTION
  ^DATA_SET_MAP_PROJECTION_CATALOG= "DSMAP.CAT"
  A_AXIS_RADIUS = 3396.0
  B_AXIS_RADIUS = 3396.0
  C_AXIS_RADIUS = 3396.0
  CENTER_LATITUDE = 0.0
  CENTER_LONGITUDE = 121.0
  COORDINATE_SYSTEM_NAME = PLANETOGRAPHIC
  COORDINATE_SYSTEM_TYPE = "BODY-FIXED ROTATING"
  EASTERNMOST_LONGITUDE = 122.053
  FIRST_STANDARD_PARALLEL = "N/A"
  LINE_FIRST_PIXEL = 1
  LINE_LAST_PIXEL = 10414
  LINE_PROJECTION_OFFSET = 9589.1875
  MAP_PROJECTION_ROTATION = 0.0
  MAP_PROJECTION_TYPE = SINUSOIDAL
  MAP_RESOLUTION = 592.713803866667
  MAP_SCALE = 0.1
  MAXIMUM_LATITUDE = 16.1629
  MINIMUM_LATITUDE = -1.39297
  POSITIVE_LONGITUDE_DIRECTION = EAST
  REFERENCE_LATITUDE = "N/A"
  REFERENCE_LONGITUDE = "N/A"
  SAMPLE_FIRST_PIXEL = 1
  SAMPLE_LAST_PIXEL = 886
  SAMPLE_PROJECTION_OFFSET = 236.8125
  SECOND_STANDARD_PARALLEL = "N/A"
  WESTERNMOST_LONGITUDE = 120.644
END_OBJECT = IMAGE_MAP_PROJECTION
/* The JPEG2000 image data file associated with this label. */
OBJECT = COMPRESSED_FILE
  FILE_NAME = "H5212_0000_BL3.JP2"
  RECORD_TYPE = UNDEFINED
  FILE_RECORDS = UNK
  ENCODING_TYPE = "JP2"
  INTERCHANGE_FORMAT = BINARY
  UNCOMPRESSED_FILE_NAME = "H5212_0000_BL3.IMG"
  REQUIRED_STORAGE_BYTES = "9244524"
  ^DESCRIPTION = "JP2INFO.TXT"
END_OBJECT = COMPRESSED_FILE
END
