PDS_VERSION_ID = PDS3
/* FILE DATA ELEMENTS */
RECORD_TYPE = STREAM
/* POINTERS TO DATA OBJECTS */
^COMPRESSED_FILE = "H5213_0000_IR3.JP2"
/* IDENTIFICATION DATA ELEMENTS */
DATA_SET_ID = "MEX-M-HRSC-5-REFDR-MAPPROJECTED-V3.0"
DATA_SET_NAME = "MARS EXPRESS HRSC MAP PROJECTED REFDR V3.0"
DETECTOR_ID = MEX_HRSC_IR
EVENT_TYPE = "MARS-REGIONAL-MAPPING-Fl-Gl-Lc"
INSTRUMENT_HOST_ID = MEX
INSTRUMENT_HOST_NAME = "MARS EXPRESS"
INSTRUMENT_ID = HRSC
INSTRUMENT_NAME = "HIGH RESOLUTION STEREO CAMERA"
MISSION_NAME = "MARS EXPRESS"
MISSION_PHASE_NAME = ME_Phase_11
PROCESSING_LEVEL_ID = 3
PRODUCT_CREATION_TIME = 2016-05-13T12:18:58.000Z
PRODUCT_ID = "H5213_0000_IR3.JP2"
RELEASE_ID = 0060
REVISION_ID = 0000
/* QUALITY DATA ELEMENTS */
DATA_QUALITY_ID = 2
DATA_QUALITY_DESC = "Data calculated based on photogrammetrically improved orbit and attitude data"
/* TIME DATA ELEMENTS */
SPACECRAFT_CLOCK_START_COUNT = "1/0149148021.07301"
SPACECRAFT_CLOCK_STOP_COUNT = "1/0149148407.62894"
START_TIME = 2008-01-23T06:00:35.034Z
STOP_TIME = 2008-01-23T06:05:52.306Z
/* ORBITAL DATA ELEMENTS */
ASCENDING_NODE_LONGITUDE = 119.68
MAXIMUM_RESOLUTION = 120.2
FOOTPRINT_POINT_LATITUDE = (47.4511,47.4349,47.4228,47.4103, 47.3825,47.0639,46.6268,46.1964,45.7672 ,45.3454,44.9199,44.5063,44.0876, 43.6767,43.2711,42.6645,42.0683,41.6783 ,41.0968,40.7037,40.3216,39.9375, 39.3651,38.8102,38.4403,38.067,37.6989, 37.3385,36.9766,36.6211,36.2628,35.9041 ,35.5537,35.0285,34.6769,34.3242, 33.9719,33.618,33.2638,32.9081,32.5526, 32.0163,31.6575,31.2973,30.938,30.4164, 29.9586,29.6541,29.3517,29.0514,28.6343 ,28.642,28.6478,28.6557,28.9612,29.4183 ,29.7199,30.025,30.4823,30.8315,31.1924 ,31.5428,31.8982,32.2574,32.6153, 32.9875,33.5188,33.8734,34.2266,34.5793 ,34.9307,35.2815,35.8075,36.1638,36.522 ,36.88,37.4269,37.7919,38.3467,38.72, 39.0878,39.4613,39.8403,40.2252,40.6066 ,40.9965,41.3861,41.9801,42.3751, 42.7786,43.3872,43.7964,44.2164,44.8401 ,45.2611,45.6906,46.1188,46.5497, 46.9873,47.4511)
FOOTPRINT_POINT_LONGITUDE = (21.8778,21.107,20.6699,20.2844,19.5644 ,19.1292,19.1815,19.2325,19.2811, 19.3294,19.3717,19.4176,19.4564,19.4967 ,19.5362,19.5903,19.6434,19.6795, 19.7292,19.7583,19.7876,19.8157,19.8533 ,19.8964,19.9208,19.9436,19.9654, 19.9891,20.0121,20.0337,20.0533,20.0727 ,20.0915,20.119,20.1366,20.1535,20.1707 ,20.187,20.2032,20.2186,20.2341,20.2558 ,20.2696,20.2827,20.2962,20.3148, 20.3288,20.3384,20.3489,20.3603,20.5318 ,20.8795,21.3462,21.7935,21.7951, 21.7976,21.8001,21.8013,21.8029,21.8048 ,21.8066,21.8121,21.8155,21.8172, 21.8191,21.8152,21.8193,21.8215,21.8239 ,21.8262,21.8288,21.8313,21.8346, 21.8369,21.8392,21.8411,21.8443,21.8463 ,21.8493,21.8507,21.8556,21.8602, 21.8619,21.8642,21.868,21.87,21.8732, 21.8767,21.8802,21.8831,21.8873,21.8903 ,21.8906,21.8967,21.9,21.9021,21.9059, 21.9106,21.9146,21.8778)
ORBIT_NUMBER = 5213
ORBITAL_ECCENTRICITY = 0.573
ORBITAL_INCLINATION = 86.72
ORBITAL_SEMIMAJOR_AXIS = 8721.94
PERIAPSIS_ALTITUDE = 326.72
PERIAPSIS_ARGUMENT_ANGLE = 161.25
PERIAPSIS_TIME = 2008-01-23T06:08:51.000Z
SPACECRAFT_ORIENTATION = (0.0,-1.0,0.0)
^MEX_ORIENTATION_DESC = "MEX_ORIENTATION_DESC.TXT"
SPACECRAFT_POINTING_MODE = ACROSSTRACK
^MEX_POINTING_DESC = "MEX_POINTING_DESC.TXT"
RIGHT_ASCENSION = -1e+32
DECLINATION = -1e+32
OFFSET_ANGLE = -0.1
SPACECRAFT_SOLAR_DISTANCE = 2.40523e+08
TARGET_NAME = MARS
/* CAMERA DATA ELEMENTS */
DETECTOR_TEMPERATURE = 17.5549
FOCAL_PLANE_TEMPERATURE = 7.9716
INST_CMPRS_NAME = "DISCRETE COSINE TRANSFORMATION (DCT)"
INST_CMPRS_RATIO = 7.96514
INST_CMPRS_QUALITY = 0
INST_CMPRS_QUANTZ_TBL_ID = 0
INSTRUMENT_TEMPERATURE = 11.0301
LENS_TEMPERATURE = 8.3794
MACROPIXEL_SIZE = 8
MISSING_FRAMES = 0
PIXEL_SUBSAMPLING_FLAG = N
SIGNAL_CHAIN_ID = 2
/* RADIOMETRIC DATA ELEMENTS */
BANDWIDTH = 81.0
CENTER_FILTER_WAVELENGTH = 955.5
RADIANCE_OFFSET = 0.655855
RADIANCE_SCALING_FACTOR = 0.00725962
REFLECTANCE_SCALING_FACTOR = 0.000906047
MEX:REFLECTANCE_OFFSET = 0.0818549
/* IMAGE OBJECT DEFINITIONS */
OBJECT = IMAGE
  INTERCHANGE_FORMAT = BINARY
  LINES = 11095
  LINE_SAMPLES = 1154
  SAMPLE_TYPE = UNSIGNED_INTEGER
  SAMPLE_BITS = 8
  BANDS = 1
  BAND_STORAGE_TYPE = BAND_SEQUENTIAL
  MAXIMUM = 255
  MEAN = 110.213
  MINIMUM = 1
  STANDARD_DEVIATION = 33.2277
END_OBJECT = IMAGE
/* MAP OBJECT DEFINITIONS */
OBJECT = IMAGE_MAP_PROJECTION
  ^DATA_SET_MAP_PROJECTION_CATALOG= "DSMAP.CAT"
  A_AXIS_RADIUS = 3396.0
  B_AXIS_RADIUS = 3396.0
  C_AXIS_RADIUS = 3396.0
  CENTER_LATITUDE = 0.0
  CENTER_LONGITUDE = 21.0
  COORDINATE_SYSTEM_NAME = PLANETOGRAPHIC
  COORDINATE_SYSTEM_TYPE = "BODY-FIXED ROTATING"
  EASTERNMOST_LONGITUDE = 21.9146
  FIRST_STANDARD_PARALLEL = "N/A"
  LINE_FIRST_PIXEL = 1
  LINE_LAST_PIXEL = 11095
  LINE_PROJECTION_OFFSET = 28074.4375
  MAP_PROJECTION_ROTATION = 0.0
  MAP_PROJECTION_TYPE = SINUSOIDAL
  MAP_RESOLUTION = 592.713803866667
  MAP_SCALE = 0.1
  MAXIMUM_LATITUDE = 47.4511
  MINIMUM_LATITUDE = 28.6343
  POSITIVE_LONGITUDE_DIRECTION = EAST
  REFERENCE_LATITUDE = "N/A"
  REFERENCE_LONGITUDE = "N/A"
  SAMPLE_FIRST_PIXEL = 1
  SAMPLE_LAST_PIXEL = 1154
  SAMPLE_PROJECTION_OFFSET = 737.3125
  SECOND_STANDARD_PARALLEL = "N/A"
  WESTERNMOST_LONGITUDE = 19.1292
END_OBJECT = IMAGE_MAP_PROJECTION
/* The JPEG2000 image data file associated with this label. */
OBJECT = COMPRESSED_FILE
  FILE_NAME = "H5213_0000_IR3.JP2"
  RECORD_TYPE = UNDEFINED
  FILE_RECORDS = UNK
  ENCODING_TYPE = "JP2"
  INTERCHANGE_FORMAT = BINARY
  UNCOMPRESSED_FILE_NAME = "H5213_0000_IR3.IMG"
  REQUIRED_STORAGE_BYTES = "12823248"
  ^DESCRIPTION = "JP2INFO.TXT"
END_OBJECT = COMPRESSED_FILE
END
