PDS_VERSION_ID = PDS3
/* FILE DATA ELEMENTS */
RECORD_TYPE = STREAM
/* POINTERS TO DATA OBJECTS */
^COMPRESSED_FILE = "H5216_0000_GR3.JP2"
/* IDENTIFICATION DATA ELEMENTS */
DATA_SET_ID = "MEX-M-HRSC-5-REFDR-MAPPROJECTED-V3.0"
DATA_SET_NAME = "MARS EXPRESS HRSC MAP PROJECTED REFDR V3.0"
DETECTOR_ID = MEX_HRSC_GREEN
EVENT_TYPE = "MARS-REGIONAL-MAPPING-Vo-Im-Eo"
INSTRUMENT_HOST_ID = MEX
INSTRUMENT_HOST_NAME = "MARS EXPRESS"
INSTRUMENT_ID = HRSC
INSTRUMENT_NAME = "HIGH RESOLUTION STEREO CAMERA"
MISSION_NAME = "MARS EXPRESS"
MISSION_PHASE_NAME = ME_Phase_11
PROCESSING_LEVEL_ID = 3
PRODUCT_CREATION_TIME = 2016-05-13T12:18:58.000Z
PRODUCT_ID = "H5216_0000_GR3.JP2"
RELEASE_ID = 0060
REVISION_ID = 0000
/* QUALITY DATA ELEMENTS */
DATA_QUALITY_ID = 2
DATA_QUALITY_DESC = "Data calculated based on photogrammetrically improved orbit and attitude data"
/* TIME DATA ELEMENTS */
SPACECRAFT_CLOCK_START_COUNT = "1/0149222349.07288"
SPACECRAFT_CLOCK_STOP_COUNT = "1/0149222656.15441"
START_TIME = 2008-01-24T02:39:37.414Z
STOP_TIME = 2008-01-24T02:43:39.046Z
/* ORBITAL DATA ELEMENTS */
ASCENDING_NODE_LONGITUDE = 119.62
MAXIMUM_RESOLUTION = 105.4
FOOTPRINT_POINT_LATITUDE = (21.9651,21.9655,21.9647,21.6433, 21.3365,21.0292,20.7218,20.261,19.9534, 19.4923,19.1846,18.877,18.5693,18.108, 17.8002,17.4926,17.185,16.8774,16.5698, 16.1082,15.6469,15.3393,15.0318,14.7243 ,14.408,14.09,13.7721,13.4542,13.1365, 12.8188,12.5013,12.0252,11.7077,11.3906 ,11.0736,10.7567,10.4399,10.1155, 9.78839,9.46156,9.13489,8.80852,8.31913 ,7.99349,7.6677,7.34207,7.01688,6.69194 ,6.36813,6.20002,6.19597,6.19271, 6.51768,6.84276,7.16814,7.49382,7.81975 ,8.14582,8.47206,8.79857,9.12523, 9.45215,9.77926,10.1065,10.4312,10.7482 ,11.0653,11.3826,11.6999,12.0174,12.335 ,12.6528,12.9707,13.2886,13.6066, 13.9247,14.4019,14.7185,15.0262,15.334, 15.6418,15.9495,16.2574,16.5652,17.0269 ,17.3348,17.6426,17.9505,18.2584, 18.5662,18.874,19.3357,19.6435,19.9512, 20.259,20.5665,20.874,21.1823,21.6431, 21.9651)
FOOTPRINT_POINT_LONGITUDE = (81.6921,81.2465,80.8254,80.5652, 80.5682,80.5704,80.5725,80.5759,80.5775 ,80.5801,80.5813,80.5827,80.5838, 80.5855,80.5862,80.5869,80.5876,80.5881 ,80.5884,80.5884,80.5882,80.588,80.5876 ,80.587,80.5862,80.5853,80.5842,80.5831 ,80.5818,80.5802,80.5787,80.576,80.5739 ,80.5719,80.5697,80.5673,80.5648, 80.5621,80.5591,80.5561,80.553,80.5498, 80.5445,80.5414,80.5376,80.5335,80.5297 ,80.5257,80.523,80.7406,81.2583,81.7755 ,81.7748,81.7744,81.774,81.7734,81.7729 ,81.7726,81.7724,81.7721,81.772,81.7718 ,81.7716,81.7715,81.7717,81.7717, 81.7718,81.772,81.7722,81.7725,81.7728, 81.773,81.7733,81.7737,81.7741,81.7745, 81.7756,81.7761,81.7766,81.7772,81.7778 ,81.7786,81.7792,81.7801,81.7814, 81.7822,81.7831,81.7839,81.7847,81.7857 ,81.7866,81.7879,81.7886,81.7894, 81.7899,81.7911,81.7918,81.7908,81.7925 ,81.6921)
ORBIT_NUMBER = 5216
ORBITAL_ECCENTRICITY = 0.574
ORBITAL_INCLINATION = 86.74
ORBITAL_SEMIMAJOR_AXIS = 8723.92
PERIAPSIS_ALTITUDE = 326.27
PERIAPSIS_ARGUMENT_ANGLE = 160.71
PERIAPSIS_TIME = 2008-01-24T02:40:23.000Z
SPACECRAFT_ORIENTATION = (0.0,-1.0,0.0)
^MEX_ORIENTATION_DESC = "MEX_ORIENTATION_DESC.TXT"
SPACECRAFT_POINTING_MODE = ACROSSTRACK
^MEX_POINTING_DESC = "MEX_POINTING_DESC.TXT"
RIGHT_ASCENSION = -1e+32
DECLINATION = -1e+32
OFFSET_ANGLE = 0.1
SPACECRAFT_SOLAR_DISTANCE = 2.4065e+08
TARGET_NAME = MARS
/* CAMERA DATA ELEMENTS */
DETECTOR_TEMPERATURE = 17.9627
FOCAL_PLANE_TEMPERATURE = 8.1755
INST_CMPRS_NAME = "DISCRETE COSINE TRANSFORMATION (DCT)"
INST_CMPRS_RATIO = 16.683
INST_CMPRS_QUALITY = 0
INST_CMPRS_QUANTZ_TBL_ID = 0
INSTRUMENT_TEMPERATURE = 11.234
LENS_TEMPERATURE = 8.7872
MACROPIXEL_SIZE = 8
MISSING_FRAMES = 0
PIXEL_SUBSAMPLING_FLAG = N
SIGNAL_CHAIN_ID = 2
/* RADIOMETRIC DATA ELEMENTS */
BANDWIDTH = 88.0
CENTER_FILTER_WAVELENGTH = 538.0
RADIANCE_OFFSET = 1.12895
RADIANCE_SCALING_FACTOR = 0.00450925
REFLECTANCE_SCALING_FACTOR = 0.000224836
MEX:REFLECTANCE_OFFSET = 0.0562907
/* IMAGE OBJECT DEFINITIONS */
OBJECT = IMAGE
  INTERCHANGE_FORMAT = BINARY
  LINES = 9340
  LINE_SAMPLES = 791
  SAMPLE_TYPE = UNSIGNED_INTEGER
  SAMPLE_BITS = 8
  BANDS = 1
  BAND_STORAGE_TYPE = BAND_SEQUENTIAL
  MAXIMUM = 255
  MEAN = 147.551
  MINIMUM = 1
  STANDARD_DEVIATION = 22.9797
END_OBJECT = IMAGE
/* MAP OBJECT DEFINITIONS */
OBJECT = IMAGE_MAP_PROJECTION
  ^DATA_SET_MAP_PROJECTION_CATALOG= "DSMAP.CAT"
  A_AXIS_RADIUS = 3396.0
  B_AXIS_RADIUS = 3396.0
  C_AXIS_RADIUS = 3396.0
  CENTER_LATITUDE = 0.0
  CENTER_LONGITUDE = 81.0
  COORDINATE_SYSTEM_NAME = PLANETOGRAPHIC
  COORDINATE_SYSTEM_TYPE = "BODY-FIXED ROTATING"
  EASTERNMOST_LONGITUDE = 81.7925
  FIRST_STANDARD_PARALLEL = "N/A"
  LINE_FIRST_PIXEL = 1
  LINE_LAST_PIXEL = 9340
  LINE_PROJECTION_OFFSET = 13023.4375
  MAP_PROJECTION_ROTATION = 0.0
  MAP_PROJECTION_TYPE = SINUSOIDAL
  MAP_RESOLUTION = 592.713803866667
  MAP_SCALE = 0.1
  MAXIMUM_LATITUDE = 21.9655
  MINIMUM_LATITUDE = 6.19271
  POSITIVE_LONGITUDE_DIRECTION = EAST
  REFERENCE_LATITUDE = "N/A"
  REFERENCE_LONGITUDE = "N/A"
  SAMPLE_FIRST_PIXEL = 1
  SAMPLE_LAST_PIXEL = 791
  SAMPLE_PROJECTION_OFFSET = 308.0625
  SECOND_STANDARD_PARALLEL = "N/A"
  WESTERNMOST_LONGITUDE = 80.523
END_OBJECT = IMAGE_MAP_PROJECTION
/* The JPEG2000 image data file associated with this label. */
OBJECT = COMPRESSED_FILE
  FILE_NAME = "H5216_0000_GR3.JP2"
  RECORD_TYPE = UNDEFINED
  FILE_RECORDS = UNK
  ENCODING_TYPE = "JP2"
  INTERCHANGE_FORMAT = BINARY
  UNCOMPRESSED_FILE_NAME = "H5216_0000_GR3.IMG"
  REQUIRED_STORAGE_BYTES = "7405342"
  ^DESCRIPTION = "JP2INFO.TXT"
END_OBJECT = COMPRESSED_FILE
END
