PDS_VERSION_ID = PDS3
/* FILE DATA ELEMENTS */
RECORD_TYPE = STREAM
/* POINTERS TO DATA OBJECTS */
^COMPRESSED_FILE = "H5221_0000_RE3.JP2"
/* IDENTIFICATION DATA ELEMENTS */
DATA_SET_ID = "MEX-M-HRSC-5-REFDR-MAPPROJECTED-V3.0"
DATA_SET_NAME = "MARS EXPRESS HRSC MAP PROJECTED REFDR V3.0"
DETECTOR_ID = MEX_HRSC_RED
EVENT_TYPE = "MARS-REGIONAL-STEREO-Fl"
INSTRUMENT_HOST_ID = MEX
INSTRUMENT_HOST_NAME = "MARS EXPRESS"
INSTRUMENT_ID = HRSC
INSTRUMENT_NAME = "HIGH RESOLUTION STEREO CAMERA"
MISSION_NAME = "MARS EXPRESS"
MISSION_PHASE_NAME = ME_Phase_11
PROCESSING_LEVEL_ID = 3
PRODUCT_CREATION_TIME = 2016-05-13T12:18:58.000Z
PRODUCT_ID = "H5221_0000_RE3.JP2"
RELEASE_ID = 0060
REVISION_ID = 0000
/* QUALITY DATA ELEMENTS */
DATA_QUALITY_ID = 2
DATA_QUALITY_DESC = "Data calculated based on photogrammetrically improved orbit and attitude data"
/* TIME DATA ELEMENTS */
SPACECRAFT_CLOCK_START_COUNT = "1/0149345343.08411"
SPACECRAFT_CLOCK_STOP_COUNT = "1/0149345643.17276"
START_TIME = 2008-01-25T12:50:08.392Z
STOP_TIME = 2008-01-25T12:53:59.792Z
/* ORBITAL DATA ELEMENTS */
ASCENDING_NODE_LONGITUDE = 119.51
MAXIMUM_RESOLUTION = 109.9
FOOTPRINT_POINT_LATITUDE = (32.9893,32.9848,32.98,32.9751,32.9654, 32.6811,32.3663,32.0512,31.7361,31.4307 ,31.1165,30.8022,30.4878,30.1744, 29.8605,29.5493,29.2336,28.9152,28.602, 28.132,27.8279,27.5246,27.2116,26.9054, 26.6027,26.1602,25.8558,25.4043,24.9515 ,24.6487,24.3422,23.8848,23.5812,23.278 ,22.8263,22.5331,22.2411,21.8039, 21.5125,21.0755,20.7842,20.4935,20.2034 ,19.7678,19.4774,19.0422,18.7526, 18.3051,18.0062,17.7979,17.8029,17.8058 ,17.9628,18.2622,18.5617,19.0007, 19.2923,19.7279,20.0183,20.3093,20.6002 ,20.8914,21.182,21.4751,21.9116,22.3496 ,22.6417,23.0793,23.3836,23.6879,23.989 ,24.2938,24.5937,24.8959,25.2166, 25.5208,25.8168,26.1167,26.43,26.7339, 27.1889,27.4864,27.9357,28.2407,28.5634 ,28.8787,29.1935,29.5121,29.8287, 30.1402,30.4541,30.7683,31.0821,31.3855 ,31.701,32.0171,32.3421,32.6479,32.9643 ,32.9893)
FOOTPRINT_POINT_LONGITUDE = (301.454,301.234,301.014,300.796, 300.388,300.261,300.271,300.28,300.289, 300.296,300.305,300.313,300.321,300.328 ,300.336,300.342,300.349,300.357, 300.363,300.373,300.379,300.384,300.391 ,300.397,300.402,300.406,300.411, 300.416,300.422,300.425,300.429,300.435 ,300.438,300.441,300.446,300.448, 300.451,300.453,300.455,300.457,300.459 ,300.46,300.461,300.462,300.463,300.464 ,300.464,300.465,300.465,300.756, 301.085,301.279,301.677,301.678,301.678 ,301.679,301.68,301.682,301.682,301.683 ,301.684,301.685,301.685,301.687, 301.688,301.689,301.69,301.691,301.694, 301.696,301.696,301.698,301.697,301.698 ,301.71,301.711,301.708,301.707,301.714 ,301.715,301.716,301.714,301.711, 301.713,301.721,301.723,301.725,301.728 ,301.731,301.731,301.732,301.733, 301.734,301.728,301.73,301.733,301.741, 301.737,301.739,301.454)
ORBIT_NUMBER = 5221
ORBITAL_ECCENTRICITY = 0.573
ORBITAL_INCLINATION = 86.73
ORBITAL_SEMIMAJOR_AXIS = 8718.13
PERIAPSIS_ALTITUDE = 327.35
PERIAPSIS_ARGUMENT_ANGLE = 159.86
PERIAPSIS_TIME = 2008-01-25T12:53:00.000Z
SPACECRAFT_ORIENTATION = (0.0,-1.0,0.0)
^MEX_ORIENTATION_DESC = "MEX_ORIENTATION_DESC.TXT"
SPACECRAFT_POINTING_MODE = ACROSSTRACK
^MEX_POINTING_DESC = "MEX_POINTING_DESC.TXT"
RIGHT_ASCENSION = -1e+32
DECLINATION = -1e+32
OFFSET_ANGLE = 0.3
SPACECRAFT_SOLAR_DISTANCE = 2.4086e+08
TARGET_NAME = MARS
/* CAMERA DATA ELEMENTS */
DETECTOR_TEMPERATURE = 18.7783
FOCAL_PLANE_TEMPERATURE = 8.3794
INST_CMPRS_NAME = "DISCRETE COSINE TRANSFORMATION (DCT)"
INST_CMPRS_RATIO = 8.30313
INST_CMPRS_QUALITY = 0
INST_CMPRS_QUANTZ_TBL_ID = 0
INSTRUMENT_TEMPERATURE = 11.6418
LENS_TEMPERATURE = 8.7872
MACROPIXEL_SIZE = 8
MISSING_FRAMES = 0
PIXEL_SUBSAMPLING_FLAG = N
SIGNAL_CHAIN_ID = 2
/* RADIOMETRIC DATA ELEMENTS */
BANDWIDTH = 48.0
CENTER_FILTER_WAVELENGTH = 748.0
RADIANCE_OFFSET = 0.646579
RADIANCE_SCALING_FACTOR = 0.00841605
REFLECTANCE_SCALING_FACTOR = 0.0011142
MEX:REFLECTANCE_OFFSET = 0.0856002
/* IMAGE OBJECT DEFINITIONS */
OBJECT = IMAGE
  INTERCHANGE_FORMAT = BINARY
  LINES = 9028
  LINE_SAMPLES = 812
  SAMPLE_TYPE = UNSIGNED_INTEGER
  SAMPLE_BITS = 8
  BANDS = 1
  BAND_STORAGE_TYPE = BAND_SEQUENTIAL
  MAXIMUM = 255
  MEAN = 93.7553
  MINIMUM = 1
  STANDARD_DEVIATION = 32.201
END_OBJECT = IMAGE
/* MAP OBJECT DEFINITIONS */
OBJECT = IMAGE_MAP_PROJECTION
  ^DATA_SET_MAP_PROJECTION_CATALOG= "DSMAP.CAT"
  A_AXIS_RADIUS = 3396.0
  B_AXIS_RADIUS = 3396.0
  C_AXIS_RADIUS = 3396.0
  CENTER_LATITUDE = 0.0
  CENTER_LONGITUDE = 301.0
  COORDINATE_SYSTEM_NAME = PLANETOGRAPHIC
  COORDINATE_SYSTEM_TYPE = "BODY-FIXED ROTATING"
  EASTERNMOST_LONGITUDE = 301.741
  FIRST_STANDARD_PARALLEL = "N/A"
  LINE_FIRST_PIXEL = 1
  LINE_LAST_PIXEL = 9028
  LINE_PROJECTION_OFFSET = 19569.8125
  MAP_PROJECTION_ROTATION = 0.0
  MAP_PROJECTION_TYPE = SINUSOIDAL
  MAP_RESOLUTION = 592.713803866667
  MAP_SCALE = 0.1
  MAXIMUM_LATITUDE = 32.9893
  MINIMUM_LATITUDE = 17.7979
  POSITIVE_LONGITUDE_DIRECTION = EAST
  REFERENCE_LATITUDE = "N/A"
  REFERENCE_LONGITUDE = "N/A"
  SAMPLE_FIRST_PIXEL = 1
  SAMPLE_LAST_PIXEL = 812
  SAMPLE_PROJECTION_OFFSET = 397.1875
  SECOND_STANDARD_PARALLEL = "N/A"
  WESTERNMOST_LONGITUDE = 300.261
END_OBJECT = IMAGE_MAP_PROJECTION
/* The JPEG2000 image data file associated with this label. */
OBJECT = COMPRESSED_FILE
  FILE_NAME = "H5221_0000_RE3.JP2"
  RECORD_TYPE = UNDEFINED
  FILE_RECORDS = UNK
  ENCODING_TYPE = "JP2"
  INTERCHANGE_FORMAT = BINARY
  UNCOMPRESSED_FILE_NAME = "H5221_0000_RE3.IMG"
  REQUIRED_STORAGE_BYTES = "7348600"
  ^DESCRIPTION = "JP2INFO.TXT"
END_OBJECT = COMPRESSED_FILE
END
