PDS_VERSION_ID = PDS3
/* FILE DATA ELEMENTS */
RECORD_TYPE = STREAM
/* POINTERS TO DATA OBJECTS */
^COMPRESSED_FILE = "H5222_0000_P23.JP2"
/* IDENTIFICATION DATA ELEMENTS */
DATA_SET_ID = "MEX-M-HRSC-5-REFDR-MAPPROJECTED-V3.0"
DATA_SET_NAME = "MARS EXPRESS HRSC MAP PROJECTED REFDR V3.0"
DETECTOR_ID = MEX_HRSC_P2
EVENT_TYPE = "MARS-REGIONAL-MAPPING-Vo-Eo-La"
INSTRUMENT_HOST_ID = MEX
INSTRUMENT_HOST_NAME = "MARS EXPRESS"
INSTRUMENT_ID = HRSC
INSTRUMENT_NAME = "HIGH RESOLUTION STEREO CAMERA"
MISSION_NAME = "MARS EXPRESS"
MISSION_PHASE_NAME = ME_Phase_11
PROCESSING_LEVEL_ID = 3
PRODUCT_CREATION_TIME = 2016-05-13T12:18:58.000Z
PRODUCT_ID = "H5222_0000_P23.JP2"
RELEASE_ID = 0060
REVISION_ID = 0000
/* QUALITY DATA ELEMENTS */
DATA_QUALITY_ID = 1
DATA_QUALITY_DESC = "Data calculated based on original SPICE kernels"
/* TIME DATA ELEMENTS */
SPACECRAFT_CLOCK_START_COUNT = "1/0149370156.08246"
SPACECRAFT_CLOCK_STOP_COUNT = "1/0149370361.31168"
START_TIME = 2008-01-25T19:43:28.322Z
STOP_TIME = 2008-01-25T19:45:52.609Z
/* ORBITAL DATA ELEMENTS */
ASCENDING_NODE_LONGITUDE = 119.5
MAXIMUM_RESOLUTION = 54.7
FOOTPRINT_POINT_LATITUDE = (21.436,21.4352,21.4345,21.4337,21.1871 ,21.0043,20.8215,20.6388,20.4562, 20.2736,20.0911,19.9086,19.7262,19.5439 ,19.3617,19.0883,18.7242,18.3604, 18.1742,17.9863,17.7984,17.6106,17.423, 17.1415,16.9541,16.7668,16.5796,16.3924 ,16.2053,16.0183,15.8315,15.6447,15.458 ,15.2714,15.085,14.8986,14.7124,14.5262 ,14.3402,14.1543,13.9686,13.7829, 13.5045,13.3157,13.1243,12.933,12.7418, 12.4552,12.1263,12.1255,12.1244,12.1235 ,12.1231,12.4101,12.6012,12.7924, 12.9838,13.1752,13.4614,13.6469,13.8327 ,14.0185,14.2045,14.3905,14.5767,14.763 ,14.9495,15.136,15.3226,15.5094,15.6962 ,15.8831,16.0702,16.2573,16.4446, 16.6319,16.8194,17.0069,17.1945,17.3822 ,17.57,17.758,17.9459,18.134,18.3216, 18.6857,19.0501,19.2324,19.4147,19.5971 ,19.7796,19.9622,20.1448,20.3275, 20.5103,20.6931,20.9675,21.1504,21.3334 ,21.436)
FOOTPRINT_POINT_LONGITUDE = (201.03,200.7,200.438,200.188,200.071, 200.072,200.073,200.075,200.076,200.077 ,200.078,200.079,200.08,200.081,200.082 ,200.083,200.084,200.085,200.086, 200.086,200.087,200.087,200.087,200.087 ,200.087,200.087,200.087,200.087, 200.087,200.087,200.086,200.086,200.086 ,200.085,200.085,200.084,200.083, 200.083,200.082,200.081,200.08,200.08, 200.078,200.077,200.076,200.075,200.074 ,200.072,200.15,200.395,200.755,201.046 ,201.267,201.317,201.317,201.316, 201.316,201.316,201.316,201.315,201.315 ,201.315,201.315,201.315,201.315, 201.315,201.314,201.314,201.314,201.314 ,201.314,201.314,201.314,201.314, 201.314,201.314,201.314,201.314,201.314 ,201.314,201.314,201.314,201.314, 201.314,201.314,201.314,201.315,201.315 ,201.315,201.315,201.315,201.315, 201.316,201.316,201.316,201.316,201.316 ,201.316,201.317,201.03)
ORBIT_NUMBER = 5222
ORBITAL_ECCENTRICITY = 0.573
ORBITAL_INCLINATION = 86.73
ORBITAL_SEMIMAJOR_AXIS = 8714.76
PERIAPSIS_ALTITUDE = 327.51
PERIAPSIS_ARGUMENT_ANGLE = 159.65
PERIAPSIS_TIME = 2008-01-25T19:43:26.000Z
SPACECRAFT_ORIENTATION = (0.0,-1.0,0.0)
^MEX_ORIENTATION_DESC = "MEX_ORIENTATION_DESC.TXT"
SPACECRAFT_POINTING_MODE = NADIR
^MEX_POINTING_DESC = "MEX_POINTING_DESC.TXT"
RIGHT_ASCENSION = -1e+32
DECLINATION = -1e+32
OFFSET_ANGLE = -1e+32
SPACECRAFT_SOLAR_DISTANCE = 2.40901e+08
TARGET_NAME = MARS
/* CAMERA DATA ELEMENTS */
DETECTOR_TEMPERATURE = 18.3705
FOCAL_PLANE_TEMPERATURE = 8.1755
INST_CMPRS_NAME = "DISCRETE COSINE TRANSFORMATION (DCT)"
INST_CMPRS_RATIO = 8.83203
INST_CMPRS_QUALITY = 0
INST_CMPRS_QUANTZ_TBL_ID = 0
INSTRUMENT_TEMPERATURE = 11.234
LENS_TEMPERATURE = 8.9911
MACROPIXEL_SIZE = 4
MISSING_FRAMES = 0
PIXEL_SUBSAMPLING_FLAG = N
SIGNAL_CHAIN_ID = 3
/* RADIOMETRIC DATA ELEMENTS */
BANDWIDTH = 177.0
CENTER_FILTER_WAVELENGTH = 676.5
RADIANCE_OFFSET = 3.77839
RADIANCE_SCALING_FACTOR = 0.0211033
REFLECTANCE_SCALING_FACTOR = 0.000649363
MEX:REFLECTANCE_OFFSET = 0.116264
/* IMAGE OBJECT DEFINITIONS */
OBJECT = IMAGE
  INTERCHANGE_FORMAT = BINARY
  LINES = 11066
  LINE_SAMPLES = 1499
  SAMPLE_TYPE = UNSIGNED_INTEGER
  SAMPLE_BITS = 8
  BANDS = 1
  BAND_STORAGE_TYPE = BAND_SEQUENTIAL
  MAXIMUM = 255
  MEAN = 132.139
  MINIMUM = 1
  STANDARD_DEVIATION = 11.4134
END_OBJECT = IMAGE
/* MAP OBJECT DEFINITIONS */
OBJECT = IMAGE_MAP_PROJECTION
  ^DATA_SET_MAP_PROJECTION_CATALOG= "DSMAP.CAT"
  A_AXIS_RADIUS = 3396.0
  B_AXIS_RADIUS = 3396.0
  C_AXIS_RADIUS = 3396.0
  CENTER_LATITUDE = 0.0
  CENTER_LONGITUDE = 201.0
  COORDINATE_SYSTEM_NAME = PLANETOGRAPHIC
  COORDINATE_SYSTEM_TYPE = "BODY-FIXED ROTATING"
  EASTERNMOST_LONGITUDE = 201.317
  FIRST_STANDARD_PARALLEL = "N/A"
  LINE_FIRST_PIXEL = 1
  LINE_LAST_PIXEL = 11066
  LINE_PROJECTION_OFFSET = 25418.875
  MAP_PROJECTION_ROTATION = 0.0
  MAP_PROJECTION_TYPE = SINUSOIDAL
  MAP_RESOLUTION = 1185.42760773333
  MAP_SCALE = 0.05
  MAXIMUM_LATITUDE = 21.436
  MINIMUM_LATITUDE = 12.1231
  POSITIVE_LONGITUDE_DIRECTION = EAST
  REFERENCE_LATITUDE = "N/A"
  REFERENCE_LONGITUDE = "N/A"
  SAMPLE_FIRST_PIXEL = 1
  SAMPLE_LAST_PIXEL = 1499
  SAMPLE_PROJECTION_OFFSET = 1102.875
  SECOND_STANDARD_PARALLEL = "N/A"
  WESTERNMOST_LONGITUDE = 200.071
END_OBJECT = IMAGE_MAP_PROJECTION
/* The JPEG2000 image data file associated with this label. */
OBJECT = COMPRESSED_FILE
  FILE_NAME = "H5222_0000_P23.JP2"
  RECORD_TYPE = UNDEFINED
  FILE_RECORDS = UNK
  ENCODING_TYPE = "JP2"
  INTERCHANGE_FORMAT = BINARY
  UNCOMPRESSED_FILE_NAME = "H5222_0000_P23.IMG"
  REQUIRED_STORAGE_BYTES = "16607421"
  ^DESCRIPTION = "JP2INFO.TXT"
END_OBJECT = COMPRESSED_FILE
END
