PDS_VERSION_ID = PDS3
/* FILE DATA ELEMENTS */
RECORD_TYPE = STREAM
/* POINTERS TO DATA OBJECTS */
^COMPRESSED_FILE = "H5226_0000_GR3.JP2"
/* IDENTIFICATION DATA ELEMENTS */
DATA_SET_ID = "MEX-M-HRSC-5-REFDR-MAPPROJECTED-V3.0"
DATA_SET_NAME = "MARS EXPRESS HRSC MAP PROJECTED REFDR V3.0"
DETECTOR_ID = MEX_HRSC_GREEN
EVENT_TYPE = "MARS-REGIONAL-MAPPING-Vo-Te-Eo"
INSTRUMENT_HOST_ID = MEX
INSTRUMENT_HOST_NAME = "MARS EXPRESS"
INSTRUMENT_ID = HRSC
INSTRUMENT_NAME = "HIGH RESOLUTION STEREO CAMERA"
MISSION_NAME = "MARS EXPRESS"
MISSION_PHASE_NAME = ME_Phase_11
PROCESSING_LEVEL_ID = 3
PRODUCT_CREATION_TIME = 2016-05-13T12:18:58.000Z
PRODUCT_ID = "H5226_0000_GR3.JP2"
RELEASE_ID = 0060
REVISION_ID = 0000
/* QUALITY DATA ELEMENTS */
DATA_QUALITY_ID = 2
DATA_QUALITY_DESC = "Data calculated based on photogrammetrically improved orbit and attitude data"
/* TIME DATA ELEMENTS */
SPACECRAFT_CLOCK_START_COUNT = "1/0149468630.09066"
SPACECRAFT_CLOCK_STOP_COUNT = "1/0149468883.23775"
START_TIME = 2008-01-26T23:04:19.185Z
STOP_TIME = 2008-01-26T23:07:29.029Z
/* ORBITAL DATA ELEMENTS */
ASCENDING_NODE_LONGITUDE = 119.41
MAXIMUM_RESOLUTION = 105.8
FOOTPRINT_POINT_LATITUDE = (25.6104,25.6089,25.6067,25.6037, 25.3509,25.1064,24.8617,24.6169,24.372, 24.127,23.882,23.6369,23.3917,23.1465, 22.9012,22.6558,22.4104,22.0422,21.7966 ,21.5511,21.1826,20.8141,20.5683, 20.1997,19.9539,19.7081,19.4623,19.0935 ,18.8477,18.6019,18.2331,17.9873, 17.7414,17.4956,17.2498,16.8811,16.6353 ,16.3896,16.1438,15.8981,15.6525, 15.4069,15.1613,14.9158,14.6704,14.425, 14.1796,13.9344,13.6892,13.444,13.2086, 13.208,13.2071,13.3291,13.5744,13.8198, 14.0652,14.4335,14.679,14.9247,15.1704, 15.4167,15.6618,15.9076,16.1536,16.5225 ,16.8915,17.2605,17.5064,17.7525, 18.1216,18.3676,18.7366,18.9827,19.2287 ,19.4747,19.7208,19.9668,20.2128, 20.5817,20.8277,21.0736,21.3195,21.5653 ,21.8111,22.0569,22.3026,22.5483,22.794 ,23.0396,23.2851,23.5305,23.7759, 24.1439,24.3891,24.6342,24.8793,25.1243 ,25.3691,25.6104)
FOOTPRINT_POINT_LONGITUDE = (161.028,160.517,160.16,159.827,159.754 ,159.758,159.762,159.766,159.77,159.773 ,159.777,159.78,159.783,159.786,159.789 ,159.792,159.795,159.798,159.801, 159.803,159.806,159.809,159.811,159.813 ,159.815,159.816,159.818,159.819,159.82 ,159.821,159.823,159.823,159.824, 159.824,159.825,159.825,159.825,159.825 ,159.825,159.824,159.824,159.824, 159.823,159.822,159.822,159.821,159.82, 159.819,159.818,159.817,159.816,160.28, 160.575,161.026,161.026,161.026,161.026 ,161.026,161.026,161.026,161.026, 161.025,161.026,161.027,161.027,161.027 ,161.027,161.027,161.027,161.027, 161.028,161.028,161.028,161.029,161.029 ,161.029,161.03,161.03,161.03,161.031, 161.031,161.032,161.032,161.033,161.033 ,161.034,161.034,161.034,161.035, 161.035,161.036,161.036,161.037,161.037 ,161.038,161.038,161.039,161.039,161.04 ,161.028)
ORBIT_NUMBER = 5226
ORBITAL_ECCENTRICITY = 0.573
ORBITAL_INCLINATION = 86.73
ORBITAL_SEMIMAJOR_AXIS = 8713.79
PERIAPSIS_ALTITUDE = 328.34
PERIAPSIS_ARGUMENT_ANGLE = 158.98
PERIAPSIS_TIME = 2008-01-26T23:05:35.000Z
SPACECRAFT_ORIENTATION = (0.0,-1.0,0.0)
^MEX_ORIENTATION_DESC = "MEX_ORIENTATION_DESC.TXT"
SPACECRAFT_POINTING_MODE = NADIR
^MEX_POINTING_DESC = "MEX_POINTING_DESC.TXT"
RIGHT_ASCENSION = -1e+32
DECLINATION = -1e+32
OFFSET_ANGLE = -1e+32
SPACECRAFT_SOLAR_DISTANCE = 2.41067e+08
TARGET_NAME = MARS
/* CAMERA DATA ELEMENTS */
DETECTOR_TEMPERATURE = 18.3705
FOCAL_PLANE_TEMPERATURE = 8.7872
INST_CMPRS_NAME = "DISCRETE COSINE TRANSFORMATION (DCT)"
INST_CMPRS_RATIO = 22.9178
INST_CMPRS_QUALITY = 0
INST_CMPRS_QUANTZ_TBL_ID = 0
INSTRUMENT_TEMPERATURE = 11.234
LENS_TEMPERATURE = 9.195
MACROPIXEL_SIZE = 8
MISSING_FRAMES = 0
PIXEL_SUBSAMPLING_FLAG = N
SIGNAL_CHAIN_ID = 2
/* RADIOMETRIC DATA ELEMENTS */
BANDWIDTH = 88.0
CENTER_FILTER_WAVELENGTH = 538.0
RADIANCE_OFFSET = 1.07271
RADIANCE_SCALING_FACTOR = 0.00508312
REFLECTANCE_SCALING_FACTOR = 0.000254329
MEX:REFLECTANCE_OFFSET = 0.0536722
/* IMAGE OBJECT DEFINITIONS */
OBJECT = IMAGE
  INTERCHANGE_FORMAT = BINARY
  LINES = 7352
  LINE_SAMPLES = 772
  SAMPLE_TYPE = UNSIGNED_INTEGER
  SAMPLE_BITS = 8
  BANDS = 1
  BAND_STORAGE_TYPE = BAND_SEQUENTIAL
  MAXIMUM = 255
  MEAN = 132.311
  MINIMUM = 1
  STANDARD_DEVIATION = 13.2164
END_OBJECT = IMAGE
/* MAP OBJECT DEFINITIONS */
OBJECT = IMAGE_MAP_PROJECTION
  ^DATA_SET_MAP_PROJECTION_CATALOG= "DSMAP.CAT"
  A_AXIS_RADIUS = 3396.0
  B_AXIS_RADIUS = 3396.0
  C_AXIS_RADIUS = 3396.0
  CENTER_LATITUDE = 0.0
  CENTER_LONGITUDE = 160.0
  COORDINATE_SYSTEM_NAME = PLANETOGRAPHIC
  COORDINATE_SYSTEM_TYPE = "BODY-FIXED ROTATING"
  EASTERNMOST_LONGITUDE = 161.04
  FIRST_STANDARD_PARALLEL = "N/A"
  LINE_FIRST_PIXEL = 1
  LINE_LAST_PIXEL = 7352
  LINE_PROJECTION_OFFSET = 15185.4375
  MAP_PROJECTION_ROTATION = 0.0
  MAP_PROJECTION_TYPE = SINUSOIDAL
  MAP_RESOLUTION = 592.713803866667
  MAP_SCALE = 0.1
  MAXIMUM_LATITUDE = 25.6104
  MINIMUM_LATITUDE = 13.2071
  POSITIVE_LONGITUDE_DIRECTION = EAST
  REFERENCE_LATITUDE = "N/A"
  REFERENCE_LONGITUDE = "N/A"
  SAMPLE_FIRST_PIXEL = 1
  SAMPLE_LAST_PIXEL = 772
  SAMPLE_PROJECTION_OFFSET = 157.8125
  SECOND_STANDARD_PARALLEL = "N/A"
  WESTERNMOST_LONGITUDE = 159.754
END_OBJECT = IMAGE_MAP_PROJECTION
/* The JPEG2000 image data file associated with this label. */
OBJECT = COMPRESSED_FILE
  FILE_NAME = "H5226_0000_GR3.JP2"
  RECORD_TYPE = UNDEFINED
  FILE_RECORDS = UNK
  ENCODING_TYPE = "JP2"
  INTERCHANGE_FORMAT = BINARY
  UNCOMPRESSED_FILE_NAME = "H5226_0000_GR3.IMG"
  REQUIRED_STORAGE_BYTES = "5694272"
  ^DESCRIPTION = "JP2INFO.TXT"
END_OBJECT = COMPRESSED_FILE
END
