PDS_VERSION_ID = PDS3
/* FILE DATA ELEMENTS */
RECORD_TYPE = STREAM
/* POINTERS TO DATA OBJECTS */
^COMPRESSED_FILE = "H5227_0000_ND3.JP2"
/* IDENTIFICATION DATA ELEMENTS */
DATA_SET_ID = "MEX-M-HRSC-5-REFDR-MAPPROJECTED-V3.0"
DATA_SET_NAME = "MARS EXPRESS HRSC MAP PROJECTED REFDR V3.0"
DETECTOR_ID = MEX_HRSC_NADIR
EVENT_TYPE = "MARS-REGIONAL-MAPPING-Vo-Im-Eo"
INSTRUMENT_HOST_ID = MEX
INSTRUMENT_HOST_NAME = "MARS EXPRESS"
INSTRUMENT_ID = HRSC
INSTRUMENT_NAME = "HIGH RESOLUTION STEREO CAMERA"
MISSION_NAME = "MARS EXPRESS"
MISSION_PHASE_NAME = ME_Phase_11
PROCESSING_LEVEL_ID = 3
PRODUCT_CREATION_TIME = 2016-05-13T12:18:58.000Z
PRODUCT_ID = "H5227_0000_ND3.JP2"
RELEASE_ID = 0060
REVISION_ID = 0000
/* QUALITY DATA ELEMENTS */
DATA_QUALITY_ID = 2
DATA_QUALITY_DESC = "Data calculated based on photogrammetrically improved orbit and attitude data"
/* TIME DATA ELEMENTS */
SPACECRAFT_CLOCK_START_COUNT = "1/0149493429.07292"
SPACECRAFT_CLOCK_STOP_COUNT = "1/0149493747.28895"
START_TIME = 2008-01-27T05:57:42.414Z
STOP_TIME = 2008-01-27T06:01:46.401Z
/* ORBITAL DATA ELEMENTS */
ASCENDING_NODE_LONGITUDE = 119.39
MAXIMUM_RESOLUTION = 13.4
FOOTPRINT_POINT_LATITUDE = (14.6031,14.604,14.3205,13.7536,13.1873 ,12.7529,12.4607,12.1687,11.8769, 11.5853,11.2938,11.0026,10.7115,10.4206 ,10.1299,9.83946,9.54919,9.25916, 8.96935,8.67976,8.3904,8.10128,7.81244, 7.52382,7.23546,6.94736,6.65952,6.37194 ,5.86845,5.52616,5.18429,4.84284, 4.50181,4.16122,3.82106,3.48136,3.14211 ,2.80333,2.46502,2.12719,1.78985,1.453, 1.11665,0.780808,0.436833,0.0930027, -0.25027,-0.59898,-0.954033,-0.958326, -0.962722,-0.964795,-0.613476,-0.264507 ,0.0789614,0.422989,0.76724,1.10326, 1.4398,1.77686,2.1144,2.45243,2.79094, 3.12992,3.46937,3.80927,4.14963,4.49042 ,4.83165,5.17331,5.51538,5.85787, 6.36204,6.64978,6.93778,7.22606,7.5146, 7.80339,8.09243,8.38172,8.67124,8.96101 ,9.25099,9.54121,9.83164,10.1223, 10.4131,10.7042,10.9954,11.2869,11.5785 ,11.8703,12.1623,12.4545,12.7468, 13.1816,13.7483,14.3155,14.5993, 14.6031)
FOOTPRINT_POINT_LONGITUDE = (60.8344,60.4533,60.0441,60.0408, 60.0372,60.0341,60.0319,60.0296,60.0272 ,60.0247,60.0221,60.0192,60.0162, 60.0132,60.01,60.0067,60.0035,59.9998, 59.9962,59.9926,59.989,59.9854,59.9805, 59.9764,59.9721,59.9676,59.9631,59.9586 ,59.9504,59.9447,59.9388,59.9327, 59.9265,59.9201,59.9136,59.907,59.9003, 59.8933,59.8863,59.8791,59.8718,59.8644 ,59.8568,59.8491,59.841,59.8329,59.8246 ,59.8161,59.9674,60.4791,61.0087, 61.2971,61.2942,61.2914,61.2885,61.2858 ,61.2854,61.2808,61.2779,61.2776, 61.2758,61.2739,61.2722,61.2702,61.2687 ,61.2671,61.2657,61.2643,61.2628, 61.2616,61.2604,61.2604,61.2604,61.2582 ,61.2558,61.2552,61.2547,61.2541, 61.2535,61.2531,61.2527,61.2525,61.2522 ,61.2519,61.2515,61.2514,61.2513, 61.2512,61.251,61.2508,61.251,61.251, 61.251,61.2511,61.2508,61.2519,61.252, 61.2522,61.2534,60.8344)
ORBIT_NUMBER = 5227
ORBITAL_ECCENTRICITY = 0.573
ORBITAL_INCLINATION = 86.74
ORBITAL_SEMIMAJOR_AXIS = 8721.68
PERIAPSIS_ALTITUDE = 327.56
PERIAPSIS_ARGUMENT_ANGLE = 158.8
PERIAPSIS_TIME = 2008-01-27T05:56:02.000Z
SPACECRAFT_ORIENTATION = (0.0,-1.0,0.0)
^MEX_ORIENTATION_DESC = "MEX_ORIENTATION_DESC.TXT"
SPACECRAFT_POINTING_MODE = ACROSSTRACK
^MEX_POINTING_DESC = "MEX_POINTING_DESC.TXT"
RIGHT_ASCENSION = -1e+32
DECLINATION = -1e+32
OFFSET_ANGLE = 0.26
SPACECRAFT_SOLAR_DISTANCE = 2.41108e+08
TARGET_NAME = MARS
/* CAMERA DATA ELEMENTS */
DETECTOR_TEMPERATURE = 18.3705
FOCAL_PLANE_TEMPERATURE = 7.9716
INST_CMPRS_NAME = "DISCRETE COSINE TRANSFORMATION (DCT)"
INST_CMPRS_RATIO = 7.65634
INST_CMPRS_QUALITY = 0
INST_CMPRS_QUANTZ_TBL_ID = 0
INSTRUMENT_TEMPERATURE = 11.0301
LENS_TEMPERATURE = 7.3599
MACROPIXEL_SIZE = 1
MISSING_FRAMES = 0
PIXEL_SUBSAMPLING_FLAG = N
SIGNAL_CHAIN_ID = 0
/* RADIOMETRIC DATA ELEMENTS */
BANDWIDTH = 177.0
CENTER_FILTER_WAVELENGTH = 677.5
RADIANCE_OFFSET = 2.17581
RADIANCE_SCALING_FACTOR = 0.0214263
REFLECTANCE_SCALING_FACTOR = 0.000661693
MEX:REFLECTANCE_OFFSET = 0.067194
/* IMAGE OBJECT DEFINITIONS */
OBJECT = IMAGE
  INTERCHANGE_FORMAT = BINARY
  LINES = 73822
  LINE_SAMPLES = 7434
  SAMPLE_TYPE = UNSIGNED_INTEGER
  SAMPLE_BITS = 8
  BANDS = 1
  BAND_STORAGE_TYPE = BAND_SEQUENTIAL
  MAXIMUM = 255
  MEAN = 121.202
  MINIMUM = 1
  STANDARD_DEVIATION = 31.9507
END_OBJECT = IMAGE
/* MAP OBJECT DEFINITIONS */
OBJECT = IMAGE_MAP_PROJECTION
  ^DATA_SET_MAP_PROJECTION_CATALOG= "DSMAP.CAT"
  A_AXIS_RADIUS = 3396.0
  B_AXIS_RADIUS = 3396.0
  C_AXIS_RADIUS = 3396.0
  CENTER_LATITUDE = 0.0
  CENTER_LONGITUDE = 61.0
  COORDINATE_SYSTEM_NAME = PLANETOGRAPHIC
  COORDINATE_SYSTEM_TYPE = "BODY-FIXED ROTATING"
  EASTERNMOST_LONGITUDE = 61.2971
  FIRST_STANDARD_PARALLEL = "N/A"
  LINE_FIRST_PIXEL = 1
  LINE_LAST_PIXEL = 73822
  LINE_PROJECTION_OFFSET = 69257.0
  MAP_PROJECTION_ROTATION = 0.0
  MAP_PROJECTION_TYPE = SINUSOIDAL
  MAP_RESOLUTION = 4741.71043093333
  MAP_SCALE = 0.0125
  MAXIMUM_LATITUDE = 14.604
  MINIMUM_LATITUDE = -0.964795
  POSITIVE_LONGITUDE_DIRECTION = EAST
  REFERENCE_LATITUDE = "N/A"
  REFERENCE_LONGITUDE = "N/A"
  SAMPLE_FIRST_PIXEL = 1
  SAMPLE_LAST_PIXEL = 7434
  SAMPLE_PROJECTION_OFFSET = 5737.0
  SECOND_STANDARD_PARALLEL = "N/A"
  WESTERNMOST_LONGITUDE = 59.8161
END_OBJECT = IMAGE_MAP_PROJECTION
/* The JPEG2000 image data file associated with this label. */
OBJECT = COMPRESSED_FILE
  FILE_NAME = "H5227_0000_ND3.JP2"
  RECORD_TYPE = UNDEFINED
  FILE_RECORDS = UNK
  ENCODING_TYPE = "JP2"
  INTERCHANGE_FORMAT = BINARY
  UNCOMPRESSED_FILE_NAME = "H5227_0000_ND3.IMG"
  REQUIRED_STORAGE_BYTES = "548822484"
  ^DESCRIPTION = "JP2INFO.TXT"
END_OBJECT = COMPRESSED_FILE
END
