PDS_VERSION_ID = PDS3
/* FILE DATA ELEMENTS */
RECORD_TYPE = STREAM
/* POINTERS TO DATA OBJECTS */
^COMPRESSED_FILE = "H5227_0001_S23.JP2"
/* IDENTIFICATION DATA ELEMENTS */
DATA_SET_ID = "MEX-M-HRSC-5-REFDR-MAPPROJECTED-V3.0"
DATA_SET_NAME = "MARS EXPRESS HRSC MAP PROJECTED REFDR V3.0"
DETECTOR_ID = MEX_HRSC_S2
EVENT_TYPE = "MARS-REGIONAL-MAPPING-Fl-Pf"
INSTRUMENT_HOST_ID = MEX
INSTRUMENT_HOST_NAME = "MARS EXPRESS"
INSTRUMENT_ID = HRSC
INSTRUMENT_NAME = "HIGH RESOLUTION STEREO CAMERA"
MISSION_NAME = "MARS EXPRESS"
MISSION_PHASE_NAME = ME_Phase_11
PROCESSING_LEVEL_ID = 3
PRODUCT_CREATION_TIME = 2016-05-13T12:18:58.000Z
PRODUCT_ID = "H5227_0001_S23.JP2"
RELEASE_ID = 0060
REVISION_ID = 0000
/* QUALITY DATA ELEMENTS */
DATA_QUALITY_ID = 1
DATA_QUALITY_DESC = "Data calculated based on original SPICE kernels"
/* TIME DATA ELEMENTS */
SPACECRAFT_CLOCK_START_COUNT = "1/0149494104.08258"
SPACECRAFT_CLOCK_STOP_COUNT = "1/0149494921.25373"
START_TIME = 2008-01-27T06:12:04.800Z
STOP_TIME = 2008-01-27T06:22:03.144Z
/* ORBITAL DATA ELEMENTS */
ASCENDING_NODE_LONGITUDE = 119.39
MAXIMUM_RESOLUTION = 89.6
FOOTPRINT_POINT_LATITUDE = (-28.4504,-28.4663,-28.4764,-28.4806, -28.4793,-28.469,-28.8688,-29.3238, -29.7539,-30.1936,-30.6214,-31.2535, -31.6723,-32.2927,-32.7066,-33.1163, -33.5177,-34.1179,-34.5116,-34.9021, -35.2869,-35.8624,-36.2395,-36.6089, -36.9772,-37.3403,-37.8876,-38.2429, -38.5949,-38.9428,-39.2861,-39.7883, -40.1292,-40.4607,-40.7873,-41.4328, -42.062,-42.5272,-43.1338,-43.5803, -44.0201,-44.5955,-45.1496,-45.7072, -46.1476,-46.1614,-46.1792,-46.2015, -46.2068,-46.2029,-46.1909,-46.1796, -46.1585,-46.1347,-46.0952,-46.04, -45.9949,-45.9382,-45.8553,-45.3321, -44.8033,-44.2528,-43.694,-43.1208, -42.5289,-41.9274,-41.3121,-40.681, -40.0349,-39.7069,-39.3734,-39.0376, -38.6987,-38.3586,-38.013,-37.6597, -37.3002,-36.9398,-36.5766,-36.2092, -35.839,-35.4621,-35.0819,-34.6969, -34.3022,-33.9094,-33.5131,-33.1126, -32.7085,-32.2994,-31.8851,-31.4673, -31.0451,-30.6224,-30.193,-29.7696, -29.3392,-28.8952,-28.4488,-28.4504)
FOOTPRINT_POINT_LONGITUDE = (61.9441,61.2938,60.645,59.9977,59.3919 ,58.5428,58.1486,58.105,58.0553,58.0089 ,57.9599,57.8849,57.835,57.7591,57.7094 ,57.6591,57.6071,57.5297,57.477,57.424, 57.3699,57.2893,57.2344,57.1778,57.1214 ,57.064,56.9797,56.9212,56.8622,56.8025 ,56.7419,56.6479,56.5878,56.5251, 56.4614,56.3328,56.2006,56.1004,55.9636 ,55.8593,55.7534,55.6097,55.4601, 55.3128,55.2791,55.7651,56.4462,57.2255 ,57.9039,58.8716,59.5479,60.0311, 60.8045,61.288,62.1576,63.0272,63.6077, 64.2849,65.1898,65.0501,64.9102,64.775, 64.6404,64.5084,64.3802,64.2531,64.1282 ,64.0063,63.887,63.8282,63.7705,63.713, 63.656,63.5987,63.5427,63.4886,63.436, 63.383,63.3303,63.2783,63.2266,63.1765, 63.1268,63.0781,63.0321,62.9845,62.9375 ,62.8911,62.8451,62.8002,62.7562, 62.7127,62.6698,62.6263,62.5842,62.5391 ,62.4955,62.456,62.4164,61.9441)
ORBIT_NUMBER = 5227
ORBITAL_ECCENTRICITY = 0.573
ORBITAL_INCLINATION = 86.74
ORBITAL_SEMIMAJOR_AXIS = 8721.68
PERIAPSIS_ALTITUDE = 327.56
PERIAPSIS_ARGUMENT_ANGLE = 158.8
PERIAPSIS_TIME = 2008-01-27T05:56:02.000Z
SPACECRAFT_ORIENTATION = (0.0,-1.0,0.0)
^MEX_ORIENTATION_DESC = "MEX_ORIENTATION_DESC.TXT"
SPACECRAFT_POINTING_MODE = ACROSSTRACK
^MEX_POINTING_DESC = "MEX_POINTING_DESC.TXT"
RIGHT_ASCENSION = -1e+32
DECLINATION = -1e+32
OFFSET_ANGLE = 0.26
SPACECRAFT_SOLAR_DISTANCE = 2.41108e+08
TARGET_NAME = MARS
/* CAMERA DATA ELEMENTS */
DETECTOR_TEMPERATURE = 21.0212
FOCAL_PLANE_TEMPERATURE = 8.3794
INST_CMPRS_NAME = "DISCRETE COSINE TRANSFORMATION (DCT)"
INST_CMPRS_RATIO = 13.4453
INST_CMPRS_QUALITY = 0
INST_CMPRS_QUANTZ_TBL_ID = 0
INSTRUMENT_TEMPERATURE = 13.6808
LENS_TEMPERATURE = 9.195
MACROPIXEL_SIZE = 2
MISSING_FRAMES = 0
PIXEL_SUBSAMPLING_FLAG = N
SIGNAL_CHAIN_ID = 1
/* RADIOMETRIC DATA ELEMENTS */
BANDWIDTH = 178.0
CENTER_FILTER_WAVELENGTH = 679.0
RADIANCE_OFFSET = 2.04415
RADIANCE_SCALING_FACTOR = 0.0138463
REFLECTANCE_SCALING_FACTOR = 0.000426277
MEX:REFLECTANCE_OFFSET = 0.0629319
/* IMAGE OBJECT DEFINITIONS */
OBJECT = IMAGE
  INTERCHANGE_FORMAT = BINARY
  LINES = 21121
  LINE_SAMPLES = 5928
  SAMPLE_TYPE = UNSIGNED_INTEGER
  SAMPLE_BITS = 8
  BANDS = 1
  BAND_STORAGE_TYPE = BAND_SEQUENTIAL
  MAXIMUM = 255
  MEAN = 143.894
  MINIMUM = 1
  STANDARD_DEVIATION = 43.1221
END_OBJECT = IMAGE
/* MAP OBJECT DEFINITIONS */
OBJECT = IMAGE_MAP_PROJECTION
  ^DATA_SET_MAP_PROJECTION_CATALOG= "DSMAP.CAT"
  A_AXIS_RADIUS = 3396.0
  B_AXIS_RADIUS = 3396.0
  C_AXIS_RADIUS = 3396.0
  CENTER_LATITUDE = 0.0
  CENTER_LONGITUDE = 60.0
  COORDINATE_SYSTEM_NAME = PLANETOGRAPHIC
  COORDINATE_SYSTEM_TYPE = "BODY-FIXED ROTATING"
  EASTERNMOST_LONGITUDE = 65.18980000000001
  FIRST_STANDARD_PARALLEL = "N/A"
  LINE_FIRST_PIXEL = 1
  LINE_LAST_PIXEL = 21121
  LINE_PROJECTION_OFFSET = -33742.25
  MAP_PROJECTION_ROTATION = 0.0
  MAP_PROJECTION_TYPE = SINUSOIDAL
  MAP_RESOLUTION = 1185.42760773333
  MAP_SCALE = 0.05
  MAXIMUM_LATITUDE = -28.4488
  MINIMUM_LATITUDE = -46.2068
  POSITIVE_LONGITUDE_DIRECTION = EAST
  REFERENCE_LATITUDE = "N/A"
  REFERENCE_LONGITUDE = "N/A"
  SAMPLE_FIRST_PIXEL = 1
  SAMPLE_LAST_PIXEL = 5928
  SAMPLE_PROJECTION_OFFSET = 2624.25
  SECOND_STANDARD_PARALLEL = "N/A"
  WESTERNMOST_LONGITUDE = 55.2791
END_OBJECT = IMAGE_MAP_PROJECTION
/* The JPEG2000 image data file associated with this label. */
OBJECT = COMPRESSED_FILE
  FILE_NAME = "H5227_0001_S23.JP2"
  RECORD_TYPE = UNDEFINED
  FILE_RECORDS = UNK
  ENCODING_TYPE = "JP2"
  INTERCHANGE_FORMAT = BINARY
  UNCOMPRESSED_FILE_NAME = "H5227_0001_S23.IMG"
  REQUIRED_STORAGE_BYTES = "125234928"
  ^DESCRIPTION = "JP2INFO.TXT"
END_OBJECT = COMPRESSED_FILE
END
