PDS_VERSION_ID = PDS3
/* FILE DATA ELEMENTS */
RECORD_TYPE = STREAM
/* POINTERS TO DATA OBJECTS */
^COMPRESSED_FILE = "H5228_0000_IR3.JP2"
/* IDENTIFICATION DATA ELEMENTS */
DATA_SET_ID = "MEX-M-HRSC-5-REFDR-MAPPROJECTED-V3.0"
DATA_SET_NAME = "MARS EXPRESS HRSC MAP PROJECTED REFDR V3.0"
DETECTOR_ID = MEX_HRSC_IR
EVENT_TYPE = "MARS-REGIONAL-MAPPING-Im-Fl-Pf"
INSTRUMENT_HOST_ID = MEX
INSTRUMENT_HOST_NAME = "MARS EXPRESS"
INSTRUMENT_ID = HRSC
INSTRUMENT_NAME = "HIGH RESOLUTION STEREO CAMERA"
MISSION_NAME = "MARS EXPRESS"
MISSION_PHASE_NAME = ME_Phase_11
PROCESSING_LEVEL_ID = 3
PRODUCT_CREATION_TIME = 2016-05-13T12:18:58.000Z
PRODUCT_ID = "H5228_0000_IR3.JP2"
RELEASE_ID = 0060
REVISION_ID = 0000
/* QUALITY DATA ELEMENTS */
DATA_QUALITY_ID = 2
DATA_QUALITY_DESC = "Data calculated based on photogrammetrically improved orbit and attitude data"
/* TIME DATA ELEMENTS */
SPACECRAFT_CLOCK_START_COUNT = "1/0149517870.09096"
SPACECRAFT_CLOCK_STOP_COUNT = "1/0149518300.39804"
START_TIME = 2008-01-27T12:44:39.319Z
STOP_TIME = 2008-01-27T12:50:35.850Z
/* ORBITAL DATA ELEMENTS */
ASCENDING_NODE_LONGITUDE = 119.37
MAXIMUM_RESOLUTION = 111
FOOTPRINT_POINT_LATITUDE = (26.9669,26.9638,26.9131,26.4494, 25.9905,25.5405,25.0896,24.6381,24.1857 ,23.7328,23.0518,22.5987,22.1435, 21.6879,21.232,20.5509,20.1088,19.6665, 19.0019,18.5589,17.8926,17.4484,16.9927 ,16.5321,16.0719,15.6134,15.1509, 14.4568,13.7648,13.0735,12.3789,11.9166 ,11.4444,10.9673,10.4887,10.0116, 9.54201,9.06164,8.34892,7.87189,7.39561 ,6.68095,6.20374,5.48939,5.01198, 4.48198,3.91361,3.6098,3.60722,3.60199, 3.88623,4.45224,4.73605,5.22482,5.70168 ,6.1767,6.65422,7.13147,7.6033,8.08771, 8.56559,9.03453,9.51242,9.99004,10.4687 ,10.9461,11.4245,11.8978,12.361,12.823, 13.2846,13.7473,14.2089,14.6713,15.1332 ,15.5949,16.0559,16.5208,16.9805, 17.4356,17.8798,18.5455,18.9893,19.6545 ,20.0976,20.5401,21.2213,21.6778, 22.1341,22.5893,23.0441,23.4984,23.9521 ,24.4051,24.8575,25.5352,25.986,26.4454 ,26.909,26.9669)
FOOTPRINT_POINT_LONGITUDE = (320.432,320.075,319.622,319.631,319.64 ,319.649,319.657,319.664,319.671, 319.678,319.687,319.693,319.698,319.702 ,319.707,319.712,319.715,319.718, 319.722,319.724,319.726,319.727,319.728 ,319.729,319.729,319.729,319.728, 319.726,319.724,319.721,319.717,319.714 ,319.711,319.707,319.703,319.699, 319.698,319.692,319.685,319.68,319.674, 319.665,319.658,319.648,319.64,319.631, 319.621,319.889,320.287,320.71,320.941, 320.94,320.94,320.938,320.937,320.937, 320.936,320.935,320.936,320.933,320.933 ,320.936,320.935,320.935,320.935, 320.935,320.935,320.935,320.935,320.935 ,320.936,320.936,320.936,320.936, 320.937,320.937,320.938,320.937,320.938 ,320.94,320.941,320.943,320.944,320.945 ,320.946,320.947,320.949,320.95,320.951 ,320.953,320.954,320.955,320.957, 320.958,320.96,320.962,320.963,320.965, 320.967,320.432)
ORBIT_NUMBER = 5228
ORBITAL_ECCENTRICITY = 0.573
ORBITAL_INCLINATION = 86.74
ORBITAL_SEMIMAJOR_AXIS = 8712.54
PERIAPSIS_ALTITUDE = 328.23
PERIAPSIS_ARGUMENT_ANGLE = 158.61
PERIAPSIS_TIME = 2008-01-27T12:46:30.000Z
SPACECRAFT_ORIENTATION = (0.0,-1.0,0.0)
^MEX_ORIENTATION_DESC = "MEX_ORIENTATION_DESC.TXT"
SPACECRAFT_POINTING_MODE = NADIR
^MEX_POINTING_DESC = "MEX_POINTING_DESC.TXT"
RIGHT_ASCENSION = -1e+32
DECLINATION = -1e+32
OFFSET_ANGLE = -1e+32
SPACECRAFT_SOLAR_DISTANCE = 2.4115e+08
TARGET_NAME = MARS
/* CAMERA DATA ELEMENTS */
DETECTOR_TEMPERATURE = 17.5549
FOCAL_PLANE_TEMPERATURE = 8.3794
INST_CMPRS_NAME = "DISCRETE COSINE TRANSFORMATION (DCT)"
INST_CMPRS_RATIO = 15.3413
INST_CMPRS_QUALITY = 0
INST_CMPRS_QUANTZ_TBL_ID = 0
INSTRUMENT_TEMPERATURE = 11.0301
LENS_TEMPERATURE = 8.7872
MACROPIXEL_SIZE = 8
MISSING_FRAMES = 0
PIXEL_SUBSAMPLING_FLAG = N
SIGNAL_CHAIN_ID = 2
/* RADIOMETRIC DATA ELEMENTS */
BANDWIDTH = 81.0
CENTER_FILTER_WAVELENGTH = 955.5
RADIANCE_OFFSET = 0.617661
RADIANCE_SCALING_FACTOR = 0.00632135
REFLECTANCE_SCALING_FACTOR = 0.000793071
MEX:REFLECTANCE_OFFSET = 0.0774912
/* IMAGE OBJECT DEFINITIONS */
OBJECT = IMAGE
  INTERCHANGE_FORMAT = BINARY
  LINES = 13828
  LINE_SAMPLES = 856
  SAMPLE_TYPE = UNSIGNED_INTEGER
  SAMPLE_BITS = 8
  BANDS = 1
  BAND_STORAGE_TYPE = BAND_SEQUENTIAL
  MAXIMUM = 255
  MEAN = 130.814
  MINIMUM = 1
  STANDARD_DEVIATION = 43.0569
END_OBJECT = IMAGE
/* MAP OBJECT DEFINITIONS */
OBJECT = IMAGE_MAP_PROJECTION
  ^DATA_SET_MAP_PROJECTION_CATALOG= "DSMAP.CAT"
  A_AXIS_RADIUS = 3396.0
  B_AXIS_RADIUS = 3396.0
  C_AXIS_RADIUS = 3396.0
  CENTER_LATITUDE = 0.0
  CENTER_LONGITUDE = 320.0
  COORDINATE_SYSTEM_NAME = PLANETOGRAPHIC
  COORDINATE_SYSTEM_TYPE = "BODY-FIXED ROTATING"
  EASTERNMOST_LONGITUDE = 320.967
  FIRST_STANDARD_PARALLEL = "N/A"
  LINE_FIRST_PIXEL = 1
  LINE_LAST_PIXEL = 13828
  LINE_PROJECTION_OFFSET = 15975.1875
  MAP_PROJECTION_ROTATION = 0.0
  MAP_PROJECTION_TYPE = SINUSOIDAL
  MAP_RESOLUTION = 592.713803866667
  MAP_SCALE = 0.1
  MAXIMUM_LATITUDE = 26.9669
  MINIMUM_LATITUDE = 3.60199
  POSITIVE_LONGITUDE_DIRECTION = EAST
  REFERENCE_LATITUDE = "N/A"
  REFERENCE_LONGITUDE = "N/A"
  SAMPLE_FIRST_PIXEL = 1
  SAMPLE_LAST_PIXEL = 856
  SAMPLE_PROJECTION_OFFSET = 265.3125
  SECOND_STANDARD_PARALLEL = "N/A"
  WESTERNMOST_LONGITUDE = 319.621
END_OBJECT = IMAGE_MAP_PROJECTION
/* The JPEG2000 image data file associated with this label. */
OBJECT = COMPRESSED_FILE
  FILE_NAME = "H5228_0000_IR3.JP2"
  RECORD_TYPE = UNDEFINED
  FILE_RECORDS = UNK
  ENCODING_TYPE = "JP2"
  INTERCHANGE_FORMAT = BINARY
  UNCOMPRESSED_FILE_NAME = "H5228_0000_IR3.IMG"
  REQUIRED_STORAGE_BYTES = "11854744"
  ^DESCRIPTION = "JP2INFO.TXT"
END_OBJECT = COMPRESSED_FILE
END
