PDS_VERSION_ID = PDS3
/* FILE DATA ELEMENTS */
RECORD_TYPE = STREAM
/* POINTERS TO DATA OBJECTS */
^COMPRESSED_FILE = "H5228_0000_ND3.JP2"
/* IDENTIFICATION DATA ELEMENTS */
DATA_SET_ID = "MEX-M-HRSC-5-REFDR-MAPPROJECTED-V3.0"
DATA_SET_NAME = "MARS EXPRESS HRSC MAP PROJECTED REFDR V3.0"
DETECTOR_ID = MEX_HRSC_NADIR
EVENT_TYPE = "MARS-REGIONAL-MAPPING-Im-Fl-Pf"
INSTRUMENT_HOST_ID = MEX
INSTRUMENT_HOST_NAME = "MARS EXPRESS"
INSTRUMENT_ID = HRSC
INSTRUMENT_NAME = "HIGH RESOLUTION STEREO CAMERA"
MISSION_NAME = "MARS EXPRESS"
MISSION_PHASE_NAME = ME_Phase_11
PROCESSING_LEVEL_ID = 3
PRODUCT_CREATION_TIME = 2016-05-13T12:18:58.000Z
PRODUCT_ID = "H5228_0000_ND3.JP2"
RELEASE_ID = 0060
REVISION_ID = 0000
/* QUALITY DATA ELEMENTS */
DATA_QUALITY_ID = 2
DATA_QUALITY_DESC = "Data calculated based on photogrammetrically improved orbit and attitude data"
/* TIME DATA ELEMENTS */
SPACECRAFT_CLOCK_START_COUNT = "1/0149517870.09096"
SPACECRAFT_CLOCK_STOP_COUNT = "1/0149518300.39804"
START_TIME = 2008-01-27T12:45:04.572Z
STOP_TIME = 2008-01-27T12:51:04.561Z
/* ORBITAL DATA ELEMENTS */
ASCENDING_NODE_LONGITUDE = 119.37
MAXIMUM_RESOLUTION = 13.3
FOOTPRINT_POINT_LATITUDE = (26.9499,26.9446,26.2598,25.8048, 25.3496,24.8942,24.4386,23.9828,23.5269 ,23.0709,22.6148,22.1624,21.2803, 20.8393,19.9572,19.0754,18.6239,18.168, 17.7123,17.2567,16.8014,16.3462,15.8912 ,15.4365,14.9821,14.528,14.0741,13.6206 ,13.1594,12.6916,12.2241,11.7571, 11.2906,10.8245,10.359,9.894,9.4295, 8.96564,8.5023,8.03962,7.57757,7.11622, 6.65546,5.83875,5.29137,4.74499,4.19975 ,3.65565,3.62775,3.62362,4.16807, 4.71365,5.26034,5.80811,6.62899,7.09001 ,7.55172,8.01404,8.47702,8.94066, 9.40486,9.86963,10.335,10.8008,11.2672, 11.734,12.2014,12.6691,13.1373,13.5995, 14.0533,14.5075,14.962,15.4167,15.8718, 16.3271,16.7826,17.2383,17.6943,18.1504 ,18.6066,19.0592,19.5004,19.9418, 20.3832,20.8246,21.2661,21.7075,22.149, 22.6012,23.0578,23.5143,23.9707,24.4269 ,24.883,25.339,25.7948,26.2503,26.7057, 26.9499)
FOOTPRINT_POINT_LONGITUDE = (320.513,319.859,319.63,319.638,319.646 ,319.653,319.66,319.667,319.672,319.677 ,319.683,319.688,319.695,319.699, 319.704,319.708,319.71,319.711,319.712, 319.712,319.713,319.712,319.712,319.712 ,319.71,319.708,319.706,319.704,319.702 ,319.698,319.695,319.691,319.687, 319.683,319.678,319.674,319.671,319.664 ,319.66,319.654,319.648,319.64,319.635, 319.622,319.611,319.603,319.594,319.583 ,320.384,320.961,320.96,320.958,320.955 ,320.953,320.95,320.949,320.95,320.946, 320.945,320.947,320.946,320.946,320.944 ,320.944,320.943,320.943,320.942, 320.941,320.941,320.941,320.941,320.941 ,320.94,320.94,320.94,320.939,320.939, 320.94,320.94,320.941,320.942,320.942, 320.943,320.943,320.943,320.944,320.945 ,320.945,320.946,320.947,320.947, 320.948,320.949,320.95,320.95,320.951, 320.952,320.952,320.954,320.513)
ORBIT_NUMBER = 5228
ORBITAL_ECCENTRICITY = 0.573
ORBITAL_INCLINATION = 86.74
ORBITAL_SEMIMAJOR_AXIS = 8712.54
PERIAPSIS_ALTITUDE = 328.23
PERIAPSIS_ARGUMENT_ANGLE = 158.61
PERIAPSIS_TIME = 2008-01-27T12:46:30.000Z
SPACECRAFT_ORIENTATION = (0.0,-1.0,0.0)
^MEX_ORIENTATION_DESC = "MEX_ORIENTATION_DESC.TXT"
SPACECRAFT_POINTING_MODE = NADIR
^MEX_POINTING_DESC = "MEX_POINTING_DESC.TXT"
RIGHT_ASCENSION = -1e+32
DECLINATION = -1e+32
OFFSET_ANGLE = -1e+32
SPACECRAFT_SOLAR_DISTANCE = 2.4115e+08
TARGET_NAME = MARS
/* CAMERA DATA ELEMENTS */
DETECTOR_TEMPERATURE = 18.1666
FOCAL_PLANE_TEMPERATURE = 8.3794
INST_CMPRS_NAME = "DISCRETE COSINE TRANSFORMATION (DCT)"
INST_CMPRS_RATIO = 7.31913
INST_CMPRS_QUALITY = 0
INST_CMPRS_QUANTZ_TBL_ID = 0
INSTRUMENT_TEMPERATURE = 11.0301
LENS_TEMPERATURE = 8.7872
MACROPIXEL_SIZE = 1
MISSING_FRAMES = 0
PIXEL_SUBSAMPLING_FLAG = N
SIGNAL_CHAIN_ID = 0
/* RADIOMETRIC DATA ELEMENTS */
BANDWIDTH = 177.0
CENTER_FILTER_WAVELENGTH = 677.5
RADIANCE_OFFSET = 2.28803
RADIANCE_SCALING_FACTOR = 0.0223166
REFLECTANCE_SCALING_FACTOR = 0.000689423
MEX:REFLECTANCE_OFFSET = 0.0706836
/* IMAGE OBJECT DEFINITIONS */
OBJECT = IMAGE
  INTERCHANGE_FORMAT = BINARY
  LINES = 110617
  LINE_SAMPLES = 6847
  SAMPLE_TYPE = UNSIGNED_INTEGER
  SAMPLE_BITS = 8
  BANDS = 1
  BAND_STORAGE_TYPE = BAND_SEQUENTIAL
  MAXIMUM = 255
  MEAN = 131.059
  MINIMUM = 1
  STANDARD_DEVIATION = 38.1556
END_OBJECT = IMAGE
/* MAP OBJECT DEFINITIONS */
OBJECT = IMAGE_MAP_PROJECTION
  ^DATA_SET_MAP_PROJECTION_CATALOG= "DSMAP.CAT"
  A_AXIS_RADIUS = 3396.0
  B_AXIS_RADIUS = 3396.0
  C_AXIS_RADIUS = 3396.0
  CENTER_LATITUDE = 0.0
  CENTER_LONGITUDE = 320.0
  COORDINATE_SYSTEM_NAME = PLANETOGRAPHIC
  COORDINATE_SYSTEM_TYPE = "BODY-FIXED ROTATING"
  EASTERNMOST_LONGITUDE = 320.961
  FIRST_STANDARD_PARALLEL = "N/A"
  LINE_FIRST_PIXEL = 1
  LINE_LAST_PIXEL = 110617
  LINE_PROJECTION_OFFSET = 127805.0
  MAP_PROJECTION_ROTATION = 0.0
  MAP_PROJECTION_TYPE = SINUSOIDAL
  MAP_RESOLUTION = 4741.71043093333
  MAP_SCALE = 0.0125
  MAXIMUM_LATITUDE = 26.9499
  MINIMUM_LATITUDE = 3.62362
  POSITIVE_LONGITUDE_DIRECTION = EAST
  REFERENCE_LATITUDE = "N/A"
  REFERENCE_LONGITUDE = "N/A"
  SAMPLE_FIRST_PIXEL = 1
  SAMPLE_LAST_PIXEL = 6847
  SAMPLE_PROJECTION_OFFSET = 2126.0
  SECOND_STANDARD_PARALLEL = "N/A"
  WESTERNMOST_LONGITUDE = 319.583
END_OBJECT = IMAGE_MAP_PROJECTION
/* The JPEG2000 image data file associated with this label. */
OBJECT = COMPRESSED_FILE
  FILE_NAME = "H5228_0000_ND3.JP2"
  RECORD_TYPE = UNDEFINED
  FILE_RECORDS = UNK
  ENCODING_TYPE = "JP2"
  INTERCHANGE_FORMAT = BINARY
  UNCOMPRESSED_FILE_NAME = "H5228_0000_ND3.IMG"
  REQUIRED_STORAGE_BYTES = "757428834"
  ^DESCRIPTION = "JP2INFO.TXT"
END_OBJECT = COMPRESSED_FILE
END
