PDS_VERSION_ID = PDS3
/* FILE DATA ELEMENTS */
RECORD_TYPE = STREAM
/* POINTERS TO DATA OBJECTS */
^COMPRESSED_FILE = "H5228_0000_RE3.JP2"
/* IDENTIFICATION DATA ELEMENTS */
DATA_SET_ID = "MEX-M-HRSC-5-REFDR-MAPPROJECTED-V3.0"
DATA_SET_NAME = "MARS EXPRESS HRSC MAP PROJECTED REFDR V3.0"
DETECTOR_ID = MEX_HRSC_RED
EVENT_TYPE = "MARS-REGIONAL-MAPPING-Im-Fl-Pf"
INSTRUMENT_HOST_ID = MEX
INSTRUMENT_HOST_NAME = "MARS EXPRESS"
INSTRUMENT_ID = HRSC
INSTRUMENT_NAME = "HIGH RESOLUTION STEREO CAMERA"
MISSION_NAME = "MARS EXPRESS"
MISSION_PHASE_NAME = ME_Phase_11
PROCESSING_LEVEL_ID = 3
PRODUCT_CREATION_TIME = 2016-05-13T12:18:58.000Z
PRODUCT_ID = "H5228_0000_RE3.JP2"
RELEASE_ID = 0060
REVISION_ID = 0000
/* QUALITY DATA ELEMENTS */
DATA_QUALITY_ID = 2
DATA_QUALITY_DESC = "Data calculated based on photogrammetrically improved orbit and attitude data"
/* TIME DATA ELEMENTS */
SPACECRAFT_CLOCK_START_COUNT = "1/0149517870.09096"
SPACECRAFT_CLOCK_STOP_COUNT = "1/0149518300.39804"
START_TIME = 2008-01-27T12:45:29.471Z
STOP_TIME = 2008-01-27T12:51:35.715Z
/* ORBITAL DATA ELEMENTS */
ASCENDING_NODE_LONGITUDE = 119.37
MAXIMUM_RESOLUTION = 111.3
FOOTPRINT_POINT_LATITUDE = (26.9141,26.9115,26.9094,26.7201, 26.2624,25.8045,25.3469,24.8898,24.2046 ,23.532,22.8708,22.4306,21.9911,21.5518 ,21.113,20.6749,20.2257,19.7732,19.3212 ,18.8701,18.1942,17.745,17.2963,16.6235 ,15.9515,15.5039,14.8314,14.3729, 13.6857,13.0001,12.5458,12.091,11.4115, 10.9585,10.5085,9.82761,9.37708,8.93621 ,8.48256,7.96067,7.69518,7.42999,6.9065 ,6.37511,5.8509,5.33226,5.06785,4.54778 ,4.03099,3.64913,3.64658,3.64424, 3.64414,4.16305,4.6836,5.20367,5.72673, 6.25228,6.77833,7.04195,7.30655,7.57672 ,8.10023,8.59833,9.05428,9.50224, 9.95204,10.4008,10.8529,11.5314,11.9841 ,12.6663,13.3514,14.0377,14.4962, 15.1818,15.6276,16.0743,16.5179,17.1933 ,17.6428,18.0935,18.5442,18.9955, 19.4471,20.1254,20.5782,21.0169,21.6759 ,22.1154,22.5557,22.9964,23.4374, 23.8788,24.5642,25.2508,25.7082,26.1662 ,26.6251,26.9141)
FOOTPRINT_POINT_LONGITUDE = (320.607,320.162,319.849,319.637, 319.645,319.653,319.66,319.666,319.675, 319.683,319.69,319.695,319.698,319.702, 319.704,319.707,319.709,319.711,319.713 ,319.714,319.715,319.715,319.715, 319.714,319.713,319.713,319.709,319.706 ,319.702,319.697,319.693,319.69,319.683 ,319.679,319.673,319.667,319.663, 319.654,319.651,319.643,319.639,319.635 ,319.625,319.618,319.608,319.597, 319.594,319.583,319.572,319.871,320.178 ,320.513,320.99,320.987,320.984,320.981 ,320.978,320.975,320.973,320.971,320.97 ,320.971,320.966,320.964,320.966, 320.964,320.963,320.961,320.96,320.958, 320.956,320.954,320.953,320.952,320.951 ,320.95,320.949,320.949,320.947,320.947 ,320.947,320.947,320.947,320.947, 320.947,320.947,320.947,320.947,320.947 ,320.947,320.947,320.947,320.947, 320.947,320.948,320.948,320.948,320.948 ,320.949,320.607)
ORBIT_NUMBER = 5228
ORBITAL_ECCENTRICITY = 0.573
ORBITAL_INCLINATION = 86.74
ORBITAL_SEMIMAJOR_AXIS = 8712.54
PERIAPSIS_ALTITUDE = 328.23
PERIAPSIS_ARGUMENT_ANGLE = 158.61
PERIAPSIS_TIME = 2008-01-27T12:46:30.000Z
SPACECRAFT_ORIENTATION = (0.0,-1.0,0.0)
^MEX_ORIENTATION_DESC = "MEX_ORIENTATION_DESC.TXT"
SPACECRAFT_POINTING_MODE = NADIR
^MEX_POINTING_DESC = "MEX_POINTING_DESC.TXT"
RIGHT_ASCENSION = -1e+32
DECLINATION = -1e+32
OFFSET_ANGLE = -1e+32
SPACECRAFT_SOLAR_DISTANCE = 2.4115e+08
TARGET_NAME = MARS
/* CAMERA DATA ELEMENTS */
DETECTOR_TEMPERATURE = 18.5744
FOCAL_PLANE_TEMPERATURE = 8.3794
INST_CMPRS_NAME = "DISCRETE COSINE TRANSFORMATION (DCT)"
INST_CMPRS_RATIO = 15.1835
INST_CMPRS_QUALITY = 0
INST_CMPRS_QUANTZ_TBL_ID = 0
INSTRUMENT_TEMPERATURE = 11.0301
LENS_TEMPERATURE = 8.7872
MACROPIXEL_SIZE = 8
MISSING_FRAMES = 0
PIXEL_SUBSAMPLING_FLAG = N
SIGNAL_CHAIN_ID = 2
/* RADIOMETRIC DATA ELEMENTS */
BANDWIDTH = 48.0
CENTER_FILTER_WAVELENGTH = 748.0
RADIANCE_OFFSET = 0.716632
RADIANCE_SCALING_FACTOR = 0.00645097
REFLECTANCE_SCALING_FACTOR = 0.0008561
MEX:REFLECTANCE_OFFSET = 0.0951034
/* IMAGE OBJECT DEFINITIONS */
OBJECT = IMAGE
  INTERCHANGE_FORMAT = BINARY
  LINES = 13828
  LINE_SAMPLES = 856
  SAMPLE_TYPE = UNSIGNED_INTEGER
  SAMPLE_BITS = 8
  BANDS = 1
  BAND_STORAGE_TYPE = BAND_SEQUENTIAL
  MAXIMUM = 255
  MEAN = 134.512
  MINIMUM = 1
  STANDARD_DEVIATION = 40.1257
END_OBJECT = IMAGE
/* MAP OBJECT DEFINITIONS */
OBJECT = IMAGE_MAP_PROJECTION
  ^DATA_SET_MAP_PROJECTION_CATALOG= "DSMAP.CAT"
  A_AXIS_RADIUS = 3396.0
  B_AXIS_RADIUS = 3396.0
  C_AXIS_RADIUS = 3396.0
  CENTER_LATITUDE = 0.0
  CENTER_LONGITUDE = 320.0
  COORDINATE_SYSTEM_NAME = PLANETOGRAPHIC
  COORDINATE_SYSTEM_TYPE = "BODY-FIXED ROTATING"
  EASTERNMOST_LONGITUDE = 320.99
  FIRST_STANDARD_PARALLEL = "N/A"
  LINE_FIRST_PIXEL = 1
  LINE_LAST_PIXEL = 13828
  LINE_PROJECTION_OFFSET = 15975.1875
  MAP_PROJECTION_ROTATION = 0.0
  MAP_PROJECTION_TYPE = SINUSOIDAL
  MAP_RESOLUTION = 592.713803866667
  MAP_SCALE = 0.1
  MAXIMUM_LATITUDE = 26.9141
  MINIMUM_LATITUDE = 3.64414
  POSITIVE_LONGITUDE_DIRECTION = EAST
  REFERENCE_LATITUDE = "N/A"
  REFERENCE_LONGITUDE = "N/A"
  SAMPLE_FIRST_PIXEL = 1
  SAMPLE_LAST_PIXEL = 856
  SAMPLE_PROJECTION_OFFSET = 265.3125
  SECOND_STANDARD_PARALLEL = "N/A"
  WESTERNMOST_LONGITUDE = 319.572
END_OBJECT = IMAGE_MAP_PROJECTION
/* The JPEG2000 image data file associated with this label. */
OBJECT = COMPRESSED_FILE
  FILE_NAME = "H5228_0000_RE3.JP2"
  RECORD_TYPE = UNDEFINED
  FILE_RECORDS = UNK
  ENCODING_TYPE = "JP2"
  INTERCHANGE_FORMAT = BINARY
  UNCOMPRESSED_FILE_NAME = "H5228_0000_RE3.IMG"
  REQUIRED_STORAGE_BYTES = "11854744"
  ^DESCRIPTION = "JP2INFO.TXT"
END_OBJECT = COMPRESSED_FILE
END
