PDS_VERSION_ID = PDS3
/* FILE DATA ELEMENTS */
RECORD_TYPE = STREAM
/* POINTERS TO DATA OBJECTS */
^COMPRESSED_FILE = "H5229_0000_ND3.JP2"
/* IDENTIFICATION DATA ELEMENTS */
DATA_SET_ID = "MEX-M-HRSC-5-REFDR-MAPPROJECTED-V3.0"
DATA_SET_NAME = "MARS EXPRESS HRSC MAP PROJECTED REFDR V3.0"
DETECTOR_ID = MEX_HRSC_NADIR
EVENT_TYPE = "MARS-REGIONAL-MAPPING-Vo-Gl-Mw"
INSTRUMENT_HOST_ID = MEX
INSTRUMENT_HOST_NAME = "MARS EXPRESS"
INSTRUMENT_ID = HRSC
INSTRUMENT_NAME = "HIGH RESOLUTION STEREO CAMERA"
MISSION_NAME = "MARS EXPRESS"
MISSION_PHASE_NAME = ME_Phase_11
PROCESSING_LEVEL_ID = 3
PRODUCT_CREATION_TIME = 2016-05-13T12:18:58.000Z
PRODUCT_ID = "H5229_0000_ND3.JP2"
RELEASE_ID = 0060
REVISION_ID = 0000
/* QUALITY DATA ELEMENTS */
DATA_QUALITY_ID = 1
DATA_QUALITY_DESC = "Data calculated based on original SPICE kernels"
/* TIME DATA ELEMENTS */
SPACECRAFT_CLOCK_START_COUNT = "1/0149542517.07299"
SPACECRAFT_CLOCK_STOP_COUNT = "1/0149542744.49145"
START_TIME = 2008-01-27T19:35:51.029Z
STOP_TIME = 2008-01-27T19:38:36.035Z
/* ORBITAL DATA ELEMENTS */
ASCENDING_NODE_LONGITUDE = 119.36
MAXIMUM_RESOLUTION = 13.2
FOOTPRINT_POINT_LATITUDE = (25.761,25.7601,25.7579,25.7555,25.4282 ,25.2106,24.9929,24.7752,24.5575, 24.3398,24.122,23.9042,23.6863,23.4684, 23.2505,23.0326,22.8147,22.4894,22.068, 21.8573,21.6465,21.4358,21.2251,21.0143 ,20.8036,20.5929,20.1715,19.7501, 19.3288,18.9076,18.6914,18.4736,18.2558 ,18.038,17.8203,17.6027,17.3851,17.1675 ,16.9499,16.7325,16.515,16.2976,16.0803 ,15.863,15.6458,15.4286,15.2116,14.9945 ,14.9808,14.9803,14.9787,15.1959, 15.4131,15.6304,15.8478,16.0652,16.2827 ,16.5002,16.7178,16.9355,17.1531, 17.3708,17.5886,17.8064,18.0243,18.2422 ,18.4602,18.6781,18.895,19.1057,19.3165 ,19.5273,19.7382,19.949,20.1599,20.3707 ,20.5816,20.7925,21.1089,21.3198, 21.5307,21.7416,22.058,22.2689,22.4797, 22.6958,22.914,23.1321,23.3502,23.5683, 23.7864,24.0044,24.2224,24.4404,24.6584 ,24.8763,25.0942,25.312,25.5298,25.761)
FOOTPRINT_POINT_LONGITUDE = (220.944,220.653,220.25,219.937,219.842 ,219.845,219.848,219.851,219.854, 219.856,219.858,219.861,219.863,219.865 ,219.868,219.87,219.872,219.875,219.878 ,219.88,219.881,219.883,219.884,219.886 ,219.887,219.888,219.89,219.892,219.893 ,219.894,219.895,219.895,219.896, 219.896,219.896,219.896,219.896,219.896 ,219.896,219.895,219.895,219.894, 219.894,219.893,219.893,219.892,219.891 ,219.89,220.237,220.585,221.108,221.108 ,221.108,221.107,221.107,221.107, 221.107,221.107,221.108,221.109,221.107 ,221.102,221.102,221.105,221.106, 221.108,221.109,221.111,221.112,221.113 ,221.113,221.114,221.115,221.116, 221.116,221.117,221.118,221.119,221.121 ,221.122,221.122,221.123,221.124, 221.126,221.126,221.127,221.127,221.128 ,221.129,221.13,221.131,221.131,221.132 ,221.133,221.134,221.134,221.135, 221.136,221.136,220.944)
ORBIT_NUMBER = 5229
ORBITAL_ECCENTRICITY = 0.573
ORBITAL_INCLINATION = 86.74
ORBITAL_SEMIMAJOR_AXIS = 8722.29
PERIAPSIS_ALTITUDE = 327.89
PERIAPSIS_ARGUMENT_ANGLE = 158.41
PERIAPSIS_TIME = 2008-01-27T19:36:55.000Z
SPACECRAFT_ORIENTATION = (0.0,-1.0,0.0)
^MEX_ORIENTATION_DESC = "MEX_ORIENTATION_DESC.TXT"
SPACECRAFT_POINTING_MODE = ACROSSTRACK
^MEX_POINTING_DESC = "MEX_POINTING_DESC.TXT"
RIGHT_ASCENSION = -1e+32
DECLINATION = -1e+32
OFFSET_ANGLE = 0.2
SPACECRAFT_SOLAR_DISTANCE = 2.41191e+08
TARGET_NAME = MARS
/* CAMERA DATA ELEMENTS */
DETECTOR_TEMPERATURE = 18.1666
FOCAL_PLANE_TEMPERATURE = 7.9716
INST_CMPRS_NAME = "DISCRETE COSINE TRANSFORMATION (DCT)"
INST_CMPRS_RATIO = 7.06131
INST_CMPRS_QUALITY = 0
INST_CMPRS_QUANTZ_TBL_ID = 0
INSTRUMENT_TEMPERATURE = 50.9945
LENS_TEMPERATURE = 8.3794
MACROPIXEL_SIZE = 1
MISSING_FRAMES = 0
PIXEL_SUBSAMPLING_FLAG = N
SIGNAL_CHAIN_ID = 0
/* RADIOMETRIC DATA ELEMENTS */
BANDWIDTH = 177.0
CENTER_FILTER_WAVELENGTH = 677.5
RADIANCE_OFFSET = 3.11125
RADIANCE_SCALING_FACTOR = 0.0249694
REFLECTANCE_SCALING_FACTOR = 0.000771639
MEX:REFLECTANCE_OFFSET = 0.096148
/* IMAGE OBJECT DEFINITIONS */
OBJECT = IMAGE
  INTERCHANGE_FORMAT = BINARY
  LINES = 51127
  LINE_SAMPLES = 5988
  SAMPLE_TYPE = UNSIGNED_INTEGER
  SAMPLE_BITS = 8
  BANDS = 1
  BAND_STORAGE_TYPE = BAND_SEQUENTIAL
  MAXIMUM = 255
  MEAN = 140.528
  MINIMUM = 1
  STANDARD_DEVIATION = 13.9721
END_OBJECT = IMAGE
/* MAP OBJECT DEFINITIONS */
OBJECT = IMAGE_MAP_PROJECTION
  ^DATA_SET_MAP_PROJECTION_CATALOG= "DSMAP.CAT"
  A_AXIS_RADIUS = 3396.0
  B_AXIS_RADIUS = 3396.0
  C_AXIS_RADIUS = 3396.0
  CENTER_LATITUDE = 0.0
  CENTER_LONGITUDE = 221.0
  COORDINATE_SYSTEM_NAME = PLANETOGRAPHIC
  COORDINATE_SYSTEM_TYPE = "BODY-FIXED ROTATING"
  EASTERNMOST_LONGITUDE = 221.136
  FIRST_STANDARD_PARALLEL = "N/A"
  LINE_FIRST_PIXEL = 1
  LINE_LAST_PIXEL = 51127
  LINE_PROJECTION_OFFSET = 122152.0
  MAP_PROJECTION_ROTATION = 0.0
  MAP_PROJECTION_TYPE = SINUSOIDAL
  MAP_RESOLUTION = 4741.71043093333
  MAP_SCALE = 0.0125
  MAXIMUM_LATITUDE = 25.761
  MINIMUM_LATITUDE = 14.9787
  POSITIVE_LONGITUDE_DIRECTION = EAST
  REFERENCE_LATITUDE = "N/A"
  REFERENCE_LONGITUDE = "N/A"
  SAMPLE_FIRST_PIXEL = 1
  SAMPLE_LAST_PIXEL = 5988
  SAMPLE_PROJECTION_OFFSET = 5201.0
  SECOND_STANDARD_PARALLEL = "N/A"
  WESTERNMOST_LONGITUDE = 219.842
END_OBJECT = IMAGE_MAP_PROJECTION
/* The JPEG2000 image data file associated with this label. */
OBJECT = COMPRESSED_FILE
  FILE_NAME = "H5229_0000_ND3.JP2"
  RECORD_TYPE = UNDEFINED
  FILE_RECORDS = UNK
  ENCODING_TYPE = "JP2"
  INTERCHANGE_FORMAT = BINARY
  UNCOMPRESSED_FILE_NAME = "H5229_0000_ND3.IMG"
  REQUIRED_STORAGE_BYTES = "306178416"
  ^DESCRIPTION = "JP2INFO.TXT"
END_OBJECT = COMPRESSED_FILE
END
