PDS_VERSION_ID = PDS3
/* FILE DATA ELEMENTS */
RECORD_TYPE = STREAM
/* POINTERS TO DATA OBJECTS */
^COMPRESSED_FILE = "H5231_0000_S13.JP2"
/* IDENTIFICATION DATA ELEMENTS */
DATA_SET_ID = "MEX-M-HRSC-5-REFDR-MAPPROJECTED-V3.0"
DATA_SET_NAME = "MARS EXPRESS HRSC MAP PROJECTED REFDR V3.0"
DETECTOR_ID = MEX_HRSC_S1
EVENT_TYPE = "MARS-REGIONAL-MAPPING-Fl-Gl-Lc"
INSTRUMENT_HOST_ID = MEX
INSTRUMENT_HOST_NAME = "MARS EXPRESS"
INSTRUMENT_ID = HRSC
INSTRUMENT_NAME = "HIGH RESOLUTION STEREO CAMERA"
MISSION_NAME = "MARS EXPRESS"
MISSION_PHASE_NAME = ME_Phase_11
PROCESSING_LEVEL_ID = 3
PRODUCT_CREATION_TIME = 2016-05-13T12:18:58.000Z
PRODUCT_ID = "H5231_0000_S13.JP2"
RELEASE_ID = 0060
REVISION_ID = 0000
/* QUALITY DATA ELEMENTS */
DATA_QUALITY_ID = 2
DATA_QUALITY_DESC = "Data calculated based on photogrammetrically improved orbit and attitude data"
/* TIME DATA ELEMENTS */
SPACECRAFT_CLOCK_START_COUNT = "1/0149591431.08412"
SPACECRAFT_CLOCK_STOP_COUNT = "1/0149591808.55955"
START_TIME = 2008-01-28T09:10:34.966Z
STOP_TIME = 2008-01-28T09:15:49.463Z
/* ORBITAL DATA ELEMENTS */
ASCENDING_NODE_LONGITUDE = 119.32
MAXIMUM_RESOLUTION = 29.5
FOOTPRINT_POINT_LATITUDE = (47.4276,47.4147,47.4,47.3833,47.3648, 47.3443,47.0102,46.5762,46.1434,45.7162 ,45.0819,44.454,44.0423,43.4247,42.8193 ,42.2169,41.6223,41.0302,40.6398, 40.2515,39.8695,39.2969,38.928,38.5518, 38.1787,37.8105,37.4402,37.056,36.6931, 36.3204,35.9472,35.5722,35.1958,34.6297 ,34.2523,33.6834,33.3036,32.7478,32.268 ,31.7864,31.4652,31.1403,30.8165, 30.4961,30.1717,29.6858,29.1933,28.8702 ,28.5418,28.5522,28.561,28.5724,28.5784 ,28.7469,29.075,29.3956,29.7195,30.0469 ,30.3763,30.7006,31.187,31.6723,31.996, 32.479,32.7998,33.3534,33.7346,34.113, 34.4929,34.8701,35.2486,35.6237,35.9995 ,36.3746,36.7501,37.3126,37.6854, 38.0483,38.4202,38.8016,39.3642,39.748, 40.1345,40.5269,40.9081,41.2989,41.6949 ,42.093,42.4973,42.8981,43.5094,43.9204 ,44.3362,44.7537,45.1779,45.6001, 46.0332,46.6813,47.1174,47.4276)
FOOTPRINT_POINT_LONGITUDE = (20.1446,19.7477,19.35,18.9514,18.5524, 18.152,17.7492,17.8023,17.8534,17.903, 17.9739,18.0406,18.0853,18.1444,18.2035 ,18.2591,18.3103,18.3577,18.3888,18.419 ,18.4483,18.4914,18.5213,18.5476, 18.5739,18.5983,18.6215,18.6399,18.6667 ,18.6885,18.71,18.7305,18.7503,18.7791, 18.7983,18.8254,18.8432,18.8661,18.8869 ,18.9069,18.92,18.9313,18.9431,18.9566, 18.968,18.9854,18.9994,19.0113,19.0204, 19.3342,19.6176,19.9803,20.2342,20.4119 ,20.4115,20.4124,20.4126,20.4121,20.411 ,20.4108,20.4103,20.4098,20.4092, 20.4086,20.4083,20.4076,20.4071,20.407, 20.4065,20.4062,20.4055,20.4053,20.4047 ,20.4041,20.4031,20.4022,20.4012, 20.4024,20.4017,20.4002,20.3998,20.399, 20.3976,20.3947,20.3966,20.3956,20.3945 ,20.3934,20.3911,20.391,20.3891,20.3876 ,20.3862,20.3846,20.3826,20.3813, 20.3786,20.3764,20.3745,20.1446)
ORBIT_NUMBER = 5231
ORBITAL_ECCENTRICITY = 0.573
ORBITAL_INCLINATION = 86.72
ORBITAL_SEMIMAJOR_AXIS = 8718.21
PERIAPSIS_ALTITUDE = 328.47
PERIAPSIS_ARGUMENT_ANGLE = 158.08
PERIAPSIS_TIME = 2008-01-28T09:18:02.000Z
SPACECRAFT_ORIENTATION = (0.0,-1.0,0.0)
^MEX_ORIENTATION_DESC = "MEX_ORIENTATION_DESC.TXT"
SPACECRAFT_POINTING_MODE = ACROSSTRACK
^MEX_POINTING_DESC = "MEX_POINTING_DESC.TXT"
RIGHT_ASCENSION = -1e+32
DECLINATION = -1e+32
OFFSET_ANGLE = -0.3
SPACECRAFT_SOLAR_DISTANCE = 2.41273e+08
TARGET_NAME = MARS
/* CAMERA DATA ELEMENTS */
DETECTOR_TEMPERATURE = 16.9432
FOCAL_PLANE_TEMPERATURE = 9.195
INST_CMPRS_NAME = "DISCRETE COSINE TRANSFORMATION (DCT)"
INST_CMPRS_RATIO = 8.52082
INST_CMPRS_QUALITY = 0
INST_CMPRS_QUANTZ_TBL_ID = 0
INSTRUMENT_TEMPERATURE = 11.0301
LENS_TEMPERATURE = 8.7872
MACROPIXEL_SIZE = 2
MISSING_FRAMES = 1
PIXEL_SUBSAMPLING_FLAG = N
SIGNAL_CHAIN_ID = 1
/* RADIOMETRIC DATA ELEMENTS */
BANDWIDTH = 180.0
CENTER_FILTER_WAVELENGTH = 677.0
RADIANCE_OFFSET = 3.2573
RADIANCE_SCALING_FACTOR = 0.0245337
REFLECTANCE_SCALING_FACTOR = 0.000745104
MEX:REFLECTANCE_OFFSET = 0.0989264
/* IMAGE OBJECT DEFINITIONS */
OBJECT = IMAGE
  INTERCHANGE_FORMAT = BINARY
  LINES = 44492
  LINE_SAMPLES = 4394
  SAMPLE_TYPE = UNSIGNED_INTEGER
  SAMPLE_BITS = 8
  BANDS = 1
  BAND_STORAGE_TYPE = BAND_SEQUENTIAL
  MAXIMUM = 255
  MEAN = 123.883
  MINIMUM = 1
  STANDARD_DEVIATION = 28.6785
END_OBJECT = IMAGE
/* MAP OBJECT DEFINITIONS */
OBJECT = IMAGE_MAP_PROJECTION
  ^DATA_SET_MAP_PROJECTION_CATALOG= "DSMAP.CAT"
  A_AXIS_RADIUS = 3396.0
  B_AXIS_RADIUS = 3396.0
  C_AXIS_RADIUS = 3396.0
  CENTER_LATITUDE = 0.0
  CENTER_LONGITUDE = 20.0
  COORDINATE_SYSTEM_NAME = PLANETOGRAPHIC
  COORDINATE_SYSTEM_TYPE = "BODY-FIXED ROTATING"
  EASTERNMOST_LONGITUDE = 20.4126
  FIRST_STANDARD_PARALLEL = "N/A"
  LINE_FIRST_PIXEL = 1
  LINE_LAST_PIXEL = 44492
  LINE_PROJECTION_OFFSET = 112184.25
  MAP_PROJECTION_ROTATION = 0.0
  MAP_PROJECTION_TYPE = SINUSOIDAL
  MAP_RESOLUTION = 2370.85521546667
  MAP_SCALE = 0.025
  MAXIMUM_LATITUDE = 47.4276
  MINIMUM_LATITUDE = 28.5418
  POSITIVE_LONGITUDE_DIRECTION = EAST
  REFERENCE_LATITUDE = "N/A"
  REFERENCE_LONGITUDE = "N/A"
  SAMPLE_FIRST_PIXEL = 1
  SAMPLE_LAST_PIXEL = 4394
  SAMPLE_PROJECTION_OFFSET = 3538.25
  SECOND_STANDARD_PARALLEL = "N/A"
  WESTERNMOST_LONGITUDE = 17.7492
END_OBJECT = IMAGE_MAP_PROJECTION
/* The JPEG2000 image data file associated with this label. */
OBJECT = COMPRESSED_FILE
  FILE_NAME = "H5231_0000_S13.JP2"
  RECORD_TYPE = UNDEFINED
  FILE_RECORDS = UNK
  ENCODING_TYPE = "JP2"
  INTERCHANGE_FORMAT = BINARY
  UNCOMPRESSED_FILE_NAME = "H5231_0000_S13.IMG"
  REQUIRED_STORAGE_BYTES = "195524212"
  ^DESCRIPTION = "JP2INFO.TXT"
END_OBJECT = COMPRESSED_FILE
END
