PDS_VERSION_ID = PDS3
/* FILE DATA ELEMENTS */
RECORD_TYPE = STREAM
/* POINTERS TO DATA OBJECTS */
^COMPRESSED_FILE = "H5234_0000_S13.JP2"
/* IDENTIFICATION DATA ELEMENTS */
DATA_SET_ID = "MEX-M-HRSC-5-REFDR-MAPPROJECTED-V3.0"
DATA_SET_NAME = "MARS EXPRESS HRSC MAP PROJECTED REFDR V3.0"
DETECTOR_ID = MEX_HRSC_S1
EVENT_TYPE = "MARS-REGIONAL-MAPPING-Vo-Im-Eo"
INSTRUMENT_HOST_ID = MEX
INSTRUMENT_HOST_NAME = "MARS EXPRESS"
INSTRUMENT_ID = HRSC
INSTRUMENT_NAME = "HIGH RESOLUTION STEREO CAMERA"
MISSION_NAME = "MARS EXPRESS"
MISSION_PHASE_NAME = ME_Phase_11
PROCESSING_LEVEL_ID = 3
PRODUCT_CREATION_TIME = 2016-05-13T12:18:58.000Z
PRODUCT_ID = "H5234_0000_S13.JP2"
RELEASE_ID = 0060
REVISION_ID = 0000
/* QUALITY DATA ELEMENTS */
DATA_QUALITY_ID = 2
DATA_QUALITY_DESC = "Data calculated based on photogrammetrically improved orbit and attitude data"
/* TIME DATA ELEMENTS */
SPACECRAFT_CLOCK_START_COUNT = "1/0149665744.08247"
SPACECRAFT_CLOCK_STOP_COUNT = "1/0149665985.40518"
START_TIME = 2008-01-29T05:49:07.931Z
STOP_TIME = 2008-01-29T05:52:03.058Z
/* ORBITAL DATA ELEMENTS */
ASCENDING_NODE_LONGITUDE = 119.25
MAXIMUM_RESOLUTION = 27.9
FOOTPRINT_POINT_LATITUDE = (22.3824,22.384,22.3843,22.3836,22.1314 ,21.9055,21.684,21.4637,21.1305,20.9072 ,20.6854,20.459,20.2336,20.0106,19.6762 ,19.4542,19.1228,18.7849,18.4492, 18.2247,17.9955,17.6485,17.4165,17.185, 16.9535,16.6068,16.2581,15.9115,15.6785 ,15.4463,15.2145,14.8661,14.6339, 14.4016,14.1691,13.9365,13.5895,13.2417 ,13.0088,12.7771,12.5369,12.2963, 11.9359,11.6951,11.4555,11.2152,10.9741 ,10.8367,10.8347,10.8308,10.8283, 10.8249,11.0658,11.3065,11.5466,11.7873 ,12.0287,12.2697,12.5098,12.8671,13.1, 13.4493,13.6818,13.9143,14.1471,14.3797 ,14.6119,14.8447,15.0773,15.3093, 15.5415,15.7737,16.006,16.2378,16.4697, 16.7021,16.9338,17.1654,17.5123,17.7439 ,18.0911,18.3183,18.5409,18.7645, 18.9877,19.2113,19.4349,19.6579,19.8813 ,20.1053,20.3298,20.5539,20.7743, 20.9978,21.2217,21.5534,21.7754,21.9977 ,22.2291,22.3824)
FOOTPRINT_POINT_LONGITUDE = (80.5429,80.2078,79.8257,79.5633, 79.4007,79.4021,79.404,79.4062,79.4087, 79.4099,79.4115,79.4118,79.4122,79.4133 ,79.4148,79.4161,79.4182,79.4184, 79.4191,79.4193,79.4196,79.4201,79.4201 ,79.4202,79.4203,79.4204,79.4198, 79.4197,79.419,79.4184,79.4179,79.4168, 79.416,79.4151,79.4141,79.413,79.4118, 79.4101,79.4087,79.4075,79.406,79.4043, 79.4017,79.3998,79.3981,79.3961,79.3938 ,79.5598,79.788,80.1489,80.3539,80.6361 ,80.636,80.636,80.6362,80.6363,80.6361, 80.636,80.6363,80.6366,80.6366,80.6368, 80.637,80.6373,80.6374,80.6376,80.6379, 80.638,80.6382,80.6385,80.6389,80.6392, 80.6394,80.6398,80.6402,80.6403,80.6407 ,80.6411,80.6419,80.6423,80.6429, 80.6426,80.6433,80.6437,80.6442,80.6444 ,80.6447,80.6452,80.6455,80.6455, 80.6453,80.6452,80.6465,80.6465,80.6464 ,80.6477,80.6482,80.6486,80.6477, 80.5429)
ORBIT_NUMBER = 5234
ORBITAL_ECCENTRICITY = 0.573
ORBITAL_INCLINATION = 86.74
ORBITAL_SEMIMAJOR_AXIS = 8720.39
PERIAPSIS_ALTITUDE = 327.99
PERIAPSIS_ARGUMENT_ANGLE = 157.54
PERIAPSIS_TIME = 2008-01-29T05:49:36.000Z
SPACECRAFT_ORIENTATION = (0.0,-1.0,0.0)
^MEX_ORIENTATION_DESC = "MEX_ORIENTATION_DESC.TXT"
SPACECRAFT_POINTING_MODE = ACROSSTRACK
^MEX_POINTING_DESC = "MEX_POINTING_DESC.TXT"
RIGHT_ASCENSION = -1e+32
DECLINATION = -1e+32
OFFSET_ANGLE = 0.08
SPACECRAFT_SOLAR_DISTANCE = 2.41395e+08
TARGET_NAME = MARS
/* CAMERA DATA ELEMENTS */
DETECTOR_TEMPERATURE = 17.351
FOCAL_PLANE_TEMPERATURE = 8.5833
INST_CMPRS_NAME = "DISCRETE COSINE TRANSFORMATION (DCT)"
INST_CMPRS_RATIO = 10.7491
INST_CMPRS_QUALITY = 0
INST_CMPRS_QUANTZ_TBL_ID = 0
INSTRUMENT_TEMPERATURE = 11.234
LENS_TEMPERATURE = 8.9911
MACROPIXEL_SIZE = 2
MISSING_FRAMES = 0
PIXEL_SUBSAMPLING_FLAG = N
SIGNAL_CHAIN_ID = 1
/* RADIOMETRIC DATA ELEMENTS */
BANDWIDTH = 180.0
CENTER_FILTER_WAVELENGTH = 677.0
RADIANCE_OFFSET = 3.3356
RADIANCE_SCALING_FACTOR = 0.020406
REFLECTANCE_SCALING_FACTOR = 0.000620375
MEX:REFLECTANCE_OFFSET = 0.101407
/* IMAGE OBJECT DEFINITIONS */
OBJECT = IMAGE
  INTERCHANGE_FORMAT = BINARY
  LINES = 27309
  LINE_SAMPLES = 3115
  SAMPLE_TYPE = UNSIGNED_INTEGER
  SAMPLE_BITS = 8
  BANDS = 1
  BAND_STORAGE_TYPE = BAND_SEQUENTIAL
  MAXIMUM = 255
  MEAN = 155.032
  MINIMUM = 1
  STANDARD_DEVIATION = 35.3163
END_OBJECT = IMAGE
/* MAP OBJECT DEFINITIONS */
OBJECT = IMAGE_MAP_PROJECTION
  ^DATA_SET_MAP_PROJECTION_CATALOG= "DSMAP.CAT"
  A_AXIS_RADIUS = 3396.0
  B_AXIS_RADIUS = 3396.0
  C_AXIS_RADIUS = 3396.0
  CENTER_LATITUDE = 0.0
  CENTER_LONGITUDE = 80.0
  COORDINATE_SYSTEM_NAME = PLANETOGRAPHIC
  COORDINATE_SYSTEM_TYPE = "BODY-FIXED ROTATING"
  EASTERNMOST_LONGITUDE = 80.6486
  FIRST_STANDARD_PARALLEL = "N/A"
  LINE_FIRST_PIXEL = 1
  LINE_LAST_PIXEL = 27309
  LINE_PROJECTION_OFFSET = 53048.75
  MAP_PROJECTION_ROTATION = 0.0
  MAP_PROJECTION_TYPE = SINUSOIDAL
  MAP_RESOLUTION = 2370.85521546667
  MAP_SCALE = 0.025
  MAXIMUM_LATITUDE = 22.3843
  MINIMUM_LATITUDE = 10.8249
  POSITIVE_LONGITUDE_DIRECTION = EAST
  REFERENCE_LATITUDE = "N/A"
  REFERENCE_LONGITUDE = "N/A"
  SAMPLE_FIRST_PIXEL = 1
  SAMPLE_LAST_PIXEL = 3115
  SAMPLE_PROJECTION_OFFSET = 1518.25
  SECOND_STANDARD_PARALLEL = "N/A"
  WESTERNMOST_LONGITUDE = 79.3938
END_OBJECT = IMAGE_MAP_PROJECTION
/* The JPEG2000 image data file associated with this label. */
OBJECT = COMPRESSED_FILE
  FILE_NAME = "H5234_0000_S13.JP2"
  RECORD_TYPE = UNDEFINED
  FILE_RECORDS = UNK
  ENCODING_TYPE = "JP2"
  INTERCHANGE_FORMAT = BINARY
  UNCOMPRESSED_FILE_NAME = "H5234_0000_S13.IMG"
  REQUIRED_STORAGE_BYTES = "85089340"
  ^DESCRIPTION = "JP2INFO.TXT"
END_OBJECT = COMPRESSED_FILE
END
