PDS_VERSION_ID = PDS3
/* FILE DATA ELEMENTS */
RECORD_TYPE = STREAM
/* POINTERS TO DATA OBJECTS */
^COMPRESSED_FILE = "H5235_0000_S23.JP2"
/* IDENTIFICATION DATA ELEMENTS */
DATA_SET_ID = "MEX-M-HRSC-5-REFDR-MAPPROJECTED-V3.0"
DATA_SET_NAME = "MARS EXPRESS HRSC MAP PROJECTED REFDR V3.0"
DETECTOR_ID = MEX_HRSC_S2
EVENT_TYPE = "MARS-LOCAL-STEREO-Fl-Eb-Tc"
INSTRUMENT_HOST_ID = MEX
INSTRUMENT_HOST_NAME = "MARS EXPRESS"
INSTRUMENT_ID = HRSC
INSTRUMENT_NAME = "HIGH RESOLUTION STEREO CAMERA"
MISSION_NAME = "MARS EXPRESS"
MISSION_PHASE_NAME = ME_Phase_11
PROCESSING_LEVEL_ID = 3
PRODUCT_CREATION_TIME = 2016-05-13T12:18:58.000Z
PRODUCT_ID = "H5235_0000_S23.JP2"
RELEASE_ID = 0060
REVISION_ID = 0000
/* QUALITY DATA ELEMENTS */
DATA_QUALITY_ID = 2
DATA_QUALITY_DESC = "Data calculated based on photogrammetrically improved orbit and attitude data"
/* TIME DATA ELEMENTS */
SPACECRAFT_CLOCK_START_COUNT = "1/0149690288.08259"
SPACECRAFT_CLOCK_STOP_COUNT = "1/0149690478.34029"
START_TIME = 2008-01-29T12:39:12.298Z
STOP_TIME = 2008-01-29T12:41:20.302Z
/* ORBITAL DATA ELEMENTS */
ASCENDING_NODE_LONGITUDE = 119.24
MAXIMUM_RESOLUTION = 14.2
FOOTPRINT_POINT_LATITUDE = (27.941,27.9391,27.9369,27.9351,27.9332 ,27.9018,27.7333,27.4802,27.2275, 27.0588,26.8904,26.6379,26.4696,26.3015 ,26.1333,25.9653,25.7972,25.545,25.3741 ,25.1204,24.9541,24.7871,24.6193, 24.4519,24.2829,24.1155,23.9533,23.7886 ,23.6214,23.4541,23.2864,23.116,22.9468 ,22.6927,22.5315,22.3656,22.1987, 22.0298,21.777,21.6126,21.4454,21.1968, 21.0309,20.7821,20.6165,20.3685,20.1217 ,19.9542,19.6322,19.6272,19.6249, 19.6262,19.6268,19.6286,19.7936,19.9588 ,20.207,20.3728,20.5381,20.7038,20.9514 ,21.1165,21.2825,21.4519,21.7021,21.863 ,22.0294,22.1961,22.3644,22.5289, 22.6959,22.8651,23.0376,23.2078,23.3753 ,23.5421,23.7923,23.955,24.1203,24.3737 ,24.5434,24.7111,24.9624,25.13,25.2984, 25.4683,25.6362,25.8066,25.9749,26.2272 ,26.3955,26.5654,26.8148,26.9822, 27.1516,27.32,27.4885,27.6572,27.8265, 27.941)
FOOTPRINT_POINT_LONGITUDE = (340.385,340.165,339.919,339.713, 339.519,339.225,339.228,339.233,339.238 ,339.241,339.244,339.248,339.251, 339.253,339.256,339.258,339.261,339.265 ,339.268,339.272,339.274,339.275, 339.277,339.279,339.282,339.284,339.284 ,339.285,339.287,339.288,339.29,339.293 ,339.295,339.298,339.298,339.299,339.3, 339.302,339.304,339.305,339.306,339.307 ,339.308,339.309,339.31,339.311,339.311 ,339.312,339.311,339.66,339.897,340.083 ,340.307,340.575,340.575,340.575, 340.574,340.574,340.574,340.574,340.573 ,340.573,340.573,340.574,340.574, 340.572,340.572,340.572,340.572,340.571 ,340.571,340.572,340.574,340.575, 340.575,340.575,340.574,340.573,340.572 ,340.573,340.573,340.573,340.573, 340.573,340.573,340.573,340.573,340.574 ,340.574,340.574,340.574,340.574, 340.573,340.573,340.573,340.573,340.573 ,340.573,340.573,340.385)
ORBIT_NUMBER = 5235
ORBITAL_ECCENTRICITY = 0.573
ORBITAL_INCLINATION = 86.74
ORBITAL_SEMIMAJOR_AXIS = 8711.22
PERIAPSIS_ALTITUDE = 328.98
PERIAPSIS_ARGUMENT_ANGLE = 157.36
PERIAPSIS_TIME = 2008-01-29T12:40:04.000Z
SPACECRAFT_ORIENTATION = (0.0,-1.0,0.0)
^MEX_ORIENTATION_DESC = "MEX_ORIENTATION_DESC.TXT"
SPACECRAFT_POINTING_MODE = ACROSSTRACK
^MEX_POINTING_DESC = "MEX_POINTING_DESC.TXT"
RIGHT_ASCENSION = -1e+32
DECLINATION = -1e+32
OFFSET_ANGLE = 0.05
SPACECRAFT_SOLAR_DISTANCE = 2.41435e+08
TARGET_NAME = MARS
/* CAMERA DATA ELEMENTS */
DETECTOR_TEMPERATURE = 18.3705
FOCAL_PLANE_TEMPERATURE = 8.5833
INST_CMPRS_NAME = "DISCRETE COSINE TRANSFORMATION (DCT)"
INST_CMPRS_RATIO = 7.82448
INST_CMPRS_QUALITY = 0
INST_CMPRS_QUANTZ_TBL_ID = 0
INSTRUMENT_TEMPERATURE = 10.8262
LENS_TEMPERATURE = 8.5833
MACROPIXEL_SIZE = 1
MISSING_FRAMES = 0
PIXEL_SUBSAMPLING_FLAG = N
SIGNAL_CHAIN_ID = 1
/* RADIOMETRIC DATA ELEMENTS */
BANDWIDTH = 178.0
CENTER_FILTER_WAVELENGTH = 679.0
RADIANCE_OFFSET = 2.40019
RADIANCE_SCALING_FACTOR = 0.0182713
REFLECTANCE_SCALING_FACTOR = 0.000564028
MEX:REFLECTANCE_OFFSET = 0.0740928
/* IMAGE OBJECT DEFINITIONS */
OBJECT = IMAGE
  INTERCHANGE_FORMAT = BINARY
  LINES = 39680
  LINE_SAMPLES = 5999
  SAMPLE_TYPE = UNSIGNED_INTEGER
  SAMPLE_BITS = 8
  BANDS = 1
  BAND_STORAGE_TYPE = BAND_SEQUENTIAL
  MAXIMUM = 255
  MEAN = 99.9353
  MINIMUM = 1
  STANDARD_DEVIATION = 30.8786
END_OBJECT = IMAGE
/* MAP OBJECT DEFINITIONS */
OBJECT = IMAGE_MAP_PROJECTION
  ^DATA_SET_MAP_PROJECTION_CATALOG= "DSMAP.CAT"
  A_AXIS_RADIUS = 3396.0
  B_AXIS_RADIUS = 3396.0
  C_AXIS_RADIUS = 3396.0
  CENTER_LATITUDE = 0.0
  CENTER_LONGITUDE = 340.0
  COORDINATE_SYSTEM_NAME = PLANETOGRAPHIC
  COORDINATE_SYSTEM_TYPE = "BODY-FIXED ROTATING"
  EASTERNMOST_LONGITUDE = 340.575
  FIRST_STANDARD_PARALLEL = "N/A"
  LINE_FIRST_PIXEL = 1
  LINE_LAST_PIXEL = 39680
  LINE_PROJECTION_OFFSET = 132656.0
  MAP_PROJECTION_ROTATION = 0.0
  MAP_PROJECTION_TYPE = SINUSOIDAL
  MAP_RESOLUTION = 4741.71043093333
  MAP_SCALE = 0.0125
  MAXIMUM_LATITUDE = 27.941
  MINIMUM_LATITUDE = 19.6249
  POSITIVE_LONGITUDE_DIRECTION = EAST
  REFERENCE_LATITUDE = "N/A"
  REFERENCE_LONGITUDE = "N/A"
  SAMPLE_FIRST_PIXEL = 1
  SAMPLE_LAST_PIXEL = 5999
  SAMPLE_PROJECTION_OFFSET = 3320.0
  SECOND_STANDARD_PARALLEL = "N/A"
  WESTERNMOST_LONGITUDE = 339.225
END_OBJECT = IMAGE_MAP_PROJECTION
/* The JPEG2000 image data file associated with this label. */
OBJECT = COMPRESSED_FILE
  FILE_NAME = "H5235_0000_S23.JP2"
  RECORD_TYPE = UNDEFINED
  FILE_RECORDS = UNK
  ENCODING_TYPE = "JP2"
  INTERCHANGE_FORMAT = BINARY
  UNCOMPRESSED_FILE_NAME = "H5235_0000_S23.IMG"
  REQUIRED_STORAGE_BYTES = "238070315"
  ^DESCRIPTION = "JP2INFO.TXT"
END_OBJECT = COMPRESSED_FILE
END
