PDS_VERSION_ID = PDS3
/* FILE DATA ELEMENTS */
RECORD_TYPE = STREAM
/* POINTERS TO DATA OBJECTS */
^COMPRESSED_FILE = "H5236_0000_S13.JP2"
/* IDENTIFICATION DATA ELEMENTS */
DATA_SET_ID = "MEX-M-HRSC-5-REFDR-MAPPROJECTED-V3.0"
DATA_SET_NAME = "MARS EXPRESS HRSC MAP PROJECTED REFDR V3.0"
DETECTOR_ID = MEX_HRSC_S1
EVENT_TYPE = "MARS-REGIONAL-MAPPING-Vo-Te"
INSTRUMENT_HOST_ID = MEX
INSTRUMENT_HOST_NAME = "MARS EXPRESS"
INSTRUMENT_ID = HRSC
INSTRUMENT_NAME = "HIGH RESOLUTION STEREO CAMERA"
MISSION_NAME = "MARS EXPRESS"
MISSION_PHASE_NAME = ME_Phase_11
PROCESSING_LEVEL_ID = 3
PRODUCT_CREATION_TIME = 2016-05-13T12:18:58.000Z
PRODUCT_ID = "H5236_0000_S13.JP2"
RELEASE_ID = 0060
REVISION_ID = 0000
/* QUALITY DATA ELEMENTS */
DATA_QUALITY_ID = 2
DATA_QUALITY_DESC = "Data calculated based on photogrammetrically improved orbit and attitude data"
/* TIME DATA ELEMENTS */
SPACECRAFT_CLOCK_START_COUNT = "1/0149714919.08423"
SPACECRAFT_CLOCK_STOP_COUNT = "1/0149715183.64209"
START_TIME = 2008-01-29T19:28:42.942Z
STOP_TIME = 2008-01-29T19:32:04.425Z
/* ORBITAL DATA ELEMENTS */
ASCENDING_NODE_LONGITUDE = 119.22
MAXIMUM_RESOLUTION = 27.7
FOOTPRINT_POINT_LATITUDE = (28.0996,28.0924,28.0847,28.0765, 28.0677,27.9178,27.653,27.3878,26.9967, 26.7392,26.4815,26.2236,25.9657,25.7076 ,25.4489,25.0606,24.8014,24.5421, 24.2827,24.0226,23.7623,23.372,23.111, 22.8501,22.5888,22.3274,22.0661,21.8045 ,21.5426,21.2807,21.0187,20.7569, 20.3632,20.1007,19.838,19.5749,19.3118, 18.9172,18.654,18.3911,18.1272,17.8639, 17.469,17.2057,16.812,16.549,16.1532, 15.8886,15.6227,15.3587,14.9595,14.9681 ,14.9734,14.9802,15.1215,15.3863, 15.6509,16.0477,16.3122,16.7089,16.9734 ,17.2376,17.5016,17.8974,18.1612, 18.4247,18.6883,18.9517,19.2146,19.4781 ,19.7412,20.0042,20.2674,20.5299, 20.9238,21.3174,21.7107,21.973,22.2349, 22.4963,22.8886,23.2805,23.5415,23.8024 ,24.0628,24.3229,24.5832,24.8429, 25.2324,25.4914,25.7501,26.1382,26.3966 ,26.6545,26.9121,27.1699,27.4318, 27.6978,28.0959,28.0996)
FOOTPRINT_POINT_LONGITUDE = (239.601,239.394,239.186,238.977, 238.767,238.641,238.649,238.656,238.665 ,238.672,238.678,238.684,238.69,238.696 ,238.702,238.71,238.715,238.72,238.725, 238.729,238.734,238.741,238.745,238.749 ,238.752,238.756,238.759,238.763, 238.766,238.769,238.772,238.775,238.779 ,238.782,238.784,238.787,238.789, 238.792,238.794,238.796,238.797,238.799 ,238.801,238.803,238.805,238.807, 238.808,238.809,238.808,238.809,238.927 ,239.21,239.397,239.653,240.015,240.014 ,240.014,240.013,240.013,240.012, 240.011,240.011,240.01,240.01,240.009, 240.009,240.008,240.008,240.007,240.007 ,240.006,240.006,240.005,240.005, 240.004,240.003,240.003,240.002,240.001 ,240.001,240.0,239.999,239.999,239.998, 239.997,239.997,239.996,239.996,239.995 ,239.994,239.993,239.993,239.992, 239.991,239.991,239.99,239.989,239.988, 239.987,239.601)
ORBIT_NUMBER = 5236
ORBITAL_ECCENTRICITY = 0.574
ORBITAL_INCLINATION = 86.73
ORBITAL_SEMIMAJOR_AXIS = 8725.95
PERIAPSIS_ALTITUDE = 328.41
PERIAPSIS_ARGUMENT_ANGLE = 157.18
PERIAPSIS_TIME = 2008-01-29T19:30:34.000Z
SPACECRAFT_ORIENTATION = (0.0,-1.0,0.0)
^MEX_ORIENTATION_DESC = "MEX_ORIENTATION_DESC.TXT"
SPACECRAFT_POINTING_MODE = ACROSSTRACK
^MEX_POINTING_DESC = "MEX_POINTING_DESC.TXT"
RIGHT_ASCENSION = -1e+32
DECLINATION = -1e+32
OFFSET_ANGLE = -0.4
SPACECRAFT_SOLAR_DISTANCE = 2.41476e+08
TARGET_NAME = MARS
/* CAMERA DATA ELEMENTS */
DETECTOR_TEMPERATURE = 17.351
FOCAL_PLANE_TEMPERATURE = 7.7677
INST_CMPRS_NAME = "DISCRETE COSINE TRANSFORMATION (DCT)"
INST_CMPRS_RATIO = 7.92126
INST_CMPRS_QUALITY = 0
INST_CMPRS_QUANTZ_TBL_ID = 0
INSTRUMENT_TEMPERATURE = 11.0301
LENS_TEMPERATURE = 8.3794
MACROPIXEL_SIZE = 2
MISSING_FRAMES = 0
PIXEL_SUBSAMPLING_FLAG = N
SIGNAL_CHAIN_ID = 1
/* RADIOMETRIC DATA ELEMENTS */
BANDWIDTH = 180.0
CENTER_FILTER_WAVELENGTH = 677.0
RADIANCE_OFFSET = 3.86929
RADIANCE_SCALING_FACTOR = 0.0253767
REFLECTANCE_SCALING_FACTOR = 0.00077201
MEX:REFLECTANCE_OFFSET = 0.117712
/* IMAGE OBJECT DEFINITIONS */
OBJECT = IMAGE
  INTERCHANGE_FORMAT = BINARY
  LINES = 31108
  LINE_SAMPLES = 3273
  SAMPLE_TYPE = UNSIGNED_INTEGER
  SAMPLE_BITS = 8
  BANDS = 1
  BAND_STORAGE_TYPE = BAND_SEQUENTIAL
  MAXIMUM = 255
  MEAN = 148.656
  MINIMUM = 1
  STANDARD_DEVIATION = 13.9891
END_OBJECT = IMAGE
/* MAP OBJECT DEFINITIONS */
OBJECT = IMAGE_MAP_PROJECTION
  ^DATA_SET_MAP_PROJECTION_CATALOG= "DSMAP.CAT"
  A_AXIS_RADIUS = 3396.0
  B_AXIS_RADIUS = 3396.0
  C_AXIS_RADIUS = 3396.0
  CENTER_LATITUDE = 0.0
  CENTER_LONGITUDE = 239.0
  COORDINATE_SYSTEM_NAME = PLANETOGRAPHIC
  COORDINATE_SYSTEM_TYPE = "BODY-FIXED ROTATING"
  EASTERNMOST_LONGITUDE = 240.015
  FIRST_STANDARD_PARALLEL = "N/A"
  LINE_FIRST_PIXEL = 1
  LINE_LAST_PIXEL = 31108
  LINE_PROJECTION_OFFSET = 66557.75
  MAP_PROJECTION_ROTATION = 0.0
  MAP_PROJECTION_TYPE = SINUSOIDAL
  MAP_RESOLUTION = 2370.85521546667
  MAP_SCALE = 0.025
  MAXIMUM_LATITUDE = 28.0996
  MINIMUM_LATITUDE = 14.9595
  POSITIVE_LONGITUDE_DIRECTION = EAST
  REFERENCE_LATITUDE = "N/A"
  REFERENCE_LONGITUDE = "N/A"
  SAMPLE_FIRST_PIXEL = 1
  SAMPLE_LAST_PIXEL = 3273
  SAMPLE_PROJECTION_OFFSET = 892.25
  SECOND_STANDARD_PARALLEL = "N/A"
  WESTERNMOST_LONGITUDE = 238.641
END_OBJECT = IMAGE_MAP_PROJECTION
/* The JPEG2000 image data file associated with this label. */
OBJECT = COMPRESSED_FILE
  FILE_NAME = "H5236_0000_S13.JP2"
  RECORD_TYPE = UNDEFINED
  FILE_RECORDS = UNK
  ENCODING_TYPE = "JP2"
  INTERCHANGE_FORMAT = BINARY
  UNCOMPRESSED_FILE_NAME = "H5236_0000_S13.IMG"
  REQUIRED_STORAGE_BYTES = "101839395"
  ^DESCRIPTION = "JP2INFO.TXT"
END_OBJECT = COMPRESSED_FILE
END
