PDS_VERSION_ID = PDS3
/* FILE DATA ELEMENTS */
RECORD_TYPE = STREAM
/* POINTERS TO DATA OBJECTS */
^COMPRESSED_FILE = "H5238_0000_IR3.JP2"
/* IDENTIFICATION DATA ELEMENTS */
DATA_SET_ID = "MEX-M-HRSC-5-REFDR-MAPPROJECTED-V3.0"
DATA_SET_NAME = "MARS EXPRESS HRSC MAP PROJECTED REFDR V3.0"
DETECTOR_ID = MEX_HRSC_IR
EVENT_TYPE = "MARS-REGIONAL-MAPPING-Im-Fl"
INSTRUMENT_HOST_ID = MEX
INSTRUMENT_HOST_NAME = "MARS EXPRESS"
INSTRUMENT_ID = HRSC
INSTRUMENT_NAME = "HIGH RESOLUTION STEREO CAMERA"
MISSION_NAME = "MARS EXPRESS"
MISSION_PHASE_NAME = ME_Phase_11
PROCESSING_LEVEL_ID = 3
PRODUCT_CREATION_TIME = 2016-05-13T12:18:58.000Z
PRODUCT_ID = "H5238_0000_IR3.JP2"
RELEASE_ID = 0060
REVISION_ID = 0000
/* QUALITY DATA ELEMENTS */
DATA_QUALITY_ID = 1
DATA_QUALITY_DESC = "Data calculated based on original SPICE kernels"
/* TIME DATA ELEMENTS */
SPACECRAFT_CLOCK_START_COUNT = "1/0149764245.07285"
SPACECRAFT_CLOCK_STOP_COUNT = "1/0149764629.64980"
START_TIME = 2008-01-30T09:10:53.961Z
STOP_TIME = 2008-01-30T09:16:02.692Z
/* ORBITAL DATA ELEMENTS */
ASCENDING_NODE_LONGITUDE = 119.17
MAXIMUM_RESOLUTION = 54.8
FOOTPRINT_POINT_LATITUDE = (24.5712,24.5701,24.5647,24.1537, 23.7725,23.3864,23.001,22.4217,22.0352, 21.4551,21.0625,20.6741,20.286,19.708, 19.3192,18.7337,18.1507,17.7609,17.3721 ,16.9829,16.3968,16.0058,15.6171, 15.2234,14.6409,14.2485,13.6471,13.2429 ,12.6367,12.232,11.8312,11.2243,10.8193 ,10.2125,9.80756,9.40402,9.00019, 8.59711,8.18791,7.58383,7.17856,6.72713 ,6.25275,6.01276,5.7731,5.53364,5.05482 ,4.58033,4.30593,4.30398,4.30013, 4.29563,4.53643,5.01442,5.25468,5.4953, 5.73624,6.20838,6.4489,6.6896,6.93056, 7.35179,7.75991,8.16218,8.56643,9.17183 ,9.77874,10.1787,10.5858,11.1926, 11.5955,11.999,12.4035,13.01,13.415, 13.8194,14.2207,14.6131,15.0048,15.395, 15.7867,16.1771,16.7632,17.1537,17.5444 ,17.9342,18.3245,18.7132,19.1032, 19.6882,20.2723,20.6617,21.0494,21.6313 ,22.2123,22.7927,23.3719,23.7577, 24.3361,24.5712)
FOOTPRINT_POINT_LONGITUDE = (40.1375,39.8092,39.1644,39.0286, 39.0355,39.0402,39.0451,39.0517,39.0556 ,39.0613,39.0625,39.0651,39.0678,39.073 ,39.0749,39.0765,39.0786,39.0794, 39.0803,39.0809,39.0806,39.0799,39.0801 ,39.078,39.0776,39.0756,39.0729,39.0707 ,39.0669,39.0639,39.0621,39.0568, 39.0528,39.0465,39.0419,39.0376,39.0328 ,39.0281,39.0208,39.013,39.0064,38.9998 ,38.9948,38.991,38.9873,38.9836,38.9758 ,38.9693,39.1506,39.439,39.7653,40.3099 ,40.3086,40.3075,40.3065,40.3055, 40.3045,40.3061,40.3053,40.3046,40.3037 ,40.3013,40.2986,40.2981,40.297,40.296, 40.2946,40.2955,40.2938,40.2929,40.2931 ,40.293,40.2926,40.2921,40.2917,40.2915 ,40.2911,40.2906,40.2903,40.2905, 40.2903,40.2904,40.2905,40.2906,40.2906 ,40.2909,40.291,40.2917,40.2918,40.2918 ,40.292,40.292,40.2926,40.2933,40.294, 40.2947,40.2957,40.2963,40.297,40.1375)
ORBIT_NUMBER = 5238
ORBITAL_ECCENTRICITY = 0.573
ORBITAL_INCLINATION = 86.73
ORBITAL_SEMIMAJOR_AXIS = 8718.93
PERIAPSIS_ALTITUDE = 329.04
PERIAPSIS_ARGUMENT_ANGLE = 156.86
PERIAPSIS_TIME = 2008-01-30T09:11:40.000Z
SPACECRAFT_ORIENTATION = (0.0,-1.0,0.0)
^MEX_ORIENTATION_DESC = "MEX_ORIENTATION_DESC.TXT"
SPACECRAFT_POINTING_MODE = NADIR
^MEX_POINTING_DESC = "MEX_POINTING_DESC.TXT"
RIGHT_ASCENSION = -1e+32
DECLINATION = -1e+32
OFFSET_ANGLE = -1e+32
SPACECRAFT_SOLAR_DISTANCE = 2.41556e+08
TARGET_NAME = MARS
/* CAMERA DATA ELEMENTS */
DETECTOR_TEMPERATURE = 17.351
FOCAL_PLANE_TEMPERATURE = 8.1755
INST_CMPRS_NAME = "DISCRETE COSINE TRANSFORMATION (DCT)"
INST_CMPRS_RATIO = 8.85313
INST_CMPRS_QUALITY = 0
INST_CMPRS_QUANTZ_TBL_ID = 0
INSTRUMENT_TEMPERATURE = 11.234
LENS_TEMPERATURE = 8.7872
MACROPIXEL_SIZE = 4
MISSING_FRAMES = 0
PIXEL_SUBSAMPLING_FLAG = N
SIGNAL_CHAIN_ID = 2
/* RADIOMETRIC DATA ELEMENTS */
BANDWIDTH = 81.0
CENTER_FILTER_WAVELENGTH = 955.5
RADIANCE_OFFSET = 1.19721
RADIANCE_SCALING_FACTOR = 0.00552632
REFLECTANCE_SCALING_FACTOR = 0.000695664
MEX:REFLECTANCE_OFFSET = 0.150707
/* IMAGE OBJECT DEFINITIONS */
OBJECT = IMAGE
  INTERCHANGE_FORMAT = BINARY
  LINES = 24037
  LINE_SAMPLES = 1748
  SAMPLE_TYPE = UNSIGNED_INTEGER
  SAMPLE_BITS = 8
  BANDS = 1
  BAND_STORAGE_TYPE = BAND_SEQUENTIAL
  MAXIMUM = 255
  MEAN = 126.546
  MINIMUM = 1
  STANDARD_DEVIATION = 17.7453
END_OBJECT = IMAGE
/* MAP OBJECT DEFINITIONS */
OBJECT = IMAGE_MAP_PROJECTION
  ^DATA_SET_MAP_PROJECTION_CATALOG= "DSMAP.CAT"
  A_AXIS_RADIUS = 3396.0
  B_AXIS_RADIUS = 3396.0
  C_AXIS_RADIUS = 3396.0
  CENTER_LATITUDE = 0.0
  CENTER_LONGITUDE = 40.0
  COORDINATE_SYSTEM_NAME = PLANETOGRAPHIC
  COORDINATE_SYSTEM_TYPE = "BODY-FIXED ROTATING"
  EASTERNMOST_LONGITUDE = 40.3099
  FIRST_STANDARD_PARALLEL = "N/A"
  LINE_FIRST_PIXEL = 1
  LINE_LAST_PIXEL = 24037
  LINE_PROJECTION_OFFSET = 29116.625
  MAP_PROJECTION_ROTATION = 0.0
  MAP_PROJECTION_TYPE = SINUSOIDAL
  MAP_RESOLUTION = 1185.42760773333
  MAP_SCALE = 0.05
  MAXIMUM_LATITUDE = 24.5712
  MINIMUM_LATITUDE = 4.29563
  POSITIVE_LONGITUDE_DIRECTION = EAST
  REFERENCE_LATITUDE = "N/A"
  REFERENCE_LONGITUDE = "N/A"
  SAMPLE_FIRST_PIXEL = 1
  SAMPLE_LAST_PIXEL = 1748
  SAMPLE_PROJECTION_OFFSET = 1305.125
  SECOND_STANDARD_PARALLEL = "N/A"
  WESTERNMOST_LONGITUDE = 38.9693
END_OBJECT = IMAGE_MAP_PROJECTION
/* The JPEG2000 image data file associated with this label. */
OBJECT = COMPRESSED_FILE
  FILE_NAME = "H5238_0000_IR3.JP2"
  RECORD_TYPE = UNDEFINED
  FILE_RECORDS = UNK
  ENCODING_TYPE = "JP2"
  INTERCHANGE_FORMAT = BINARY
  UNCOMPRESSED_FILE_NAME = "H5238_0000_IR3.IMG"
  REQUIRED_STORAGE_BYTES = "42035904"
  ^DESCRIPTION = "JP2INFO.TXT"
END_OBJECT = COMPRESSED_FILE
END
