PDS_VERSION_ID = PDS3
/* FILE DATA ELEMENTS */
RECORD_TYPE = STREAM
/* POINTERS TO DATA OBJECTS */
^COMPRESSED_FILE = "H5238_0000_RE3.JP2"
/* IDENTIFICATION DATA ELEMENTS */
DATA_SET_ID = "MEX-M-HRSC-5-REFDR-MAPPROJECTED-V3.0"
DATA_SET_NAME = "MARS EXPRESS HRSC MAP PROJECTED REFDR V3.0"
DETECTOR_ID = MEX_HRSC_RED
EVENT_TYPE = "MARS-REGIONAL-MAPPING-Im-Fl"
INSTRUMENT_HOST_ID = MEX
INSTRUMENT_HOST_NAME = "MARS EXPRESS"
INSTRUMENT_ID = HRSC
INSTRUMENT_NAME = "HIGH RESOLUTION STEREO CAMERA"
MISSION_NAME = "MARS EXPRESS"
MISSION_PHASE_NAME = ME_Phase_11
PROCESSING_LEVEL_ID = 3
PRODUCT_CREATION_TIME = 2016-05-13T12:18:58.000Z
PRODUCT_ID = "H5238_0000_RE3.JP2"
RELEASE_ID = 0060
REVISION_ID = 0000
/* QUALITY DATA ELEMENTS */
DATA_QUALITY_ID = 1
DATA_QUALITY_DESC = "Data calculated based on original SPICE kernels"
/* TIME DATA ELEMENTS */
SPACECRAFT_CLOCK_START_COUNT = "1/0149764245.07285"
SPACECRAFT_CLOCK_STOP_COUNT = "1/0149764629.64980"
START_TIME = 2008-01-30T09:11:42.809Z
STOP_TIME = 2008-01-30T09:17:04.850Z
/* ORBITAL DATA ELEMENTS */
ASCENDING_NODE_LONGITUDE = 119.17
MAXIMUM_RESOLUTION = 55.2
FOOTPRINT_POINT_LATITUDE = (24.5361,24.5343,24.5327,24.3604, 23.9681,23.383,22.9935,22.6041,22.2161, 21.8276,21.4404,21.0579,20.6717,20.2851 ,19.8939,19.5092,19.1252,18.5494, 18.1653,17.7826,17.2013,16.8065,16.4141 ,16.0217,15.6276,15.2381,14.843,14.4545 ,14.0649,13.6778,13.0973,12.7082,12.129 ,11.5481,10.9744,10.5914,10.3634,9.91, 9.45607,9.00357,8.55176,8.10737,7.87903 ,7.21243,6.54235,6.09305,5.64824, 5.20716,4.97905,4.75083,4.29777,4.27376 ,4.27146,4.27004,4.26865,4.71871, 5.39292,5.83446,6.28756,6.73254,7.17804 ,7.61881,8.06863,8.51891,8.97057, 9.42326,9.87698,10.336,10.7573,11.3343, 11.9129,12.2983,12.8789,13.2662,13.6532 ,14.0436,14.4321,14.8216,15.2135, 15.8012,16.3913,16.7851,17.1793,17.7602 ,18.1429,18.72,19.2964,19.6808,20.0661, 20.4516,20.8383,21.2262,21.8075,22.3902 ,22.7792,23.1695,23.7539,24.1437, 24.5335,24.5361)
FOOTPRINT_POINT_LONGITUDE = (39.9713,39.5381,39.1987,39.0241, 39.0295,39.0361,39.04,39.0437,39.0466, 39.0497,39.052,39.0525,39.0542,39.056, 39.0594,39.0602,39.0607,39.0613,39.0616 ,39.0613,39.0613,39.0606,39.0591, 39.0575,39.0565,39.0538,39.0531,39.0501 ,39.0474,39.0439,39.0386,39.0358, 39.0301,39.0251,39.0178,39.013,39.0101, 39.0034,38.9969,38.9901,38.9832,38.9739 ,38.9714,38.9578,38.9458,38.9389, 38.9307,38.9213,38.9174,38.9133,38.9042 ,39.1335,39.4332,39.897,40.366,40.3621, 40.3574,40.3539,40.3541,40.3511,40.3478 ,40.3425,40.3401,40.3375,40.335,40.3326 ,40.3302,40.3294,40.3266,40.3247, 40.3229,40.3213,40.3194,40.3179,40.3161 ,40.3154,40.3137,40.3121,40.3113, 40.3095,40.3083,40.3073,40.3063,40.3052 ,40.3042,40.3037,40.3024,40.3014, 40.3006,40.2997,40.2991,40.2988,40.2978 ,40.2971,40.2967,40.2966,40.2958, 40.2952,40.2945,39.9713)
ORBIT_NUMBER = 5238
ORBITAL_ECCENTRICITY = 0.573
ORBITAL_INCLINATION = 86.73
ORBITAL_SEMIMAJOR_AXIS = 8718.93
PERIAPSIS_ALTITUDE = 329.04
PERIAPSIS_ARGUMENT_ANGLE = 156.86
PERIAPSIS_TIME = 2008-01-30T09:11:40.000Z
SPACECRAFT_ORIENTATION = (0.0,-1.0,0.0)
^MEX_ORIENTATION_DESC = "MEX_ORIENTATION_DESC.TXT"
SPACECRAFT_POINTING_MODE = NADIR
^MEX_POINTING_DESC = "MEX_POINTING_DESC.TXT"
RIGHT_ASCENSION = -1e+32
DECLINATION = -1e+32
OFFSET_ANGLE = -1e+32
SPACECRAFT_SOLAR_DISTANCE = 2.41556e+08
TARGET_NAME = MARS
/* CAMERA DATA ELEMENTS */
DETECTOR_TEMPERATURE = 18.5744
FOCAL_PLANE_TEMPERATURE = 8.1755
INST_CMPRS_NAME = "DISCRETE COSINE TRANSFORMATION (DCT)"
INST_CMPRS_RATIO = 12.591
INST_CMPRS_QUALITY = 0
INST_CMPRS_QUANTZ_TBL_ID = 0
INSTRUMENT_TEMPERATURE = 11.234
LENS_TEMPERATURE = 8.7872
MACROPIXEL_SIZE = 4
MISSING_FRAMES = 0
PIXEL_SUBSAMPLING_FLAG = N
SIGNAL_CHAIN_ID = 2
/* RADIOMETRIC DATA ELEMENTS */
BANDWIDTH = 48.0
CENTER_FILTER_WAVELENGTH = 748.0
RADIANCE_OFFSET = 1.24869
RADIANCE_SCALING_FACTOR = 0.00569521
REFLECTANCE_SCALING_FACTOR = 0.000758357
MEX:REFLECTANCE_OFFSET = 0.166272
/* IMAGE OBJECT DEFINITIONS */
OBJECT = IMAGE
  INTERCHANGE_FORMAT = BINARY
  LINES = 24037
  LINE_SAMPLES = 1748
  SAMPLE_TYPE = UNSIGNED_INTEGER
  SAMPLE_BITS = 8
  BANDS = 1
  BAND_STORAGE_TYPE = BAND_SEQUENTIAL
  MAXIMUM = 255
  MEAN = 129.259
  MINIMUM = 1
  STANDARD_DEVIATION = 18.0406
END_OBJECT = IMAGE
/* MAP OBJECT DEFINITIONS */
OBJECT = IMAGE_MAP_PROJECTION
  ^DATA_SET_MAP_PROJECTION_CATALOG= "DSMAP.CAT"
  A_AXIS_RADIUS = 3396.0
  B_AXIS_RADIUS = 3396.0
  C_AXIS_RADIUS = 3396.0
  CENTER_LATITUDE = 0.0
  CENTER_LONGITUDE = 40.0
  COORDINATE_SYSTEM_NAME = PLANETOGRAPHIC
  COORDINATE_SYSTEM_TYPE = "BODY-FIXED ROTATING"
  EASTERNMOST_LONGITUDE = 40.366
  FIRST_STANDARD_PARALLEL = "N/A"
  LINE_FIRST_PIXEL = 1
  LINE_LAST_PIXEL = 24037
  LINE_PROJECTION_OFFSET = 29116.625
  MAP_PROJECTION_ROTATION = 0.0
  MAP_PROJECTION_TYPE = SINUSOIDAL
  MAP_RESOLUTION = 1185.42760773333
  MAP_SCALE = 0.05
  MAXIMUM_LATITUDE = 24.5361
  MINIMUM_LATITUDE = 4.26865
  POSITIVE_LONGITUDE_DIRECTION = EAST
  REFERENCE_LATITUDE = "N/A"
  REFERENCE_LONGITUDE = "N/A"
  SAMPLE_FIRST_PIXEL = 1
  SAMPLE_LAST_PIXEL = 1748
  SAMPLE_PROJECTION_OFFSET = 1305.125
  SECOND_STANDARD_PARALLEL = "N/A"
  WESTERNMOST_LONGITUDE = 38.9042
END_OBJECT = IMAGE_MAP_PROJECTION
/* The JPEG2000 image data file associated with this label. */
OBJECT = COMPRESSED_FILE
  FILE_NAME = "H5238_0000_RE3.JP2"
  RECORD_TYPE = UNDEFINED
  FILE_RECORDS = UNK
  ENCODING_TYPE = "JP2"
  INTERCHANGE_FORMAT = BINARY
  UNCOMPRESSED_FILE_NAME = "H5238_0000_RE3.IMG"
  REQUIRED_STORAGE_BYTES = "42035904"
  ^DESCRIPTION = "JP2INFO.TXT"
END_OBJECT = COMPRESSED_FILE
END
