PDS_VERSION_ID = PDS3
/* FILE DATA ELEMENTS */
RECORD_TYPE = STREAM
/* POINTERS TO DATA OBJECTS */
^COMPRESSED_FILE = "H5239_0009_ND3.JP2"
/* IDENTIFICATION DATA ELEMENTS */
DATA_SET_ID = "MEX-M-HRSC-5-REFDR-MAPPROJECTED-V3.0"
DATA_SET_NAME = "MARS EXPRESS HRSC MAP PROJECTED REFDR V3.0"
DETECTOR_ID = MEX_HRSC_NADIR
EVENT_TYPE = "MARS-REGIONAL-MAPPING-Vo-Te"
INSTRUMENT_HOST_ID = MEX
INSTRUMENT_HOST_NAME = "MARS EXPRESS"
INSTRUMENT_ID = HRSC
INSTRUMENT_NAME = "HIGH RESOLUTION STEREO CAMERA"
MISSION_NAME = "MARS EXPRESS"
MISSION_PHASE_NAME = ME_Phase_11
PROCESSING_LEVEL_ID = 3
PRODUCT_CREATION_TIME = 2016-05-13T12:18:58.000Z
PRODUCT_ID = "H5239_0009_ND3.JP2"
RELEASE_ID = 0060
REVISION_ID = 0000
/* QUALITY DATA ELEMENTS */
DATA_QUALITY_ID = 1
DATA_QUALITY_DESC = "Data calculated based on original SPICE kernels"
/* TIME DATA ELEMENTS */
SPACECRAFT_CLOCK_START_COUNT = "1/0149788366.09048"
SPACECRAFT_CLOCK_STOP_COUNT = "1/0149788604.57300"
START_TIME = 2008-01-30T15:53:51.057Z
STOP_TIME = 2008-01-30T15:56:06.064Z
/* ORBITAL DATA ELEMENTS */
ASCENDING_NODE_LONGITUDE = 119.15
MAXIMUM_RESOLUTION = 18.2
FOOTPRINT_POINT_LATITUDE = (55.0382,55.0269,55.0187,55.0039, 54.9869,54.9728,54.9547,54.7713,54.5088 ,54.3363,54.1634,53.9904,53.8187, 53.6486,53.4783,53.3077,53.1385,52.971, 52.8033,52.6354,52.4676,52.3027,52.1377 ,51.9725,51.807,51.562,51.3995,51.2369, 51.0741,50.9126,50.7529,50.593,50.433, 50.2728,50.1141,49.9571,49.8,49.6426, 49.4851,49.3278,49.1736,49.0191,48.8645 ,48.7097,48.4779,48.1747,47.8709, 47.5675,47.2697,46.8849,46.8992,46.907, 46.9157,46.9231,46.9295,47.0097,47.3093 ,47.6084,47.9129,48.0656,48.2181, 48.3706,48.5229,48.7556,48.9111,49.0665 ,49.2217,49.3769,49.614,49.7722,49.9304 ,50.0884,50.2462,50.4072,50.5682, 50.7291,50.8899,51.0504,51.2142,51.4598 ,51.6233,51.7866,52.0361,52.2024, 52.3686,52.5346,52.7878,52.9568,53.1256 ,53.2943,53.466,53.6377,53.8092,53.9804 ,54.1548,54.4162,54.5901,54.8544, 55.0313,55.0382)
FOOTPRINT_POINT_LONGITUDE = (300.188,299.666,299.34,298.82,298.303, 297.915,297.464,297.248,297.293,297.323 ,297.352,297.38,297.409,297.436,297.464 ,297.492,297.519,297.544,297.57,297.595 ,297.62,297.644,297.667,297.691,297.714 ,297.747,297.77,297.792,297.813,297.835 ,297.856,297.877,297.897,297.917, 297.937,297.956,297.975,297.994,298.013 ,298.03,298.047,298.064,298.083,298.101 ,298.127,298.159,298.191,298.222, 298.252,298.381,298.861,299.159,299.527 ,299.896,300.268,300.628,300.629, 300.629,300.629,300.63,300.63,300.63, 300.631,300.631,300.631,300.631,300.632 ,300.632,300.632,300.632,300.633, 300.633,300.633,300.633,300.633,300.634 ,300.635,300.634,300.633,300.634, 300.634,300.634,300.633,300.633,300.633 ,300.632,300.633,300.633,300.632, 300.632,300.631,300.631,300.631,300.63, 300.63,300.629,300.628,300.627,300.627, 300.188)
ORBIT_NUMBER = 5239
ORBITAL_ECCENTRICITY = 0.573
ORBITAL_INCLINATION = 86.73
ORBITAL_SEMIMAJOR_AXIS = 8714.77
PERIAPSIS_ALTITUDE = 329.21
PERIAPSIS_ARGUMENT_ANGLE = 156.69
PERIAPSIS_TIME = 2008-01-30T16:02:14.000Z
SPACECRAFT_ORIENTATION = (0.0,-1.0,0.0)
^MEX_ORIENTATION_DESC = "MEX_ORIENTATION_DESC.TXT"
SPACECRAFT_POINTING_MODE = ACROSSTRACK
^MEX_POINTING_DESC = "MEX_POINTING_DESC.TXT"
RIGHT_ASCENSION = -1e+32
DECLINATION = -1e+32
OFFSET_ANGLE = 0.3
SPACECRAFT_SOLAR_DISTANCE = 2.41597e+08
TARGET_NAME = MARS
/* CAMERA DATA ELEMENTS */
DETECTOR_TEMPERATURE = 18.3705
FOCAL_PLANE_TEMPERATURE = 8.7872
INST_CMPRS_NAME = "DISCRETE COSINE TRANSFORMATION (DCT)"
INST_CMPRS_RATIO = 6.83507
INST_CMPRS_QUALITY = 0
INST_CMPRS_QUANTZ_TBL_ID = 0
INSTRUMENT_TEMPERATURE = 11.6418
LENS_TEMPERATURE = 9.6028
MACROPIXEL_SIZE = 1
MISSING_FRAMES = 0
PIXEL_SUBSAMPLING_FLAG = N
SIGNAL_CHAIN_ID = 0
/* RADIOMETRIC DATA ELEMENTS */
BANDWIDTH = 177.0
CENTER_FILTER_WAVELENGTH = 677.5
RADIANCE_OFFSET = 2.49542
RADIANCE_SCALING_FACTOR = 0.0168118
REFLECTANCE_SCALING_FACTOR = 0.000521286
MEX:REFLECTANCE_OFFSET = 0.077376
/* IMAGE OBJECT DEFINITIONS */
OBJECT = IMAGE
  INTERCHANGE_FORMAT = BINARY
  LINES = 38716
  LINE_SAMPLES = 10159
  SAMPLE_TYPE = UNSIGNED_INTEGER
  SAMPLE_BITS = 8
  BANDS = 1
  BAND_STORAGE_TYPE = BAND_SEQUENTIAL
  MAXIMUM = 255
  MEAN = 116.506
  MINIMUM = 1
  STANDARD_DEVIATION = 18.6348
END_OBJECT = IMAGE
/* MAP OBJECT DEFINITIONS */
OBJECT = IMAGE_MAP_PROJECTION
  ^DATA_SET_MAP_PROJECTION_CATALOG= "DSMAP.CAT"
  A_AXIS_RADIUS = 3396.0
  B_AXIS_RADIUS = 3396.0
  C_AXIS_RADIUS = 3396.0
  CENTER_LATITUDE = 0.0
  CENTER_LONGITUDE = 299.0
  COORDINATE_SYSTEM_NAME = PLANETOGRAPHIC
  COORDINATE_SYSTEM_TYPE = "BODY-FIXED ROTATING"
  EASTERNMOST_LONGITUDE = 300.635
  FIRST_STANDARD_PARALLEL = "N/A"
  LINE_FIRST_PIXEL = 1
  LINE_LAST_PIXEL = 38716
  LINE_PROJECTION_OFFSET = 261011.0
  MAP_PROJECTION_ROTATION = 0.0
  MAP_PROJECTION_TYPE = SINUSOIDAL
  MAP_RESOLUTION = 4741.71043093333
  MAP_SCALE = 0.0125
  MAXIMUM_LATITUDE = 55.0382
  MINIMUM_LATITUDE = 46.8849
  POSITIVE_LONGITUDE_DIRECTION = EAST
  REFERENCE_LATITUDE = "N/A"
  REFERENCE_LONGITUDE = "N/A"
  SAMPLE_FIRST_PIXEL = 1
  SAMPLE_LAST_PIXEL = 10159
  SAMPLE_PROJECTION_OFFSET = 4777.0
  SECOND_STANDARD_PARALLEL = "N/A"
  WESTERNMOST_LONGITUDE = 297.248
END_OBJECT = IMAGE_MAP_PROJECTION
/* The JPEG2000 image data file associated with this label. */
OBJECT = COMPRESSED_FILE
  FILE_NAME = "H5239_0009_ND3.JP2"
  RECORD_TYPE = UNDEFINED
  FILE_RECORDS = UNK
  ENCODING_TYPE = "JP2"
  INTERCHANGE_FORMAT = BINARY
  UNCOMPRESSED_FILE_NAME = "H5239_0009_ND3.IMG"
  REQUIRED_STORAGE_BYTES = "393346321"
  ^DESCRIPTION = "JP2INFO.TXT"
END_OBJECT = COMPRESSED_FILE
END
