PDS_VERSION_ID = PDS3
/* FILE DATA ELEMENTS */
RECORD_TYPE = STREAM
/* POINTERS TO DATA OBJECTS */
^COMPRESSED_FILE = "H5239_0009_P23.JP2"
/* IDENTIFICATION DATA ELEMENTS */
DATA_SET_ID = "MEX-M-HRSC-5-REFDR-MAPPROJECTED-V3.0"
DATA_SET_NAME = "MARS EXPRESS HRSC MAP PROJECTED REFDR V3.0"
DETECTOR_ID = MEX_HRSC_P2
EVENT_TYPE = "MARS-REGIONAL-MAPPING-Vo-Te"
INSTRUMENT_HOST_ID = MEX
INSTRUMENT_HOST_NAME = "MARS EXPRESS"
INSTRUMENT_ID = HRSC
INSTRUMENT_NAME = "HIGH RESOLUTION STEREO CAMERA"
MISSION_NAME = "MARS EXPRESS"
MISSION_PHASE_NAME = ME_Phase_11
PROCESSING_LEVEL_ID = 3
PRODUCT_CREATION_TIME = 2016-05-13T12:18:58.000Z
PRODUCT_ID = "H5239_0009_P23.JP2"
RELEASE_ID = 0060
REVISION_ID = 0000
/* QUALITY DATA ELEMENTS */
DATA_QUALITY_ID = 1
DATA_QUALITY_DESC = "Data calculated based on original SPICE kernels"
/* TIME DATA ELEMENTS */
SPACECRAFT_CLOCK_START_COUNT = "1/0149788366.09048"
SPACECRAFT_CLOCK_STOP_COUNT = "1/0149788604.57300"
START_TIME = 2008-01-30T15:54:25.316Z
STOP_TIME = 2008-01-30T15:56:33.325Z
/* ORBITAL DATA ELEMENTS */
ASCENDING_NODE_LONGITUDE = 119.15
MAXIMUM_RESOLUTION = 36.2
FOOTPRINT_POINT_LATITUDE = (55.0004,54.9872,54.9725,54.9564, 54.9387,54.9195,54.9751,54.8001,54.625, 54.4505,54.2786,54.1065,53.9342,53.7617 ,53.5053,53.3349,53.1643,52.9945, 52.8264,52.6602,52.494,52.3281,52.1618, 51.9971,51.8339,51.6714,51.508,51.3433, 51.1804,51.0209,50.8605,50.6997,50.5387 ,50.3778,50.2188,50.0615,49.8258, 49.6681,49.4312,49.128,48.9734,48.7383, 48.5827,48.4282,48.2775,48.1262,47.8999 ,47.6732,47.5225,47.298,47.0028,46.8935 ,46.9078,46.9182,46.9308,46.9418, 47.0264,47.4711,47.6224,47.7738,47.9256 ,48.0778,48.2295,48.4569,48.6115, 48.7663,48.9214,49.0768,49.3094,49.4641 ,49.622,49.7803,49.9394,50.0979,50.3348 ,50.4942,50.6562,50.8995,51.0601, 51.2198,51.3831,51.5483,51.7954,51.9589 ,52.1236,52.3738,52.6248,52.7927, 52.9598,53.2144,53.3848,53.5551,53.7253 ,53.9843,54.1578,54.3311,54.5909, 54.7676,54.9441,55.0004)
FOOTPRINT_POINT_LONGITUDE = (300.177,299.687,299.199,298.712, 298.227,297.744,297.295,297.324,297.354 ,297.382,297.41,297.438,297.465,297.492 ,297.533,297.559,297.585,297.61,297.635 ,297.659,297.682,297.706,297.728, 297.751,297.773,297.794,297.816,297.838 ,297.859,297.879,297.899,297.919, 297.939,297.959,297.978,297.997,298.024 ,298.043,298.07,298.101,298.118,298.145 ,298.162,298.178,298.194,298.21,298.232 ,298.255,298.269,298.291,298.319,298.59 ,299.003,299.331,299.77,300.167,300.596 ,300.596,300.595,300.594,300.594, 300.594,300.594,300.594,300.594,300.593 ,300.593,300.593,300.592,300.592, 300.591,300.591,300.591,300.591,300.59, 300.589,300.589,300.589,300.588,300.586 ,300.585,300.585,300.585,300.583, 300.583,300.581,300.58,300.579,300.578, 300.576,300.575,300.573,300.572,300.57, 300.569,300.567,300.565,300.563,300.562 ,300.177)
ORBIT_NUMBER = 5239
ORBITAL_ECCENTRICITY = 0.573
ORBITAL_INCLINATION = 86.73
ORBITAL_SEMIMAJOR_AXIS = 8714.77
PERIAPSIS_ALTITUDE = 329.21
PERIAPSIS_ARGUMENT_ANGLE = 156.69
PERIAPSIS_TIME = 2008-01-30T16:02:14.000Z
SPACECRAFT_ORIENTATION = (0.0,-1.0,0.0)
^MEX_ORIENTATION_DESC = "MEX_ORIENTATION_DESC.TXT"
SPACECRAFT_POINTING_MODE = ACROSSTRACK
^MEX_POINTING_DESC = "MEX_POINTING_DESC.TXT"
RIGHT_ASCENSION = -1e+32
DECLINATION = -1e+32
OFFSET_ANGLE = 0.3
SPACECRAFT_SOLAR_DISTANCE = 2.41597e+08
TARGET_NAME = MARS
/* CAMERA DATA ELEMENTS */
DETECTOR_TEMPERATURE = 18.7783
FOCAL_PLANE_TEMPERATURE = 8.7872
INST_CMPRS_NAME = "DISCRETE COSINE TRANSFORMATION (DCT)"
INST_CMPRS_RATIO = 9.95555
INST_CMPRS_QUALITY = 0
INST_CMPRS_QUANTZ_TBL_ID = 0
INSTRUMENT_TEMPERATURE = 11.6418
LENS_TEMPERATURE = 9.6028
MACROPIXEL_SIZE = 2
MISSING_FRAMES = 0
PIXEL_SUBSAMPLING_FLAG = N
SIGNAL_CHAIN_ID = 3
/* RADIOMETRIC DATA ELEMENTS */
BANDWIDTH = 177.0
CENTER_FILTER_WAVELENGTH = 676.5
RADIANCE_OFFSET = 2.81137
RADIANCE_SCALING_FACTOR = 0.0162368
REFLECTANCE_SCALING_FACTOR = 0.000502499
MEX:REFLECTANCE_OFFSET = 0.0870067
/* IMAGE OBJECT DEFINITIONS */
OBJECT = IMAGE
  INTERCHANGE_FORMAT = BINARY
  LINES = 19358
  LINE_SAMPLES = 5080
  SAMPLE_TYPE = UNSIGNED_INTEGER
  SAMPLE_BITS = 8
  BANDS = 1
  BAND_STORAGE_TYPE = BAND_SEQUENTIAL
  MAXIMUM = 255
  MEAN = 116.806
  MINIMUM = 1
  STANDARD_DEVIATION = 19.2693
END_OBJECT = IMAGE
/* MAP OBJECT DEFINITIONS */
OBJECT = IMAGE_MAP_PROJECTION
  ^DATA_SET_MAP_PROJECTION_CATALOG= "DSMAP.CAT"
  A_AXIS_RADIUS = 3396.0
  B_AXIS_RADIUS = 3396.0
  C_AXIS_RADIUS = 3396.0
  CENTER_LATITUDE = 0.0
  CENTER_LONGITUDE = 299.0
  COORDINATE_SYSTEM_NAME = PLANETOGRAPHIC
  COORDINATE_SYSTEM_TYPE = "BODY-FIXED ROTATING"
  EASTERNMOST_LONGITUDE = 300.596
  FIRST_STANDARD_PARALLEL = "N/A"
  LINE_FIRST_PIXEL = 1
  LINE_LAST_PIXEL = 19358
  LINE_PROJECTION_OFFSET = 130505.25
  MAP_PROJECTION_ROTATION = 0.0
  MAP_PROJECTION_TYPE = SINUSOIDAL
  MAP_RESOLUTION = 2370.85521546667
  MAP_SCALE = 0.025
  MAXIMUM_LATITUDE = 55.0004
  MINIMUM_LATITUDE = 46.8935
  POSITIVE_LONGITUDE_DIRECTION = EAST
  REFERENCE_LATITUDE = "N/A"
  REFERENCE_LONGITUDE = "N/A"
  SAMPLE_FIRST_PIXEL = 1
  SAMPLE_LAST_PIXEL = 5080
  SAMPLE_PROJECTION_OFFSET = 2388.25
  SECOND_STANDARD_PARALLEL = "N/A"
  WESTERNMOST_LONGITUDE = 297.295
END_OBJECT = IMAGE_MAP_PROJECTION
/* The JPEG2000 image data file associated with this label. */
OBJECT = COMPRESSED_FILE
  FILE_NAME = "H5239_0009_P23.JP2"
  RECORD_TYPE = UNDEFINED
  FILE_RECORDS = UNK
  ENCODING_TYPE = "JP2"
  INTERCHANGE_FORMAT = BINARY
  UNCOMPRESSED_FILE_NAME = "H5239_0009_P23.IMG"
  REQUIRED_STORAGE_BYTES = "98364040"
  ^DESCRIPTION = "JP2INFO.TXT"
END_OBJECT = COMPRESSED_FILE
END
