PDS_VERSION_ID = PDS3
/* FILE DATA ELEMENTS */
RECORD_TYPE = STREAM
/* POINTERS TO DATA OBJECTS */
^COMPRESSED_FILE = "H5240_0000_IR3.JP2"
/* IDENTIFICATION DATA ELEMENTS */
DATA_SET_ID = "MEX-M-HRSC-5-REFDR-MAPPROJECTED-V3.0"
DATA_SET_NAME = "MARS EXPRESS HRSC MAP PROJECTED REFDR V3.0"
DETECTOR_ID = MEX_HRSC_IR
EVENT_TYPE = "MARS-REGIONAL-MAPPING-Vo-Eo-La"
INSTRUMENT_HOST_ID = MEX
INSTRUMENT_HOST_NAME = "MARS EXPRESS"
INSTRUMENT_ID = HRSC
INSTRUMENT_NAME = "HIGH RESOLUTION STEREO CAMERA"
MISSION_NAME = "MARS EXPRESS"
MISSION_PHASE_NAME = ME_Phase_11
PROCESSING_LEVEL_ID = 3
PRODUCT_CREATION_TIME = 2016-05-13T12:18:58.000Z
PRODUCT_ID = "H5240_0000_IR3.JP2"
RELEASE_ID = 0060
REVISION_ID = 0000
/* QUALITY DATA ELEMENTS */
DATA_QUALITY_ID = 1
DATA_QUALITY_DESC = "Data calculated based on original SPICE kernels"
/* TIME DATA ELEMENTS */
SPACECRAFT_CLOCK_START_COUNT = "1/0149813554.09062"
SPACECRAFT_CLOCK_STOP_COUNT = "1/0149813769.39999"
START_TIME = 2008-01-30T22:52:42.934Z
STOP_TIME = 2008-01-30T22:55:12.045Z
/* ORBITAL DATA ELEMENTS */
ASCENDING_NODE_LONGITUDE = 119.13
MAXIMUM_RESOLUTION = 111.3
FOOTPRINT_POINT_LATITUDE = (21.8626,21.8636,21.8638,21.8629, 21.8239,21.6334,21.3477,21.157,20.9662, 20.7754,20.5846,20.3937,20.2027,20.0117 ,19.8207,19.6295,19.4383,19.1515, 18.8645,18.6731,18.4817,18.2902,18.0029 ,17.7154,17.5237,17.332,17.0444,16.8526 ,16.6607,16.3729,16.181,15.9891,15.7012 ,15.5092,15.3171,15.1251,14.9331,14.741 ,14.4475,14.1499,13.9513,13.7529, 13.5543,13.2566,13.058,12.8594,12.6609, 12.4622,12.2636,12.065,12.0349,12.0335, 12.0327,12.0316,12.1302,12.329,12.5273, 12.7261,13.0239,13.2227,13.5165,13.7181 ,14.0174,14.3155,14.5142,14.7093, 14.9016,15.0938,15.382,15.5742,15.7663, 16.0544,16.2466,16.4386,16.6306,16.8227 ,17.0147,17.2067,17.4945,17.6864, 17.8782,18.0699,18.2616,18.4533,18.6449 ,18.8363,19.0279,19.315,19.602,19.7934, 19.9847,20.1758,20.367,20.5581,20.7492, 21.0355,21.2264,21.4173,21.6079, 21.8626)
FOOTPRINT_POINT_LONGITUDE = (200.219,199.933,199.67,199.304,198.989 ,198.991,198.993,198.994,198.995, 198.997,198.998,198.999,199.0,199.001, 199.002,199.002,199.003,199.004,199.005 ,199.005,199.006,199.006,199.007, 199.007,199.007,199.007,199.007,199.007 ,199.007,199.006,199.006,199.006, 199.005,199.004,199.004,199.003,199.002 ,199.002,199.0,198.999,198.998,198.997, 198.996,198.994,198.993,198.991,198.99, 198.988,198.987,198.985,199.252,199.614 ,199.789,199.977,200.23,200.23,200.23, 200.23,200.23,200.23,200.231,200.23, 200.23,200.229,200.229,200.229,200.229, 200.229,200.23,200.23,200.23,200.23, 200.23,200.23,200.23,200.23,200.23, 200.23,200.23,200.23,200.231,200.231, 200.231,200.231,200.231,200.231,200.232 ,200.232,200.232,200.232,200.233, 200.233,200.233,200.233,200.234,200.234 ,200.234,200.234,200.235,200.219)
ORBIT_NUMBER = 5240
ORBITAL_ECCENTRICITY = 0.573
ORBITAL_INCLINATION = 86.74
ORBITAL_SEMIMAJOR_AXIS = 8710.73
PERIAPSIS_ALTITUDE = 329.37
PERIAPSIS_ARGUMENT_ANGLE = 156.48
PERIAPSIS_TIME = 2008-01-30T22:52:41.000Z
SPACECRAFT_ORIENTATION = (0.0,-1.0,0.0)
^MEX_ORIENTATION_DESC = "MEX_ORIENTATION_DESC.TXT"
SPACECRAFT_POINTING_MODE = ACROSSTRACK
^MEX_POINTING_DESC = "MEX_POINTING_DESC.TXT"
RIGHT_ASCENSION = -1e+32
DECLINATION = -1e+32
OFFSET_ANGLE = 0.05
SPACECRAFT_SOLAR_DISTANCE = 2.41637e+08
TARGET_NAME = MARS
/* CAMERA DATA ELEMENTS */
DETECTOR_TEMPERATURE = 17.5549
FOCAL_PLANE_TEMPERATURE = 8.1755
INST_CMPRS_NAME = "DISCRETE COSINE TRANSFORMATION (DCT)"
INST_CMPRS_RATIO = 18.0597
INST_CMPRS_QUALITY = 0
INST_CMPRS_QUANTZ_TBL_ID = 0
INSTRUMENT_TEMPERATURE = 11.0301
LENS_TEMPERATURE = 8.5833
MACROPIXEL_SIZE = 8
MISSING_FRAMES = 0
PIXEL_SUBSAMPLING_FLAG = N
SIGNAL_CHAIN_ID = 2
/* RADIOMETRIC DATA ELEMENTS */
BANDWIDTH = 81.0
CENTER_FILTER_WAVELENGTH = 955.5
RADIANCE_OFFSET = 0.934981
RADIANCE_SCALING_FACTOR = 0.006205
REFLECTANCE_SCALING_FACTOR = 0.00078162
MEX:REFLECTANCE_OFFSET = 0.117776
/* IMAGE OBJECT DEFINITIONS */
OBJECT = IMAGE
  INTERCHANGE_FORMAT = BINARY
  LINES = 5817
  LINE_SAMPLES = 778
  SAMPLE_TYPE = UNSIGNED_INTEGER
  SAMPLE_BITS = 8
  BANDS = 1
  BAND_STORAGE_TYPE = BAND_SEQUENTIAL
  MAXIMUM = 255
  MEAN = 159.561
  MINIMUM = 1
  STANDARD_DEVIATION = 11.5497
END_OBJECT = IMAGE
/* MAP OBJECT DEFINITIONS */
OBJECT = IMAGE_MAP_PROJECTION
  ^DATA_SET_MAP_PROJECTION_CATALOG= "DSMAP.CAT"
  A_AXIS_RADIUS = 3396.0
  B_AXIS_RADIUS = 3396.0
  C_AXIS_RADIUS = 3396.0
  CENTER_LATITUDE = 0.0
  CENTER_LONGITUDE = 200.0
  COORDINATE_SYSTEM_NAME = PLANETOGRAPHIC
  COORDINATE_SYSTEM_TYPE = "BODY-FIXED ROTATING"
  EASTERNMOST_LONGITUDE = 200.235
  FIRST_STANDARD_PARALLEL = "N/A"
  LINE_FIRST_PIXEL = 1
  LINE_LAST_PIXEL = 5817
  LINE_PROJECTION_OFFSET = 12956.4375
  MAP_PROJECTION_ROTATION = 0.0
  MAP_PROJECTION_TYPE = SINUSOIDAL
  MAP_RESOLUTION = 592.713803866667
  MAP_SCALE = 0.1
  MAXIMUM_LATITUDE = 21.8638
  MINIMUM_LATITUDE = 12.0316
  POSITIVE_LONGITUDE_DIRECTION = EAST
  REFERENCE_LATITUDE = "N/A"
  REFERENCE_LONGITUDE = "N/A"
  SAMPLE_FIRST_PIXEL = 1
  SAMPLE_LAST_PIXEL = 778
  SAMPLE_PROJECTION_OFFSET = 616.4375
  SECOND_STANDARD_PARALLEL = "N/A"
  WESTERNMOST_LONGITUDE = 198.985
END_OBJECT = IMAGE_MAP_PROJECTION
/* The JPEG2000 image data file associated with this label. */
OBJECT = COMPRESSED_FILE
  FILE_NAME = "H5240_0000_IR3.JP2"
  RECORD_TYPE = UNDEFINED
  FILE_RECORDS = UNK
  ENCODING_TYPE = "JP2"
  INTERCHANGE_FORMAT = BINARY
  UNCOMPRESSED_FILE_NAME = "H5240_0000_IR3.IMG"
  REQUIRED_STORAGE_BYTES = "4542742"
  ^DESCRIPTION = "JP2INFO.TXT"
END_OBJECT = COMPRESSED_FILE
END
