PDS_VERSION_ID = PDS3
/* FILE DATA ELEMENTS */
RECORD_TYPE = STREAM
/* POINTERS TO DATA OBJECTS */
^COMPRESSED_FILE = "H5240_0000_S13.JP2"
/* IDENTIFICATION DATA ELEMENTS */
DATA_SET_ID = "MEX-M-HRSC-5-REFDR-MAPPROJECTED-V3.0"
DATA_SET_NAME = "MARS EXPRESS HRSC MAP PROJECTED REFDR V3.0"
DETECTOR_ID = MEX_HRSC_S1
EVENT_TYPE = "MARS-REGIONAL-MAPPING-Vo-Eo-La"
INSTRUMENT_HOST_ID = MEX
INSTRUMENT_HOST_NAME = "MARS EXPRESS"
INSTRUMENT_ID = HRSC
INSTRUMENT_NAME = "HIGH RESOLUTION STEREO CAMERA"
MISSION_NAME = "MARS EXPRESS"
MISSION_PHASE_NAME = ME_Phase_11
PROCESSING_LEVEL_ID = 3
PRODUCT_CREATION_TIME = 2016-05-13T12:18:58.000Z
PRODUCT_ID = "H5240_0000_S13.JP2"
RELEASE_ID = 0060
REVISION_ID = 0000
/* QUALITY DATA ELEMENTS */
DATA_QUALITY_ID = 1
DATA_QUALITY_DESC = "Data calculated based on original SPICE kernels"
/* TIME DATA ELEMENTS */
SPACECRAFT_CLOCK_START_COUNT = "1/0149813554.09062"
SPACECRAFT_CLOCK_STOP_COUNT = "1/0149813769.39999"
START_TIME = 2008-01-30T22:52:37.977Z
STOP_TIME = 2008-01-30T22:55:06.943Z
/* ORBITAL DATA ELEMENTS */
ASCENDING_NODE_LONGITUDE = 119.13
MAXIMUM_RESOLUTION = 28.3
FOOTPRINT_POINT_LATITUDE = (21.8649,21.8656,21.8656,21.865,21.8635 ,21.5303,21.3374,21.1445,20.9513, 20.7581,20.4682,20.2748,20.0813,19.791, 19.5973,19.4036,19.2099,19.016,18.8219, 18.531,18.3368,18.0455,17.8513,17.6569, 17.4624,17.268,17.0735,16.8788,16.5869, 16.3921,16.1973,16.0026,15.8078,15.6129 ,15.418,15.223,15.0279,14.7354,14.5403, 14.3452,14.0451,13.8434,13.5408,13.339, 13.0365,12.8347,12.5318,12.3297,12.1278 ,12.0255,12.0245,12.0236,12.0223, 12.0198,12.222,12.4241,12.6255,12.8277, 13.0293,13.2313,13.4333,13.6302,13.8379 ,14.039,14.3393,14.5346,14.7299,15.0227 ,15.2179,15.413,15.608,15.8031,15.9981, 16.2905,16.4854,16.6803,16.8751,17.07, 17.2647,17.4593,17.6539,17.8485,18.0429 ,18.3344,18.5288,18.7228,18.917,19.1111 ,19.402,19.5959,19.7898,20.0803,20.2741 ,20.4677,20.6611,20.9512,21.241,21.4342 ,21.6273,21.8649)
FOOTPRINT_POINT_LONGITUDE = (200.078,199.863,199.518,199.327, 199.053,198.98,198.981,198.983,198.984, 198.985,198.987,198.988,198.989,198.991 ,198.992,198.992,198.993,198.994, 198.994,198.995,198.996,198.996,198.996 ,198.997,198.997,198.997,198.997, 198.997,198.997,198.996,198.996,198.996 ,198.995,198.995,198.994,198.994, 198.993,198.992,198.991,198.99,198.989, 198.988,198.986,198.985,198.983,198.982 ,198.98,198.978,198.976,199.169,199.484 ,199.666,199.909,200.229,200.229, 200.229,200.229,200.229,200.229,200.229 ,200.229,200.231,200.229,200.229, 200.229,200.229,200.229,200.229,200.229 ,200.23,200.23,200.23,200.23,200.23, 200.23,200.23,200.23,200.231,200.231, 200.231,200.231,200.231,200.231,200.232 ,200.232,200.232,200.232,200.233, 200.233,200.233,200.234,200.234,200.234 ,200.235,200.235,200.235,200.236, 200.236,200.236,200.078)
ORBIT_NUMBER = 5240
ORBITAL_ECCENTRICITY = 0.573
ORBITAL_INCLINATION = 86.74
ORBITAL_SEMIMAJOR_AXIS = 8710.73
PERIAPSIS_ALTITUDE = 329.37
PERIAPSIS_ARGUMENT_ANGLE = 156.48
PERIAPSIS_TIME = 2008-01-30T22:52:41.000Z
SPACECRAFT_ORIENTATION = (0.0,-1.0,0.0)
^MEX_ORIENTATION_DESC = "MEX_ORIENTATION_DESC.TXT"
SPACECRAFT_POINTING_MODE = ACROSSTRACK
^MEX_POINTING_DESC = "MEX_POINTING_DESC.TXT"
RIGHT_ASCENSION = -1e+32
DECLINATION = -1e+32
OFFSET_ANGLE = 0.05
SPACECRAFT_SOLAR_DISTANCE = 2.41637e+08
TARGET_NAME = MARS
/* CAMERA DATA ELEMENTS */
DETECTOR_TEMPERATURE = 17.5549
FOCAL_PLANE_TEMPERATURE = 8.1755
INST_CMPRS_NAME = "DISCRETE COSINE TRANSFORMATION (DCT)"
INST_CMPRS_RATIO = 8.52441
INST_CMPRS_QUALITY = 0
INST_CMPRS_QUANTZ_TBL_ID = 0
INSTRUMENT_TEMPERATURE = 11.0301
LENS_TEMPERATURE = 8.5833
MACROPIXEL_SIZE = 2
MISSING_FRAMES = 0
PIXEL_SUBSAMPLING_FLAG = N
SIGNAL_CHAIN_ID = 1
/* RADIOMETRIC DATA ELEMENTS */
BANDWIDTH = 180.0
CENTER_FILTER_WAVELENGTH = 677.0
RADIANCE_OFFSET = 4.20285
RADIANCE_SCALING_FACTOR = 0.0211908
REFLECTANCE_SCALING_FACTOR = 0.000645529
MEX:REFLECTANCE_OFFSET = 0.12803
/* IMAGE OBJECT DEFINITIONS */
OBJECT = IMAGE
  INTERCHANGE_FORMAT = BINARY
  LINES = 23267
  LINE_SAMPLES = 3111
  SAMPLE_TYPE = UNSIGNED_INTEGER
  SAMPLE_BITS = 8
  BANDS = 1
  BAND_STORAGE_TYPE = BAND_SEQUENTIAL
  MAXIMUM = 255
  MEAN = 156.463
  MINIMUM = 1
  STANDARD_DEVIATION = 12.2887
END_OBJECT = IMAGE
/* MAP OBJECT DEFINITIONS */
OBJECT = IMAGE_MAP_PROJECTION
  ^DATA_SET_MAP_PROJECTION_CATALOG= "DSMAP.CAT"
  A_AXIS_RADIUS = 3396.0
  B_AXIS_RADIUS = 3396.0
  C_AXIS_RADIUS = 3396.0
  CENTER_LATITUDE = 0.0
  CENTER_LONGITUDE = 200.0
  COORDINATE_SYSTEM_NAME = PLANETOGRAPHIC
  COORDINATE_SYSTEM_TYPE = "BODY-FIXED ROTATING"
  EASTERNMOST_LONGITUDE = 200.236
  FIRST_STANDARD_PARALLEL = "N/A"
  LINE_FIRST_PIXEL = 1
  LINE_LAST_PIXEL = 23267
  LINE_PROJECTION_OFFSET = 51827.25
  MAP_PROJECTION_ROTATION = 0.0
  MAP_PROJECTION_TYPE = SINUSOIDAL
  MAP_RESOLUTION = 2370.85521546667
  MAP_SCALE = 0.025
  MAXIMUM_LATITUDE = 21.8656
  MINIMUM_LATITUDE = 12.0198
  POSITIVE_LONGITUDE_DIRECTION = EAST
  REFERENCE_LATITUDE = "N/A"
  REFERENCE_LONGITUDE = "N/A"
  SAMPLE_FIRST_PIXEL = 1
  SAMPLE_LAST_PIXEL = 3111
  SAMPLE_PROJECTION_OFFSET = 2467.25
  SECOND_STANDARD_PARALLEL = "N/A"
  WESTERNMOST_LONGITUDE = 198.976
END_OBJECT = IMAGE_MAP_PROJECTION
/* The JPEG2000 image data file associated with this label. */
OBJECT = COMPRESSED_FILE
  FILE_NAME = "H5240_0000_S13.JP2"
  RECORD_TYPE = UNDEFINED
  FILE_RECORDS = UNK
  ENCODING_TYPE = "JP2"
  INTERCHANGE_FORMAT = BINARY
  UNCOMPRESSED_FILE_NAME = "H5240_0000_S13.IMG"
  REQUIRED_STORAGE_BYTES = "72405414"
  ^DESCRIPTION = "JP2INFO.TXT"
END_OBJECT = COMPRESSED_FILE
END
