PDS_VERSION_ID = PDS3
/* FILE DATA ELEMENTS */
RECORD_TYPE = STREAM
/* POINTERS TO DATA OBJECTS */
^COMPRESSED_FILE = "H5241_0000_P13.JP2"
/* IDENTIFICATION DATA ELEMENTS */
DATA_SET_ID = "MEX-M-HRSC-5-REFDR-MAPPROJECTED-V3.0"
DATA_SET_NAME = "MARS EXPRESS HRSC MAP PROJECTED REFDR V3.0"
DETECTOR_ID = MEX_HRSC_P1
EVENT_TYPE = "MARS-REGIONAL-MAPPING-Te-Im-Pf"
INSTRUMENT_HOST_ID = MEX
INSTRUMENT_HOST_NAME = "MARS EXPRESS"
INSTRUMENT_ID = HRSC
INSTRUMENT_NAME = "HIGH RESOLUTION STEREO CAMERA"
MISSION_NAME = "MARS EXPRESS"
MISSION_PHASE_NAME = ME_Phase_11
PROCESSING_LEVEL_ID = 3
PRODUCT_CREATION_TIME = 2016-05-13T12:18:58.000Z
PRODUCT_ID = "H5241_0000_P13.JP2"
RELEASE_ID = 0060
REVISION_ID = 0000
/* QUALITY DATA ELEMENTS */
DATA_QUALITY_ID = 2
DATA_QUALITY_DESC = "Data calculated based on photogrammetrically improved orbit and attitude data"
/* TIME DATA ELEMENTS */
SPACECRAFT_CLOCK_START_COUNT = "1/0149838139.08423"
SPACECRAFT_CLOCK_STOP_COUNT = "1/0149838387.25453"
START_TIME = 2008-01-31T05:42:33.195Z
STOP_TIME = 2008-01-31T05:45:36.086Z
/* ORBITAL DATA ELEMENTS */
ASCENDING_NODE_LONGITUDE = 119.11
MAXIMUM_RESOLUTION = 54.5
FOOTPRINT_POINT_LATITUDE = (25.1751,25.1774,25.1789,25.1801, 25.1809,25.1814,25.1815,25.1538,24.9176 ,24.6813,24.4448,24.2083,23.9717, 23.7349,23.3797,23.0242,22.7871,22.55, 22.3127,21.9566,21.6002,21.3626,21.0057 ,20.7676,20.4106,20.1725,19.9346, 19.6963,19.339,18.9815,18.7432,18.5049, 18.1476,17.7897,17.5509,17.3126,17.0738 ,16.8355,16.5966,16.239,16.0003,15.7615 ,15.5227,15.2847,14.9216,14.6747,14.428 ,14.1814,13.8118,13.5651,13.3187, 13.1827,13.1813,13.1778,13.1746,13.1726 ,13.1687,13.2912,13.5383,13.9082, 14.1551,14.4019,14.772,15.1395,15.3785, 15.7372,16.096,16.4537,16.6919,17.0497, 17.2884,17.646,17.8847,18.1232,18.4815, 18.7199,18.9584,19.3162,19.5546,19.793, 20.1507,20.3888,20.746,20.9841,21.222, 21.579,21.8167,22.1734,22.5292,22.7681, 23.1232,23.3604,23.5976,23.8345,24.0717 ,24.3083,24.545,24.7815,25.0179, 25.1751)
FOOTPRINT_POINT_LONGITUDE = (100.371,100.145,99.9558,99.767,99.579, 99.3916,99.2512,99.1009,99.1038,99.1066 ,99.1094,99.112,99.1145,99.1169,99.1203 ,99.1234,99.1254,99.1272,99.129,99.1314 ,99.1335,99.1349,99.1366,99.1375, 99.1389,99.1397,99.1404,99.141,99.1417, 99.1422,99.1424,99.1426,99.1426,99.1424 ,99.1421,99.1418,99.1413,99.1408, 99.1402,99.1392,99.1383,99.1373,99.1363 ,99.1354,99.1335,99.132,99.1306,99.129, 99.1266,99.1248,99.123,99.2476,99.4322, 99.721,99.9185,100.07,100.28,100.366, 100.366,100.367,100.367,100.367,100.367 ,100.368,100.368,100.368,100.368, 100.369,100.369,100.37,100.371,100.372, 100.372,100.373,100.373,100.374,100.374 ,100.375,100.376,100.376,100.377, 100.377,100.378,100.379,100.38,100.381, 100.381,100.382,100.384,100.383,100.385 ,100.386,100.386,100.387,100.388, 100.389,100.389,100.39,100.391,100.371)
ORBIT_NUMBER = 5241
ORBITAL_ECCENTRICITY = 0.573
ORBITAL_INCLINATION = 86.73
ORBITAL_SEMIMAJOR_AXIS = 8719.18
PERIAPSIS_ALTITUDE = 328.85
PERIAPSIS_ARGUMENT_ANGLE = 156.3
PERIAPSIS_TIME = 2008-01-31T05:43:15.000Z
SPACECRAFT_ORIENTATION = (0.0,-1.0,0.0)
^MEX_ORIENTATION_DESC = "MEX_ORIENTATION_DESC.TXT"
SPACECRAFT_POINTING_MODE = ACROSSTRACK
^MEX_POINTING_DESC = "MEX_POINTING_DESC.TXT"
RIGHT_ASCENSION = -1e+32
DECLINATION = -1e+32
OFFSET_ANGLE = 0.25
SPACECRAFT_SOLAR_DISTANCE = 2.41677e+08
TARGET_NAME = MARS
/* CAMERA DATA ELEMENTS */
DETECTOR_TEMPERATURE = 17.7588
FOCAL_PLANE_TEMPERATURE = 8.5833
INST_CMPRS_NAME = "DISCRETE COSINE TRANSFORMATION (DCT)"
INST_CMPRS_RATIO = 14.2797
INST_CMPRS_QUALITY = 0
INST_CMPRS_QUANTZ_TBL_ID = 0
INSTRUMENT_TEMPERATURE = 10.0106
LENS_TEMPERATURE = 8.9911
MACROPIXEL_SIZE = 4
MISSING_FRAMES = 0
PIXEL_SUBSAMPLING_FLAG = N
SIGNAL_CHAIN_ID = 3
/* RADIOMETRIC DATA ELEMENTS */
BANDWIDTH = 174.0
CENTER_FILTER_WAVELENGTH = 675.0
RADIANCE_OFFSET = 3.85136
RADIANCE_SCALING_FACTOR = 0.0167052
REFLECTANCE_SCALING_FACTOR = 0.000524816
MEX:REFLECTANCE_OFFSET = 0.120995
/* IMAGE OBJECT DEFINITIONS */
OBJECT = IMAGE
  INTERCHANGE_FORMAT = BINARY
  LINES = 14214
  LINE_SAMPLES = 1539
  SAMPLE_TYPE = UNSIGNED_INTEGER
  SAMPLE_BITS = 8
  BANDS = 1
  BAND_STORAGE_TYPE = BAND_SEQUENTIAL
  MAXIMUM = 255
  MEAN = 148.315
  MINIMUM = 1
  STANDARD_DEVIATION = 14.1318
END_OBJECT = IMAGE
/* MAP OBJECT DEFINITIONS */
OBJECT = IMAGE_MAP_PROJECTION
  ^DATA_SET_MAP_PROJECTION_CATALOG= "DSMAP.CAT"
  A_AXIS_RADIUS = 3396.0
  B_AXIS_RADIUS = 3396.0
  C_AXIS_RADIUS = 3396.0
  CENTER_LATITUDE = 0.0
  CENTER_LONGITUDE = 100.0
  COORDINATE_SYSTEM_NAME = PLANETOGRAPHIC
  COORDINATE_SYSTEM_TYPE = "BODY-FIXED ROTATING"
  EASTERNMOST_LONGITUDE = 100.391
  FIRST_STANDARD_PARALLEL = "N/A"
  LINE_FIRST_PIXEL = 1
  LINE_LAST_PIXEL = 14214
  LINE_PROJECTION_OFFSET = 29838.125
  MAP_PROJECTION_ROTATION = 0.0
  MAP_PROJECTION_TYPE = SINUSOIDAL
  MAP_RESOLUTION = 1185.42760773333
  MAP_SCALE = 0.05
  MAXIMUM_LATITUDE = 25.1815
  MINIMUM_LATITUDE = 13.1687
  POSITIVE_LONGITUDE_DIRECTION = EAST
  REFERENCE_LATITUDE = "N/A"
  REFERENCE_LONGITUDE = "N/A"
  SAMPLE_FIRST_PIXEL = 1
  SAMPLE_LAST_PIXEL = 1539
  SAMPLE_PROJECTION_OFFSET = 1051.125
  SECOND_STANDARD_PARALLEL = "N/A"
  WESTERNMOST_LONGITUDE = 99.1009
END_OBJECT = IMAGE_MAP_PROJECTION
/* The JPEG2000 image data file associated with this label. */
OBJECT = COMPRESSED_FILE
  FILE_NAME = "H5241_0000_P13.JP2"
  RECORD_TYPE = UNDEFINED
  FILE_RECORDS = UNK
  ENCODING_TYPE = "JP2"
  INTERCHANGE_FORMAT = BINARY
  UNCOMPRESSED_FILE_NAME = "H5241_0000_P13.IMG"
  REQUIRED_STORAGE_BYTES = "21895353"
  ^DESCRIPTION = "JP2INFO.TXT"
END_OBJECT = COMPRESSED_FILE
END
