PDS_VERSION_ID = PDS3
/* FILE DATA ELEMENTS */
RECORD_TYPE = STREAM
/* POINTERS TO DATA OBJECTS */
^COMPRESSED_FILE = "H5243_0001_P13.JP2"
/* IDENTIFICATION DATA ELEMENTS */
DATA_SET_ID = "MEX-M-HRSC-5-REFDR-MAPPROJECTED-V3.0"
DATA_SET_NAME = "MARS EXPRESS HRSC MAP PROJECTED REFDR V3.0"
DETECTOR_ID = MEX_HRSC_P1
EVENT_TYPE = "MARS-REGIONAL-MAPPING-Vo-Te"
INSTRUMENT_HOST_ID = MEX
INSTRUMENT_HOST_NAME = "MARS EXPRESS"
INSTRUMENT_ID = HRSC
INSTRUMENT_NAME = "HIGH RESOLUTION STEREO CAMERA"
MISSION_NAME = "MARS EXPRESS"
MISSION_PHASE_NAME = ME_Phase_11
PROCESSING_LEVEL_ID = 3
PRODUCT_CREATION_TIME = 2016-05-13T12:18:58.000Z
PRODUCT_ID = "H5243_0001_P13.JP2"
RELEASE_ID = 0060
REVISION_ID = 0000
/* QUALITY DATA ELEMENTS */
DATA_QUALITY_ID = 1
DATA_QUALITY_DESC = "Data calculated based on original SPICE kernels"
/* TIME DATA ELEMENTS */
SPACECRAFT_CLOCK_START_COUNT = "1/0149887737.07312"
SPACECRAFT_CLOCK_STOP_COUNT = "1/0149887900.44435"
START_TIME = 2008-01-31T19:29:13.174Z
STOP_TIME = 2008-01-31T19:30:27.076Z
/* ORBITAL DATA ELEMENTS */
ASCENDING_NODE_LONGITUDE = 119.07
MAXIMUM_RESOLUTION = 32.5
FOOTPRINT_POINT_LATITUDE = (3.63642,3.6381,3.63972,3.64131,3.64358 ,3.64502,3.64738,3.64864,3.64984, 3.65112,3.6522,3.40292,3.22156,2.99482, 2.76827,2.58712,2.49433,2.40136,2.30851 ,2.21573,2.07645,1.98356,1.89078, 1.79783,1.70493,1.61197,1.42637,1.28447 ,1.18933,1.04667,0.951595,0.856582, 0.761577,0.61909,0.524145,0.42926, 0.334468,0.238972,0.141759,0.0445966, -0.0526104,-0.198526,-0.295484, -0.392572,-0.537788,-0.634768,-0.780079 ,-0.928691,-1.02793,-1.07137,-1.07274, -1.07447,-1.07564,-1.07839,-1.08046, -1.08286,-1.08451,-1.08647,-1.08878, -1.09025,-0.991112,-0.842328,-0.74446, -0.648047,-0.502643,-0.405695,-0.260461 ,-0.163688,-0.0663947,0.0309312, 0.128261,0.273532,0.368464,0.510948, 0.605936,0.701001,0.843584,0.938702, 1.03385,1.12898,1.22417,1.31939,1.41355 ,1.59916,1.69208,1.78493,1.87782, 2.01726,2.11022,2.20317,2.29619,2.38924 ,2.48229,2.62027,2.80149,2.98294, 3.20991,3.39162,3.5734,3.63642)
FOOTPRINT_POINT_LONGITUDE = (260.015,259.906,259.797,259.688, 259.524,259.416,259.226,259.117,259.009 ,258.887,258.779,258.737,258.733, 258.729,258.724,258.72,258.718,258.716, 258.714,258.712,258.709,258.706,258.704 ,258.702,258.7,258.698,258.693,258.69, 258.688,258.684,258.682,258.68,258.678, 258.674,258.672,258.669,258.667,258.665 ,258.662,258.66,258.657,258.654,258.651 ,258.649,258.645,258.643,258.639, 258.635,258.632,258.822,258.954,259.056 ,259.159,259.35,259.497,259.66,259.763, 259.881,260.029,260.152,260.152,260.151 ,260.15,260.15,260.149,260.148,260.148, 260.147,260.146,260.146,260.145,260.144 ,260.143,260.143,260.142,260.141,260.14 ,260.14,260.139,260.139,260.138,260.137 ,260.137,260.136,260.135,260.135, 260.134,260.133,260.133,260.132,260.132 ,260.132,260.131,260.13,260.129,260.129 ,260.127,260.127,260.126,260.015)
ORBIT_NUMBER = 5243
ORBITAL_ECCENTRICITY = 0.573
ORBITAL_INCLINATION = 86.72
ORBITAL_SEMIMAJOR_AXIS = 8724.9
PERIAPSIS_ALTITUDE = 329.28
PERIAPSIS_ARGUMENT_ANGLE = 155.95
PERIAPSIS_TIME = 2008-01-31T19:24:20.000Z
SPACECRAFT_ORIENTATION = (0.0,-1.0,0.0)
^MEX_ORIENTATION_DESC = "MEX_ORIENTATION_DESC.TXT"
SPACECRAFT_POINTING_MODE = ACROSSTRACK
^MEX_POINTING_DESC = "MEX_POINTING_DESC.TXT"
RIGHT_ASCENSION = -1e+32
DECLINATION = -1e+32
OFFSET_ANGLE = 0.15
SPACECRAFT_SOLAR_DISTANCE = 2.41756e+08
TARGET_NAME = MARS
/* CAMERA DATA ELEMENTS */
DETECTOR_TEMPERATURE = 18.3705
FOCAL_PLANE_TEMPERATURE = 7.9716
INST_CMPRS_NAME = "DISCRETE COSINE TRANSFORMATION (DCT)"
INST_CMPRS_RATIO = 19.8896
INST_CMPRS_QUALITY = 0
INST_CMPRS_QUANTZ_TBL_ID = 0
INSTRUMENT_TEMPERATURE = 12.6613
LENS_TEMPERATURE = 8.1755
MACROPIXEL_SIZE = 2
MISSING_FRAMES = 0
PIXEL_SUBSAMPLING_FLAG = N
SIGNAL_CHAIN_ID = 3
/* RADIOMETRIC DATA ELEMENTS */
BANDWIDTH = 174.0
CENTER_FILTER_WAVELENGTH = 675.0
RADIANCE_OFFSET = 3.61805
RADIANCE_SCALING_FACTOR = 0.0228399
REFLECTANCE_SCALING_FACTOR = 0.000718023
MEX:REFLECTANCE_OFFSET = 0.113741
/* IMAGE OBJECT DEFINITIONS */
OBJECT = IMAGE
  INTERCHANGE_FORMAT = BINARY
  LINES = 11285
  LINE_SAMPLES = 4004
  SAMPLE_TYPE = UNSIGNED_INTEGER
  SAMPLE_BITS = 8
  BANDS = 1
  BAND_STORAGE_TYPE = BAND_SEQUENTIAL
  MAXIMUM = 255
  MEAN = 139.618
  MINIMUM = 1
  STANDARD_DEVIATION = 15.5545
END_OBJECT = IMAGE
/* MAP OBJECT DEFINITIONS */
OBJECT = IMAGE_MAP_PROJECTION
  ^DATA_SET_MAP_PROJECTION_CATALOG= "DSMAP.CAT"
  A_AXIS_RADIUS = 3396.0
  B_AXIS_RADIUS = 3396.0
  C_AXIS_RADIUS = 3396.0
  CENTER_LATITUDE = 0.0
  CENTER_LONGITUDE = 259.0
  COORDINATE_SYSTEM_NAME = PLANETOGRAPHIC
  COORDINATE_SYSTEM_TYPE = "BODY-FIXED ROTATING"
  EASTERNMOST_LONGITUDE = 260.152
  FIRST_STANDARD_PARALLEL = "N/A"
  LINE_FIRST_PIXEL = 1
  LINE_LAST_PIXEL = 11285
  LINE_PROJECTION_OFFSET = 8652.25
  MAP_PROJECTION_ROTATION = 0.0
  MAP_PROJECTION_TYPE = SINUSOIDAL
  MAP_RESOLUTION = 2370.85521546667
  MAP_SCALE = 0.025
  MAXIMUM_LATITUDE = 3.6522
  MINIMUM_LATITUDE = -1.09025
  POSITIVE_LONGITUDE_DIRECTION = EAST
  REFERENCE_LATITUDE = "N/A"
  REFERENCE_LONGITUDE = "N/A"
  SAMPLE_FIRST_PIXEL = 1
  SAMPLE_LAST_PIXEL = 4004
  SAMPLE_PROJECTION_OFFSET = 1050.25
  SECOND_STANDARD_PARALLEL = "N/A"
  WESTERNMOST_LONGITUDE = 258.632
END_OBJECT = IMAGE_MAP_PROJECTION
/* The JPEG2000 image data file associated with this label. */
OBJECT = COMPRESSED_FILE
  FILE_NAME = "H5243_0001_P13.JP2"
  RECORD_TYPE = UNDEFINED
  FILE_RECORDS = UNK
  ENCODING_TYPE = "JP2"
  INTERCHANGE_FORMAT = BINARY
  UNCOMPRESSED_FILE_NAME = "H5243_0001_P13.IMG"
  REQUIRED_STORAGE_BYTES = "45209164"
  ^DESCRIPTION = "JP2INFO.TXT"
END_OBJECT = COMPRESSED_FILE
END
