PDS_VERSION_ID = PDS3
/* FILE DATA ELEMENTS */
RECORD_TYPE = STREAM
/* POINTERS TO DATA OBJECTS */
^COMPRESSED_FILE = "H5243_0001_RE3.JP2"
/* IDENTIFICATION DATA ELEMENTS */
DATA_SET_ID = "MEX-M-HRSC-5-REFDR-MAPPROJECTED-V3.0"
DATA_SET_NAME = "MARS EXPRESS HRSC MAP PROJECTED REFDR V3.0"
DETECTOR_ID = MEX_HRSC_RED
EVENT_TYPE = "MARS-REGIONAL-MAPPING-Vo-Te"
INSTRUMENT_HOST_ID = MEX
INSTRUMENT_HOST_NAME = "MARS EXPRESS"
INSTRUMENT_ID = HRSC
INSTRUMENT_NAME = "HIGH RESOLUTION STEREO CAMERA"
MISSION_NAME = "MARS EXPRESS"
MISSION_PHASE_NAME = ME_Phase_11
PROCESSING_LEVEL_ID = 3
PRODUCT_CREATION_TIME = 2016-05-13T12:18:58.000Z
PRODUCT_ID = "H5243_0001_RE3.JP2"
RELEASE_ID = 0060
REVISION_ID = 0000
/* QUALITY DATA ELEMENTS */
DATA_QUALITY_ID = 1
DATA_QUALITY_DESC = "Data calculated based on original SPICE kernels"
/* TIME DATA ELEMENTS */
SPACECRAFT_CLOCK_START_COUNT = "1/0149887737.07312"
SPACECRAFT_CLOCK_STOP_COUNT = "1/0149887900.44435"
START_TIME = 2008-01-31T19:30:11.601Z
STOP_TIME = 2008-01-31T19:31:33.846Z
/* ORBITAL DATA ELEMENTS */
ASCENDING_NODE_LONGITUDE = 119.07
MAXIMUM_RESOLUTION = 143.4
FOOTPRINT_POINT_LATITUDE = (3.63351,3.63342,3.63336,3.63338, 3.63349,3.63364,3.63411,3.63451,3.63494 ,3.63561,3.6363,3.5581,3.38136,3.16069, 2.98462,2.84991,2.66984,2.48997,2.31026 ,2.04124,1.85858,1.76723,1.67603, 1.53918,1.44795,1.35681,1.17471,1.0822, 0.989186,0.89623,0.803357,0.710575, 0.617859,0.525204,0.432603,0.340057, 0.198419,0.103909,0.0095701,-0.0847045, -0.226231,-0.320198,-0.461539,-0.555793 ,-0.69568,-0.789709,-0.883474,-1.02401, -1.1433,-1.14474,-1.14627,-1.14719, -1.14757,-1.14848,-1.14899,-1.14959, -1.14994,-1.15032,-1.15009,-1.15053, -1.15045,-1.0547,-0.913642,-0.819672, -0.724208,-0.628441,-0.487349,-0.394463 ,-0.300525,-0.205986,-0.0645607, 0.0297408,0.124144,0.218664,0.359815, 0.452366,0.545062,0.63786,0.730657, 0.870048,0.963031,1.05608,1.14926, 1.33155,1.42279,1.51412,1.60553,1.69689 ,1.7884,1.88003,2.01741,2.19664,2.33125 ,2.51092,2.69099,2.91642,3.09363,3.2259 ,3.40236,3.63351)
FOOTPRINT_POINT_LONGITUDE = (260.125,260.011,259.897,259.726, 259.599,259.485,259.286,259.159,259.046 ,258.89,258.749,258.692,258.688,258.683 ,258.678,258.675,258.67,258.666,258.661 ,258.654,258.649,258.646,258.644,258.64 ,258.638,258.635,258.63,258.627,258.625 ,258.622,258.619,258.617,258.614, 258.611,258.608,258.606,258.602,258.599 ,258.596,258.593,258.589,258.586, 258.582,258.579,258.574,258.572,258.569 ,258.564,258.589,258.715,258.856, 258.965,259.075,259.232,259.357,259.482 ,259.608,259.797,259.923,260.033, 260.143,260.231,260.23,260.229,260.228, 260.228,260.226,260.225,260.224,260.223 ,260.221,260.22,260.219,260.217,260.216 ,260.215,260.214,260.213,260.212,260.21 ,260.209,260.208,260.207,260.205, 260.204,260.203,260.202,260.201,260.2, 260.199,260.198,260.196,260.195,260.193 ,260.192,260.19,260.188,260.187,260.185 ,260.125)
ORBIT_NUMBER = 5243
ORBITAL_ECCENTRICITY = 0.573
ORBITAL_INCLINATION = 86.72
ORBITAL_SEMIMAJOR_AXIS = 8724.9
PERIAPSIS_ALTITUDE = 329.28
PERIAPSIS_ARGUMENT_ANGLE = 155.95
PERIAPSIS_TIME = 2008-01-31T19:24:20.000Z
SPACECRAFT_ORIENTATION = (0.0,-1.0,0.0)
^MEX_ORIENTATION_DESC = "MEX_ORIENTATION_DESC.TXT"
SPACECRAFT_POINTING_MODE = ACROSSTRACK
^MEX_POINTING_DESC = "MEX_POINTING_DESC.TXT"
RIGHT_ASCENSION = -1e+32
DECLINATION = -1e+32
OFFSET_ANGLE = 0.15
SPACECRAFT_SOLAR_DISTANCE = 2.41756e+08
TARGET_NAME = MARS
/* CAMERA DATA ELEMENTS */
DETECTOR_TEMPERATURE = 19.7978
FOCAL_PLANE_TEMPERATURE = 7.9716
INST_CMPRS_NAME = "DISCRETE COSINE TRANSFORMATION (DCT)"
INST_CMPRS_RATIO = 24.6357
INST_CMPRS_QUALITY = 0
INST_CMPRS_QUANTZ_TBL_ID = 0
INSTRUMENT_TEMPERATURE = 12.6613
LENS_TEMPERATURE = 8.1755
MACROPIXEL_SIZE = 8
MISSING_FRAMES = 0
PIXEL_SUBSAMPLING_FLAG = N
SIGNAL_CHAIN_ID = 2
/* RADIOMETRIC DATA ELEMENTS */
BANDWIDTH = 48.0
CENTER_FILTER_WAVELENGTH = 748.0
RADIANCE_OFFSET = 1.00976
RADIANCE_SCALING_FACTOR = 0.00674241
REFLECTANCE_SCALING_FACTOR = 0.000899289
MEX:REFLECTANCE_OFFSET = 0.134679
/* IMAGE OBJECT DEFINITIONS */
OBJECT = IMAGE
  INTERCHANGE_FORMAT = BINARY
  LINES = 2822
  LINE_SAMPLES = 1001
  SAMPLE_TYPE = UNSIGNED_INTEGER
  SAMPLE_BITS = 8
  BANDS = 1
  BAND_STORAGE_TYPE = BAND_SEQUENTIAL
  MAXIMUM = 254
  MEAN = 124.665
  MINIMUM = 6
  STANDARD_DEVIATION = 15.4199
END_OBJECT = IMAGE
/* MAP OBJECT DEFINITIONS */
OBJECT = IMAGE_MAP_PROJECTION
  ^DATA_SET_MAP_PROJECTION_CATALOG= "DSMAP.CAT"
  A_AXIS_RADIUS = 3396.0
  B_AXIS_RADIUS = 3396.0
  C_AXIS_RADIUS = 3396.0
  CENTER_LATITUDE = 0.0
  CENTER_LONGITUDE = 259.0
  COORDINATE_SYSTEM_NAME = PLANETOGRAPHIC
  COORDINATE_SYSTEM_TYPE = "BODY-FIXED ROTATING"
  EASTERNMOST_LONGITUDE = 260.231
  FIRST_STANDARD_PARALLEL = "N/A"
  LINE_FIRST_PIXEL = 1
  LINE_LAST_PIXEL = 2822
  LINE_PROJECTION_OFFSET = 2162.6875
  MAP_PROJECTION_ROTATION = 0.0
  MAP_PROJECTION_TYPE = SINUSOIDAL
  MAP_RESOLUTION = 592.713803866667
  MAP_SCALE = 0.1
  MAXIMUM_LATITUDE = 3.6363
  MINIMUM_LATITUDE = -1.15053
  POSITIVE_LONGITUDE_DIRECTION = EAST
  REFERENCE_LATITUDE = "N/A"
  REFERENCE_LONGITUDE = "N/A"
  SAMPLE_FIRST_PIXEL = 1
  SAMPLE_LAST_PIXEL = 1001
  SAMPLE_PROJECTION_OFFSET = 262.1875
  SECOND_STANDARD_PARALLEL = "N/A"
  WESTERNMOST_LONGITUDE = 258.564
END_OBJECT = IMAGE_MAP_PROJECTION
/* The JPEG2000 image data file associated with this label. */
OBJECT = COMPRESSED_FILE
  FILE_NAME = "H5243_0001_RE3.JP2"
  RECORD_TYPE = UNDEFINED
  FILE_RECORDS = UNK
  ENCODING_TYPE = "JP2"
  INTERCHANGE_FORMAT = BINARY
  UNCOMPRESSED_FILE_NAME = "H5243_0001_RE3.IMG"
  REQUIRED_STORAGE_BYTES = "2843841"
  ^DESCRIPTION = "JP2INFO.TXT"
END_OBJECT = COMPRESSED_FILE
END
