PDS_VERSION_ID = PDS3
/* FILE DATA ELEMENTS */
RECORD_TYPE = STREAM
/* POINTERS TO DATA OBJECTS */
^COMPRESSED_FILE = "H5244_0000_ND3.JP2"
/* IDENTIFICATION DATA ELEMENTS */
DATA_SET_ID = "MEX-M-HRSC-5-REFDR-MAPPROJECTED-V3.0"
DATA_SET_NAME = "MARS EXPRESS HRSC MAP PROJECTED REFDR V3.0"
DETECTOR_ID = MEX_HRSC_NADIR
EVENT_TYPE = "MARS-REGIONAL-MAPPING-Vo-Eo"
INSTRUMENT_HOST_ID = MEX
INSTRUMENT_HOST_NAME = "MARS EXPRESS"
INSTRUMENT_ID = HRSC
INSTRUMENT_NAME = "HIGH RESOLUTION STEREO CAMERA"
MISSION_NAME = "MARS EXPRESS"
MISSION_PHASE_NAME = ME_Phase_11
PROCESSING_LEVEL_ID = 3
PRODUCT_CREATION_TIME = 2016-05-13T12:18:58.000Z
PRODUCT_ID = "H5244_0000_ND3.JP2"
RELEASE_ID = 0060
REVISION_ID = 0000
/* QUALITY DATA ELEMENTS */
DATA_QUALITY_ID = 2
DATA_QUALITY_DESC = "Data calculated based on photogrammetrically improved orbit and attitude data"
/* TIME DATA ELEMENTS */
SPACECRAFT_CLOCK_START_COUNT = "1/0149912028.08234"
SPACECRAFT_CLOCK_STOP_COUNT = "1/0149912290.56226"
START_TIME = 2008-02-01T02:14:21.567Z
STOP_TIME = 2008-02-01T02:17:39.543Z
/* ORBITAL DATA ELEMENTS */
ASCENDING_NODE_LONGITUDE = 119.04
MAXIMUM_RESOLUTION = 13.3
FOOTPRINT_POINT_LATITUDE = (26.2122,26.211,26.2088,26.2061,25.9489 ,25.6932,25.4375,25.1818,24.9261, 24.6704,24.4146,24.1589,23.9032,23.6458 ,23.39,23.0064,22.7508,22.4951,22.2394, 21.9838,21.7282,21.4727,21.2172,20.9617 ,20.7063,20.4509,20.1956,19.9404, 19.6852,19.43,19.175,18.92,18.4103, 17.9009,17.3919,17.0012,16.7385,16.476, 16.2136,15.9512,15.6891,15.427,15.1651, 14.9034,14.6417,14.3802,14.1189,13.8578 ,13.5968,13.3359,13.3274,13.3268, 13.3252,13.5856,13.8468,14.1082,14.3697 ,14.6314,14.8933,15.1553,15.4174, 15.6797,15.9421,16.2046,16.4672,16.73, 16.9929,17.3842,17.8937,18.4035,18.6586 ,18.9137,19.1689,19.4242,19.6796,19.935 ,20.1905,20.446,20.7016,20.9573,21.213, 21.4688,21.7246,21.9804,22.2363,22.4922 ,22.7481,23.0041,23.2601,23.5161, 23.9017,24.1578,24.4138,24.6698,24.9258 ,25.1818,25.4378,25.6938,25.9498, 26.2122)
FOOTPRINT_POINT_LONGITUDE = (159.745,159.455,159.128,158.814, 158.586,158.59,158.593,158.597,158.601, 158.604,158.607,158.61,158.613,158.616, 158.619,158.622,158.625,158.627,158.629 ,158.631,158.633,158.634,158.636, 158.637,158.639,158.64,158.641,158.641, 158.642,158.643,158.643,158.644,158.644 ,158.644,158.643,158.643,158.642, 158.641,158.64,158.639,158.638,158.637, 158.636,158.634,158.633,158.631,158.629 ,158.627,158.625,158.623,159.001,159.29 ,159.705,159.9,159.899,159.899,159.898, 159.897,159.897,159.896,159.896,159.895 ,159.895,159.894,159.894,159.893, 159.893,159.892,159.891,159.89,159.89, 159.89,159.889,159.889,159.889,159.889, 159.888,159.888,159.888,159.887,159.887 ,159.887,159.887,159.886,159.886, 159.886,159.886,159.886,159.885,159.885 ,159.885,159.885,159.884,159.884, 159.884,159.884,159.884,159.883,159.883 ,159.745)
ORBIT_NUMBER = 5244
ORBITAL_ECCENTRICITY = 0.573
ORBITAL_INCLINATION = 86.73
ORBITAL_SEMIMAJOR_AXIS = 8710.52
PERIAPSIS_ALTITUDE = 330.3
PERIAPSIS_ARGUMENT_ANGLE = 155.81
PERIAPSIS_TIME = 2008-02-01T02:14:52.000Z
SPACECRAFT_ORIENTATION = (0.0,-1.0,0.0)
^MEX_ORIENTATION_DESC = "MEX_ORIENTATION_DESC.TXT"
SPACECRAFT_POINTING_MODE = NADIR
^MEX_POINTING_DESC = "MEX_POINTING_DESC.TXT"
RIGHT_ASCENSION = -1e+32
DECLINATION = -1e+32
OFFSET_ANGLE = -1e+32
SPACECRAFT_SOLAR_DISTANCE = 2.41796e+08
TARGET_NAME = MARS
/* CAMERA DATA ELEMENTS */
DETECTOR_TEMPERATURE = 18.1666
FOCAL_PLANE_TEMPERATURE = 8.9911
INST_CMPRS_NAME = "DISCRETE COSINE TRANSFORMATION (DCT)"
INST_CMPRS_RATIO = 8.196
INST_CMPRS_QUALITY = 0
INST_CMPRS_QUANTZ_TBL_ID = 0
INSTRUMENT_TEMPERATURE = 11.6418
LENS_TEMPERATURE = 8.1755
MACROPIXEL_SIZE = 1
MISSING_FRAMES = 1
PIXEL_SUBSAMPLING_FLAG = N
SIGNAL_CHAIN_ID = 0
/* RADIOMETRIC DATA ELEMENTS */
BANDWIDTH = 177.0
CENTER_FILTER_WAVELENGTH = 677.5
RADIANCE_OFFSET = 2.73082
RADIANCE_SCALING_FACTOR = 0.0197706
REFLECTANCE_SCALING_FACTOR = 0.00061405
MEX:REFLECTANCE_OFFSET = 0.0848156
/* IMAGE OBJECT DEFINITIONS */
OBJECT = IMAGE
  INTERCHANGE_FORMAT = BINARY
  LINES = 61114
  LINE_SAMPLES = 6227
  SAMPLE_TYPE = UNSIGNED_INTEGER
  SAMPLE_BITS = 8
  BANDS = 1
  BAND_STORAGE_TYPE = BAND_SEQUENTIAL
  MAXIMUM = 255
  MEAN = 135.728
  MINIMUM = 1
  STANDARD_DEVIATION = 26.1086
END_OBJECT = IMAGE
/* MAP OBJECT DEFINITIONS */
OBJECT = IMAGE_MAP_PROJECTION
  ^DATA_SET_MAP_PROJECTION_CATALOG= "DSMAP.CAT"
  A_AXIS_RADIUS = 3396.0
  B_AXIS_RADIUS = 3396.0
  C_AXIS_RADIUS = 3396.0
  CENTER_LATITUDE = 0.0
  CENTER_LONGITUDE = 159.0
  COORDINATE_SYSTEM_NAME = PLANETOGRAPHIC
  COORDINATE_SYSTEM_TYPE = "BODY-FIXED ROTATING"
  EASTERNMOST_LONGITUDE = 159.9
  FIRST_STANDARD_PARALLEL = "N/A"
  LINE_FIRST_PIXEL = 1
  LINE_LAST_PIXEL = 61114
  LINE_PROJECTION_OFFSET = 124307.0
  MAP_PROJECTION_ROTATION = 0.0
  MAP_PROJECTION_TYPE = SINUSOIDAL
  MAP_RESOLUTION = 4741.71043093333
  MAP_SCALE = 0.0125
  MAXIMUM_LATITUDE = 26.2122
  MINIMUM_LATITUDE = 13.3252
  POSITIVE_LONGITUDE_DIRECTION = EAST
  REFERENCE_LATITUDE = "N/A"
  REFERENCE_LONGITUDE = "N/A"
  SAMPLE_FIRST_PIXEL = 1
  SAMPLE_LAST_PIXEL = 6227
  SAMPLE_PROJECTION_OFFSET = 1934.0
  SECOND_STANDARD_PARALLEL = "N/A"
  WESTERNMOST_LONGITUDE = 158.586
END_OBJECT = IMAGE_MAP_PROJECTION
/* The JPEG2000 image data file associated with this label. */
OBJECT = COMPRESSED_FILE
  FILE_NAME = "H5244_0000_ND3.JP2"
  RECORD_TYPE = UNDEFINED
  FILE_RECORDS = UNK
  ENCODING_TYPE = "JP2"
  INTERCHANGE_FORMAT = BINARY
  UNCOMPRESSED_FILE_NAME = "H5244_0000_ND3.IMG"
  REQUIRED_STORAGE_BYTES = "380588013"
  ^DESCRIPTION = "JP2INFO.TXT"
END_OBJECT = COMPRESSED_FILE
END
