PDS_VERSION_ID = PDS3
/* FILE DATA ELEMENTS */
RECORD_TYPE = STREAM
/* POINTERS TO DATA OBJECTS */
^COMPRESSED_FILE = "H5244_0000_P23.JP2"
/* IDENTIFICATION DATA ELEMENTS */
DATA_SET_ID = "MEX-M-HRSC-5-REFDR-MAPPROJECTED-V3.0"
DATA_SET_NAME = "MARS EXPRESS HRSC MAP PROJECTED REFDR V3.0"
DETECTOR_ID = MEX_HRSC_P2
EVENT_TYPE = "MARS-REGIONAL-MAPPING-Vo-Eo"
INSTRUMENT_HOST_ID = MEX
INSTRUMENT_HOST_NAME = "MARS EXPRESS"
INSTRUMENT_ID = HRSC
INSTRUMENT_NAME = "HIGH RESOLUTION STEREO CAMERA"
MISSION_NAME = "MARS EXPRESS"
MISSION_PHASE_NAME = ME_Phase_11
PROCESSING_LEVEL_ID = 3
PRODUCT_CREATION_TIME = 2016-05-13T12:18:58.000Z
PRODUCT_ID = "H5244_0000_P23.JP2"
RELEASE_ID = 0060
REVISION_ID = 0000
/* QUALITY DATA ELEMENTS */
DATA_QUALITY_ID = 2
DATA_QUALITY_DESC = "Data calculated based on photogrammetrically improved orbit and attitude data"
/* TIME DATA ELEMENTS */
SPACECRAFT_CLOCK_START_COUNT = "1/0149912028.08234"
SPACECRAFT_CLOCK_STOP_COUNT = "1/0149912290.56226"
START_TIME = 2008-02-01T02:14:41.096Z
STOP_TIME = 2008-02-01T02:18:00.983Z
/* ORBITAL DATA ELEMENTS */
ASCENDING_NODE_LONGITUDE = 119.04
MAXIMUM_RESOLUTION = 54.9
FOOTPRINT_POINT_LATITUDE = (26.1914,26.1878,26.0798,25.8219, 25.5639,25.3062,25.0487,24.7912,24.5339 ,24.2768,23.8911,23.6342,23.3775, 23.1207,22.8642,22.608,22.3518,22.0957, 21.8398,21.584,21.3287,21.0733,20.8182, 20.5633,20.3087,20.0539,19.7995,19.5453 ,19.1643,18.6573,18.3977,18.1362, 17.8749,17.6138,17.3531,17.0926,16.8324 ,16.5726,16.3128,16.0532,15.7941, 15.5352,15.2767,15.0183,14.7601,14.5021 ,14.2446,13.9873,13.7305,13.4737, 13.3396,13.3382,13.3374,13.4655,13.7224 ,13.9797,14.2373,14.4952,14.7532, 15.0115,15.2701,15.6587,15.9179,16.1773 ,16.4371,16.6971,16.9575,17.3485, 17.6095,17.8707,18.1322,18.3939,18.6542 ,19.162,19.6705,20.0524,20.3073,20.5624 ,20.8174,21.0728,21.3284,21.5842, 21.8402,22.0961,22.3523,22.6088,22.8655 ,23.1223,23.3789,23.6359,23.893,24.1503 ,24.4076,24.6652,24.9228,25.1808,25.439 ,25.8261,26.0843,26.1914)
FOOTPRINT_POINT_LONGITUDE = (159.587,158.968,158.586,158.59,158.594 ,158.597,158.601,158.604,158.607,158.61 ,158.614,158.616,158.619,158.621, 158.623,158.625,158.627,158.629,158.63, 158.632,158.633,158.634,158.635,158.636 ,158.637,158.637,158.638,158.638, 158.639,158.639,158.639,158.638,158.638 ,158.638,158.637,158.636,158.635, 158.634,158.633,158.632,158.63,158.629, 158.627,158.626,158.624,158.622,158.62, 158.618,158.616,158.613,158.842,159.291 ,159.571,159.915,159.914,159.913, 159.912,159.911,159.91,159.909,159.909, 159.907,159.907,159.906,159.905,159.904 ,159.903,159.902,159.902,159.901,159.9, 159.9,159.899,159.898,159.897,159.896, 159.895,159.895,159.894,159.894,159.893 ,159.893,159.892,159.892,159.891, 159.891,159.89,159.89,159.889,159.889, 159.889,159.888,159.888,159.887,159.887 ,159.886,159.886,159.885,159.885, 159.587)
ORBIT_NUMBER = 5244
ORBITAL_ECCENTRICITY = 0.573
ORBITAL_INCLINATION = 86.73
ORBITAL_SEMIMAJOR_AXIS = 8710.52
PERIAPSIS_ALTITUDE = 330.3
PERIAPSIS_ARGUMENT_ANGLE = 155.81
PERIAPSIS_TIME = 2008-02-01T02:14:52.000Z
SPACECRAFT_ORIENTATION = (0.0,-1.0,0.0)
^MEX_ORIENTATION_DESC = "MEX_ORIENTATION_DESC.TXT"
SPACECRAFT_POINTING_MODE = NADIR
^MEX_POINTING_DESC = "MEX_POINTING_DESC.TXT"
RIGHT_ASCENSION = -1e+32
DECLINATION = -1e+32
OFFSET_ANGLE = -1e+32
SPACECRAFT_SOLAR_DISTANCE = 2.41796e+08
TARGET_NAME = MARS
/* CAMERA DATA ELEMENTS */
DETECTOR_TEMPERATURE = 18.3705
FOCAL_PLANE_TEMPERATURE = 8.9911
INST_CMPRS_NAME = "DISCRETE COSINE TRANSFORMATION (DCT)"
INST_CMPRS_RATIO = 11.4021
INST_CMPRS_QUALITY = 0
INST_CMPRS_QUANTZ_TBL_ID = 0
INSTRUMENT_TEMPERATURE = 11.6418
LENS_TEMPERATURE = 8.1755
MACROPIXEL_SIZE = 4
MISSING_FRAMES = 0
PIXEL_SUBSAMPLING_FLAG = N
SIGNAL_CHAIN_ID = 3
/* RADIOMETRIC DATA ELEMENTS */
BANDWIDTH = 177.0
CENTER_FILTER_WAVELENGTH = 676.5
RADIANCE_OFFSET = 3.09141
RADIANCE_SCALING_FACTOR = 0.0197563
REFLECTANCE_SCALING_FACTOR = 0.000612439
MEX:REFLECTANCE_OFFSET = 0.0958327
/* IMAGE OBJECT DEFINITIONS */
OBJECT = IMAGE
  INTERCHANGE_FORMAT = BINARY
  LINES = 15279
  LINE_SAMPLES = 1557
  SAMPLE_TYPE = UNSIGNED_INTEGER
  SAMPLE_BITS = 8
  BANDS = 1
  BAND_STORAGE_TYPE = BAND_SEQUENTIAL
  MAXIMUM = 255
  MEAN = 132.642
  MINIMUM = 1
  STANDARD_DEVIATION = 25.5284
END_OBJECT = IMAGE
/* MAP OBJECT DEFINITIONS */
OBJECT = IMAGE_MAP_PROJECTION
  ^DATA_SET_MAP_PROJECTION_CATALOG= "DSMAP.CAT"
  A_AXIS_RADIUS = 3396.0
  B_AXIS_RADIUS = 3396.0
  C_AXIS_RADIUS = 3396.0
  CENTER_LATITUDE = 0.0
  CENTER_LONGITUDE = 159.0
  COORDINATE_SYSTEM_NAME = PLANETOGRAPHIC
  COORDINATE_SYSTEM_TYPE = "BODY-FIXED ROTATING"
  EASTERNMOST_LONGITUDE = 159.915
  FIRST_STANDARD_PARALLEL = "N/A"
  LINE_FIRST_PIXEL = 1
  LINE_LAST_PIXEL = 15279
  LINE_PROJECTION_OFFSET = 31076.375
  MAP_PROJECTION_ROTATION = 0.0
  MAP_PROJECTION_TYPE = SINUSOIDAL
  MAP_RESOLUTION = 1185.42760773333
  MAP_SCALE = 0.05
  MAXIMUM_LATITUDE = 26.1914
  MINIMUM_LATITUDE = 13.3374
  POSITIVE_LONGITUDE_DIRECTION = EAST
  REFERENCE_LATITUDE = "N/A"
  REFERENCE_LONGITUDE = "N/A"
  SAMPLE_FIRST_PIXEL = 1
  SAMPLE_LAST_PIXEL = 1557
  SAMPLE_PROJECTION_OFFSET = 483.125
  SECOND_STANDARD_PARALLEL = "N/A"
  WESTERNMOST_LONGITUDE = 158.586
END_OBJECT = IMAGE_MAP_PROJECTION
/* The JPEG2000 image data file associated with this label. */
OBJECT = COMPRESSED_FILE
  FILE_NAME = "H5244_0000_P23.JP2"
  RECORD_TYPE = UNDEFINED
  FILE_RECORDS = UNK
  ENCODING_TYPE = "JP2"
  INTERCHANGE_FORMAT = BINARY
  UNCOMPRESSED_FILE_NAME = "H5244_0000_P23.IMG"
  REQUIRED_STORAGE_BYTES = "23808087"
  ^DESCRIPTION = "JP2INFO.TXT"
END_OBJECT = COMPRESSED_FILE
END
