PDS_VERSION_ID = PDS3
/* FILE DATA ELEMENTS */
RECORD_TYPE = STREAM
/* POINTERS TO DATA OBJECTS */
^COMPRESSED_FILE = "H5247_0000_RE3.JP2"
/* IDENTIFICATION DATA ELEMENTS */
DATA_SET_ID = "MEX-M-HRSC-5-REFDR-MAPPROJECTED-V3.0"
DATA_SET_NAME = "MARS EXPRESS HRSC MAP PROJECTED REFDR V3.0"
DETECTOR_ID = MEX_HRSC_RED
EVENT_TYPE = "MARS-REGIONAL-MAPPING-Vo-Gl-Mw"
INSTRUMENT_HOST_ID = MEX
INSTRUMENT_HOST_NAME = "MARS EXPRESS"
INSTRUMENT_ID = HRSC
INSTRUMENT_NAME = "HIGH RESOLUTION STEREO CAMERA"
MISSION_NAME = "MARS EXPRESS"
MISSION_PHASE_NAME = ME_Phase_11
PROCESSING_LEVEL_ID = 3
PRODUCT_CREATION_TIME = 2016-05-13T12:18:58.000Z
PRODUCT_ID = "H5247_0000_RE3.JP2"
RELEASE_ID = 0060
REVISION_ID = 0000
/* QUALITY DATA ELEMENTS */
DATA_QUALITY_ID = 2
DATA_QUALITY_DESC = "Data calculated based on photogrammetrically improved orbit and attitude data"
/* TIME DATA ELEMENTS */
SPACECRAFT_CLOCK_START_COUNT = "1/0149985810.09048"
SPACECRAFT_CLOCK_STOP_COUNT = "1/0149986146.00959"
START_TIME = 2008-02-01T22:44:31.416Z
STOP_TIME = 2008-02-01T22:49:02.309Z
/* ORBITAL DATA ELEMENTS */
ASCENDING_NODE_LONGITUDE = 118.99
MAXIMUM_RESOLUTION = 111.2
FOOTPRINT_POINT_LATITUDE = (33.1853,33.1781,33.1711,33.2064,32.844 ,32.3096,31.9605,31.6096,31.2594, 30.9089,30.5551,30.2036,29.6773,29.1483 ,28.8027,28.4516,27.9261,27.5758, 27.0538,26.7056,26.3567,26.0092,25.6607 ,25.3127,24.9647,24.6171,24.2699, 23.9239,23.407,23.0624,22.8106,22.4648, 21.9452,21.5994,21.2556,20.742,20.2286, 19.8869,19.546,19.1958,18.8431,18.4903, 18.1414,17.791,17.4415,17.0915,16.7419, 16.3927,16.044,15.6188,15.62,15.622, 15.6234,15.6241,15.627,15.9746,16.3233, 16.6722,17.1956,17.5453,18.0719,18.4239 ,18.778,19.13,19.4821,19.8248,20.1681, 20.5108,20.8542,21.3704,21.8877,22.2325 ,22.5775,22.9237,23.1764,23.5226,23.869 ,24.2156,24.7333,25.2549,25.7766, 26.1248,26.4734,26.8223,27.3452,27.6949 ,28.2197,28.5709,28.9205,29.4488,29.799 ,30.152,30.503,31.0299,31.3805,31.907, 32.2588,32.6095,32.9699,33.1853)
FOOTPRINT_POINT_LONGITUDE = (219.555,219.174,218.821,218.54,218.551 ,218.566,218.575,218.584,218.593, 218.601,218.61,218.618,218.629,218.64, 218.646,218.652,218.661,218.667,218.674 ,218.679,218.683,218.687,218.691, 218.695,218.699,218.702,218.705,218.707 ,218.71,218.712,218.713,218.715,218.718 ,218.719,218.72,218.721,218.721,218.721 ,218.72,218.72,218.72,218.719,218.717, 218.716,218.714,218.713,218.711,218.709 ,218.707,218.786,218.99,219.338,219.579 ,219.771,219.985,219.984,219.984, 219.983,219.982,219.981,219.98,219.98, 219.98,219.979,219.979,219.979,219.979, 219.979,219.978,219.978,219.978,219.978 ,219.978,219.978,219.978,219.978, 219.977,219.977,219.975,219.975,219.975 ,219.975,219.975,219.975,219.974, 219.974,219.974,219.975,219.975,219.976 ,219.976,219.977,219.977,219.977, 219.976,219.976,219.976,219.975,219.974 ,219.555)
ORBIT_NUMBER = 5247
ORBITAL_ECCENTRICITY = 0.573
ORBITAL_INCLINATION = 86.74
ORBITAL_SEMIMAJOR_AXIS = 8717.03
PERIAPSIS_ALTITUDE = 329.86
PERIAPSIS_ARGUMENT_ANGLE = 155.24
PERIAPSIS_TIME = 2008-02-01T22:46:15.000Z
SPACECRAFT_ORIENTATION = (0.0,-1.0,0.0)
^MEX_ORIENTATION_DESC = "MEX_ORIENTATION_DESC.TXT"
SPACECRAFT_POINTING_MODE = ACROSSTRACK
^MEX_POINTING_DESC = "MEX_POINTING_DESC.TXT"
RIGHT_ASCENSION = -1e+32
DECLINATION = -1e+32
OFFSET_ANGLE = 0.2
SPACECRAFT_SOLAR_DISTANCE = 2.41915e+08
TARGET_NAME = MARS
/* CAMERA DATA ELEMENTS */
DETECTOR_TEMPERATURE = 18.5744
FOCAL_PLANE_TEMPERATURE = 8.3794
INST_CMPRS_NAME = "DISCRETE COSINE TRANSFORMATION (DCT)"
INST_CMPRS_RATIO = 10.0073
INST_CMPRS_QUALITY = 0
INST_CMPRS_QUANTZ_TBL_ID = 0
INSTRUMENT_TEMPERATURE = 11.0301
LENS_TEMPERATURE = 8.7872
MACROPIXEL_SIZE = 8
MISSING_FRAMES = 6
PIXEL_SUBSAMPLING_FLAG = N
SIGNAL_CHAIN_ID = 2
/* RADIOMETRIC DATA ELEMENTS */
BANDWIDTH = 48.0
CENTER_FILTER_WAVELENGTH = 748.0
RADIANCE_OFFSET = 1.08859
RADIANCE_SCALING_FACTOR = 0.00686086
REFLECTANCE_SCALING_FACTOR = 0.000916281
MEX:REFLECTANCE_OFFSET = 0.145383
/* IMAGE OBJECT DEFINITIONS */
OBJECT = IMAGE
  INTERCHANGE_FORMAT = BINARY
  LINES = 10434
  LINE_SAMPLES = 827
  SAMPLE_TYPE = UNSIGNED_INTEGER
  SAMPLE_BITS = 8
  BANDS = 1
  BAND_STORAGE_TYPE = BAND_SEQUENTIAL
  MAXIMUM = 255
  MEAN = 144.537
  MINIMUM = 1
  STANDARD_DEVIATION = 18.9046
END_OBJECT = IMAGE
/* MAP OBJECT DEFINITIONS */
OBJECT = IMAGE_MAP_PROJECTION
  ^DATA_SET_MAP_PROJECTION_CATALOG= "DSMAP.CAT"
  A_AXIS_RADIUS = 3396.0
  B_AXIS_RADIUS = 3396.0
  C_AXIS_RADIUS = 3396.0
  CENTER_LATITUDE = 0.0
  CENTER_LONGITUDE = 219.0
  COORDINATE_SYSTEM_NAME = PLANETOGRAPHIC
  COORDINATE_SYSTEM_TYPE = "BODY-FIXED ROTATING"
  EASTERNMOST_LONGITUDE = 219.985
  FIRST_STANDARD_PARALLEL = "N/A"
  LINE_FIRST_PIXEL = 1
  LINE_LAST_PIXEL = 10434
  LINE_PROJECTION_OFFSET = 19691.5625
  MAP_PROJECTION_ROTATION = 0.0
  MAP_PROJECTION_TYPE = SINUSOIDAL
  MAP_RESOLUTION = 592.713803866667
  MAP_SCALE = 0.1
  MAXIMUM_LATITUDE = 33.2064
  MINIMUM_LATITUDE = 15.6188
  POSITIVE_LONGITUDE_DIRECTION = EAST
  REFERENCE_LATITUDE = "N/A"
  REFERENCE_LONGITUDE = "N/A"
  SAMPLE_FIRST_PIXEL = 1
  SAMPLE_LAST_PIXEL = 827
  SAMPLE_PROJECTION_OFFSET = 245.3125
  SECOND_STANDARD_PARALLEL = "N/A"
  WESTERNMOST_LONGITUDE = 218.54
END_OBJECT = IMAGE_MAP_PROJECTION
/* The JPEG2000 image data file associated with this label. */
OBJECT = COMPRESSED_FILE
  FILE_NAME = "H5247_0000_RE3.JP2"
  RECORD_TYPE = UNDEFINED
  FILE_RECORDS = UNK
  ENCODING_TYPE = "JP2"
  INTERCHANGE_FORMAT = BINARY
  UNCOMPRESSED_FILE_NAME = "H5247_0000_RE3.IMG"
  REQUIRED_STORAGE_BYTES = "8647112"
  ^DESCRIPTION = "JP2INFO.TXT"
END_OBJECT = COMPRESSED_FILE
END
