PDS_VERSION_ID = PDS3
/* FILE DATA ELEMENTS */
RECORD_TYPE = STREAM
/* POINTERS TO DATA OBJECTS */
^COMPRESSED_FILE = "H5249_0000_P23.JP2"
/* IDENTIFICATION DATA ELEMENTS */
DATA_SET_ID = "MEX-M-HRSC-5-REFDR-MAPPROJECTED-V3.0"
DATA_SET_NAME = "MARS EXPRESS HRSC MAP PROJECTED REFDR V3.0"
DETECTOR_ID = MEX_HRSC_P2
EVENT_TYPE = "MARS-REGIONAL-MAPPING-Fl-Gl-Lc"
INSTRUMENT_HOST_ID = MEX
INSTRUMENT_HOST_NAME = "MARS EXPRESS"
INSTRUMENT_ID = HRSC
INSTRUMENT_NAME = "HIGH RESOLUTION STEREO CAMERA"
MISSION_NAME = "MARS EXPRESS"
MISSION_PHASE_NAME = ME_Phase_11
PROCESSING_LEVEL_ID = 3
PRODUCT_CREATION_TIME = 2016-05-13T12:18:58.000Z
PRODUCT_ID = "H5249_0000_P23.JP2"
RELEASE_ID = 0060
REVISION_ID = 0000
/* QUALITY DATA ELEMENTS */
DATA_QUALITY_ID = 2
DATA_QUALITY_DESC = "Data calculated based on photogrammetrically improved orbit and attitude data"
/* TIME DATA ELEMENTS */
SPACECRAFT_CLOCK_START_COUNT = "1/0150034928.08263"
SPACECRAFT_CLOCK_STOP_COUNT = "1/0150035241.30660"
START_TIME = 2008-02-02T12:23:14.433Z
STOP_TIME = 2008-02-02T12:27:13.206Z
/* ORBITAL DATA ELEMENTS */
ASCENDING_NODE_LONGITUDE = 118.95
MAXIMUM_RESOLUTION = 27.4
FOOTPRINT_POINT_LATITUDE = (42.6987,42.6955,42.6919,42.6877, 42.6831,42.6779,42.5447,42.182,41.8191, 41.2702,40.9052,40.3603,39.9968,39.6525 ,39.3476,39.042,38.5831,38.2761,37.9715 ,37.5161,37.0551,36.7454,36.439,36.1327 ,35.6733,35.3667,35.0602,34.6,34.2929, 33.9867,33.6834,33.3763,33.0705,32.6076 ,32.3002,32.002,31.7053,31.4076,31.111, 30.8144,30.5182,30.0752,29.777,29.4808, 29.1838,28.8883,28.5921,28.1482,27.8519 ,27.556,27.1127,27.0735,27.072,27.0681, 27.2158,27.5116,27.9552,28.2517,28.5496 ,28.8465,29.1429,29.4395,29.7371, 30.0352,30.3315,30.6293,31.0749,31.5202 ,31.9654,32.2653,32.5709,32.8829, 33.1849,33.4913,33.9512,34.2598,34.5671 ,34.8745,35.3343,35.641,35.9496,36.4089 ,36.7155,37.0289,37.3367,37.7911, 38.0981,38.4048,38.7116,39.1746,39.4841 ,39.7907,40.156,40.5196,41.0617,41.4262 ,41.7891,42.1625,42.5268,42.6987)
FOOTPRINT_POINT_LONGITUDE = (18.7736,18.4928,18.2109,17.9278, 17.6437,17.3581,17.1173,17.1464,17.1747 ,17.2198,17.2478,17.2855,17.3098, 17.3341,17.3535,17.373,17.4017,17.4212, 17.4379,17.4606,17.4876,17.5071,17.5231 ,17.5386,17.561,17.5758,17.59,17.611, 17.6249,17.6375,17.6472,17.66,17.6713, 17.6914,17.7033,17.7147,17.725,17.7359, 17.7457,17.7552,17.7641,17.776,17.7861, 17.7943,17.803,17.8103,17.8179,17.8287, 17.836,17.8429,17.8525,18.2149,18.4968, 18.9415,19.172,19.1699,19.1665,19.1643, 19.1624,19.1602,19.1579,19.1555,19.1533 ,19.1511,19.1486,19.1463,19.1425, 19.1385,19.1344,19.1322,19.1291,19.1272 ,19.1232,19.12,19.1152,19.1123,19.1091, 19.1058,19.1006,19.0971,19.0939,19.0882 ,19.0845,19.082,19.0784,19.0713,19.0674 ,19.0633,19.0591,19.0535,19.0498, 19.0453,19.0398,19.0339,19.024,19.018, 19.0116,19.0075,19.0012,18.7736)
ORBIT_NUMBER = 5249
ORBITAL_ECCENTRICITY = 0.573
ORBITAL_INCLINATION = 86.72
ORBITAL_SEMIMAJOR_AXIS = 8714.16
PERIAPSIS_ALTITUDE = 330.47
PERIAPSIS_ARGUMENT_ANGLE = 154.91
PERIAPSIS_TIME = 2008-02-02T12:27:24.000Z
SPACECRAFT_ORIENTATION = (0.0,-1.0,0.0)
^MEX_ORIENTATION_DESC = "MEX_ORIENTATION_DESC.TXT"
SPACECRAFT_POINTING_MODE = ACROSSTRACK
^MEX_POINTING_DESC = "MEX_POINTING_DESC.TXT"
RIGHT_ASCENSION = -1e+32
DECLINATION = -1e+32
OFFSET_ANGLE = -0.35
SPACECRAFT_SOLAR_DISTANCE = 2.41994e+08
TARGET_NAME = MARS
/* CAMERA DATA ELEMENTS */
DETECTOR_TEMPERATURE = 18.3705
FOCAL_PLANE_TEMPERATURE = 7.9716
INST_CMPRS_NAME = "DISCRETE COSINE TRANSFORMATION (DCT)"
INST_CMPRS_RATIO = 6.59414
INST_CMPRS_QUALITY = 0
INST_CMPRS_QUANTZ_TBL_ID = 0
INSTRUMENT_TEMPERATURE = 11.234
LENS_TEMPERATURE = 8.5833
MACROPIXEL_SIZE = 2
MISSING_FRAMES = 0
PIXEL_SUBSAMPLING_FLAG = N
SIGNAL_CHAIN_ID = 3
/* RADIOMETRIC DATA ELEMENTS */
BANDWIDTH = 177.0
CENTER_FILTER_WAVELENGTH = 676.5
RADIANCE_OFFSET = 3.56868
RADIANCE_SCALING_FACTOR = 0.0218319
REFLECTANCE_SCALING_FACTOR = 0.000677884
MEX:REFLECTANCE_OFFSET = 0.110808
/* IMAGE OBJECT DEFINITIONS */
OBJECT = IMAGE
  INTERCHANGE_FORMAT = BINARY
  LINES = 37197
  LINE_SAMPLES = 4116
  SAMPLE_TYPE = UNSIGNED_INTEGER
  SAMPLE_BITS = 8
  BANDS = 1
  BAND_STORAGE_TYPE = BAND_SEQUENTIAL
  MAXIMUM = 255
  MEAN = 131.043
  MINIMUM = 1
  STANDARD_DEVIATION = 28.7992
END_OBJECT = IMAGE
/* MAP OBJECT DEFINITIONS */
OBJECT = IMAGE_MAP_PROJECTION
  ^DATA_SET_MAP_PROJECTION_CATALOG= "DSMAP.CAT"
  A_AXIS_RADIUS = 3396.0
  B_AXIS_RADIUS = 3396.0
  C_AXIS_RADIUS = 3396.0
  CENTER_LATITUDE = 0.0
  CENTER_LONGITUDE = 18.0
  COORDINATE_SYSTEM_NAME = PLANETOGRAPHIC
  COORDINATE_SYSTEM_TYPE = "BODY-FIXED ROTATING"
  EASTERNMOST_LONGITUDE = 19.172
  FIRST_STANDARD_PARALLEL = "N/A"
  LINE_FIRST_PIXEL = 1
  LINE_LAST_PIXEL = 37197
  LINE_PROJECTION_OFFSET = 101351.25
  MAP_PROJECTION_ROTATION = 0.0
  MAP_PROJECTION_TYPE = SINUSOIDAL
  MAP_RESOLUTION = 2370.85521546667
  MAP_SCALE = 0.025
  MAXIMUM_LATITUDE = 42.6987
  MINIMUM_LATITUDE = 27.0681
  POSITIVE_LONGITUDE_DIRECTION = EAST
  REFERENCE_LATITUDE = "N/A"
  REFERENCE_LONGITUDE = "N/A"
  SAMPLE_FIRST_PIXEL = 1
  SAMPLE_LAST_PIXEL = 4116
  SAMPLE_PROJECTION_OFFSET = 1624.75
  SECOND_STANDARD_PARALLEL = "N/A"
  WESTERNMOST_LONGITUDE = 17.1173
END_OBJECT = IMAGE_MAP_PROJECTION
/* The JPEG2000 image data file associated with this label. */
OBJECT = COMPRESSED_FILE
  FILE_NAME = "H5249_0000_P23.JP2"
  RECORD_TYPE = UNDEFINED
  FILE_RECORDS = UNK
  ENCODING_TYPE = "JP2"
  INTERCHANGE_FORMAT = BINARY
  UNCOMPRESSED_FILE_NAME = "H5249_0000_P23.IMG"
  REQUIRED_STORAGE_BYTES = "153127548"
  ^DESCRIPTION = "JP2INFO.TXT"
END_OBJECT = COMPRESSED_FILE
END
