PDS_VERSION_ID = PDS3
/* FILE DATA ELEMENTS */
RECORD_TYPE = STREAM
/* POINTERS TO DATA OBJECTS */
^COMPRESSED_FILE = "H5252_0000_P23.JP2"
/* IDENTIFICATION DATA ELEMENTS */
DATA_SET_ID = "MEX-M-HRSC-5-REFDR-MAPPROJECTED-V3.0"
DATA_SET_NAME = "MARS EXPRESS HRSC MAP PROJECTED REFDR V3.0"
DETECTOR_ID = MEX_HRSC_P2
EVENT_TYPE = "MARS-REGIONAL-MAPPING-Vo-Im-Eo"
INSTRUMENT_HOST_ID = MEX
INSTRUMENT_HOST_NAME = "MARS EXPRESS"
INSTRUMENT_ID = HRSC
INSTRUMENT_NAME = "HIGH RESOLUTION STEREO CAMERA"
MISSION_NAME = "MARS EXPRESS"
MISSION_PHASE_NAME = ME_Phase_11
PROCESSING_LEVEL_ID = 3
PRODUCT_CREATION_TIME = 2016-05-13T12:18:58.000Z
PRODUCT_ID = "H5252_0000_P23.JP2"
RELEASE_ID = 0060
REVISION_ID = 0000
/* QUALITY DATA ELEMENTS */
DATA_QUALITY_ID = 2
DATA_QUALITY_DESC = "Data calculated based on photogrammetrically improved orbit and attitude data"
/* TIME DATA ELEMENTS */
SPACECRAFT_CLOCK_START_COUNT = "1/0150109156.08242"
SPACECRAFT_CLOCK_STOP_COUNT = "1/0150109497.58061"
START_TIME = 2008-02-03T09:00:08.996Z
STOP_TIME = 2008-02-03T09:04:44.939Z
/* ORBITAL DATA ELEMENTS */
ASCENDING_NODE_LONGITUDE = 118.89
MAXIMUM_RESOLUTION = 55.2
FOOTPRINT_POINT_LATITUDE = (22.3789,22.377,22.3752,22.0425,21.6947 ,21.3463,21.0041,20.4885,20.1447, 19.7991,19.4436,18.9156,18.5616,18.2049 ,17.6797,17.3286,16.979,16.6278,16.276, 15.7492,15.4008,15.0516,14.5289,14.1805 ,13.833,13.4867,12.9671,12.621,12.2771, 11.9328,11.5893,11.2473,10.9048,10.5632 ,10.2223,9.88206,9.5425,9.20355,8.86493 ,8.52735,8.1901,7.85411,7.5189,7.18517, 6.8498,6.51625,6.18425,5.68365,5.35374, 5.14192,5.13936,5.13689,5.13667,5.4676, 5.79965,6.1323,6.46637,6.80151,7.13605, 7.47152,7.80826,8.14427,8.4816,8.81931, 9.158,9.66691,10.0067,10.347,10.6886, 11.0295,11.3714,11.7152,12.0586,12.4031 ,12.7479,13.0942,13.4399,13.7874, 14.3094,14.6575,15.006,15.3554,15.8793, 16.2306,16.7572,17.2849,17.6369,17.9898 ,18.5182,18.8732,19.2247,19.5822, 19.9361,20.2796,20.6192,20.9648,21.4821 ,21.8291,22.1739,22.3789)
FOOTPRINT_POINT_LONGITUDE = (79.2991,78.8204,78.4476,78.1828, 78.1851,78.1875,78.1871,78.1874,78.1875 ,78.1871,78.1872,78.1851,78.1845,78.185 ,78.1816,78.1797,78.1771,78.1752, 78.1736,78.1708,78.1677,78.1651,78.1607 ,78.1577,78.1545,78.1508,78.1454, 78.1418,78.1373,78.133,78.1286,78.1235, 78.1188,78.1137,78.1085,78.1032,78.0976 ,78.0919,78.0862,78.0802,78.0742, 78.0677,78.0611,78.0541,78.0478,78.0409 ,78.0336,78.0239,78.0161,78.1647, 78.5723,79.1072,79.5214,79.5192,79.5173 ,79.5154,79.5138,79.5125,79.5106, 79.5088,79.5073,79.5052,79.5035,79.5016 ,79.4999,79.4973,79.4955,79.4936, 79.4921,79.49,79.4881,79.4868,79.4852, 79.4837,79.4822,79.4811,79.4795,79.4785 ,79.477,79.4756,79.4743,79.4731,79.4709 ,79.4701,79.4683,79.4666,79.4653, 79.4642,79.4616,79.4611,79.4585,79.4588 ,79.4576,79.4563,79.4528,79.4521, 79.4503,79.4499,79.4482,79.2991)
ORBIT_NUMBER = 5252
ORBITAL_ECCENTRICITY = 0.573
ORBITAL_INCLINATION = 86.74
ORBITAL_SEMIMAJOR_AXIS = 8716.63
PERIAPSIS_ALTITUDE = 329.96
PERIAPSIS_ARGUMENT_ANGLE = 154.37
PERIAPSIS_TIME = 2008-02-03T08:58:59.000Z
SPACECRAFT_ORIENTATION = (0.0,-1.0,0.0)
^MEX_ORIENTATION_DESC = "MEX_ORIENTATION_DESC.TXT"
SPACECRAFT_POINTING_MODE = ACROSSTRACK
^MEX_POINTING_DESC = "MEX_POINTING_DESC.TXT"
RIGHT_ASCENSION = -1e+32
DECLINATION = -1e+32
OFFSET_ANGLE = 0.05
SPACECRAFT_SOLAR_DISTANCE = 2.42111e+08
TARGET_NAME = MARS
/* CAMERA DATA ELEMENTS */
DETECTOR_TEMPERATURE = 18.5744
FOCAL_PLANE_TEMPERATURE = 8.1755
INST_CMPRS_NAME = "DISCRETE COSINE TRANSFORMATION (DCT)"
INST_CMPRS_RATIO = 9.97435
INST_CMPRS_QUALITY = 0
INST_CMPRS_QUANTZ_TBL_ID = 0
INSTRUMENT_TEMPERATURE = 11.0301
LENS_TEMPERATURE = 8.7872
MACROPIXEL_SIZE = 4
MISSING_FRAMES = 0
PIXEL_SUBSAMPLING_FLAG = N
SIGNAL_CHAIN_ID = 3
/* RADIOMETRIC DATA ELEMENTS */
BANDWIDTH = 177.0
CENTER_FILTER_WAVELENGTH = 676.5
RADIANCE_OFFSET = 2.97692
RADIANCE_SCALING_FACTOR = 0.0186338
REFLECTANCE_SCALING_FACTOR = 0.000579145
MEX:REFLECTANCE_OFFSET = 0.0925236
/* IMAGE OBJECT DEFINITIONS */
OBJECT = IMAGE
  INTERCHANGE_FORMAT = BINARY
  LINES = 20457
  LINE_SAMPLES = 1802
  SAMPLE_TYPE = UNSIGNED_INTEGER
  SAMPLE_BITS = 8
  BANDS = 1
  BAND_STORAGE_TYPE = BAND_SEQUENTIAL
  MAXIMUM = 255
  MEAN = 115.776
  MINIMUM = 1
  STANDARD_DEVIATION = 44.753
END_OBJECT = IMAGE
/* MAP OBJECT DEFINITIONS */
OBJECT = IMAGE_MAP_PROJECTION
  ^DATA_SET_MAP_PROJECTION_CATALOG= "DSMAP.CAT"
  A_AXIS_RADIUS = 3396.0
  B_AXIS_RADIUS = 3396.0
  C_AXIS_RADIUS = 3396.0
  CENTER_LATITUDE = 0.0
  CENTER_LONGITUDE = 79.0
  COORDINATE_SYSTEM_NAME = PLANETOGRAPHIC
  COORDINATE_SYSTEM_TYPE = "BODY-FIXED ROTATING"
  EASTERNMOST_LONGITUDE = 79.5214
  FIRST_STANDARD_PARALLEL = "N/A"
  LINE_FIRST_PIXEL = 1
  LINE_LAST_PIXEL = 20457
  LINE_PROJECTION_OFFSET = 26557.375
  MAP_PROJECTION_ROTATION = 0.0
  MAP_PROJECTION_TYPE = SINUSOIDAL
  MAP_RESOLUTION = 1185.42760773333
  MAP_SCALE = 0.05
  MAXIMUM_LATITUDE = 22.3789
  MINIMUM_LATITUDE = 5.13667
  POSITIVE_LONGITUDE_DIRECTION = EAST
  REFERENCE_LATITUDE = "N/A"
  REFERENCE_LONGITUDE = "N/A"
  SAMPLE_FIRST_PIXEL = 1
  SAMPLE_LAST_PIXEL = 1802
  SAMPLE_PROJECTION_OFFSET = 1172.375
  SECOND_STANDARD_PARALLEL = "N/A"
  WESTERNMOST_LONGITUDE = 78.01609999999999
END_OBJECT = IMAGE_MAP_PROJECTION
/* The JPEG2000 image data file associated with this label. */
OBJECT = COMPRESSED_FILE
  FILE_NAME = "H5252_0000_P23.JP2"
  RECORD_TYPE = UNDEFINED
  FILE_RECORDS = UNK
  ENCODING_TYPE = "JP2"
  INTERCHANGE_FORMAT = BINARY
  UNCOMPRESSED_FILE_NAME = "H5252_0000_P23.IMG"
  REQUIRED_STORAGE_BYTES = "36883336"
  ^DESCRIPTION = "JP2INFO.TXT"
END_OBJECT = COMPRESSED_FILE
END
