PDS_VERSION_ID = PDS3
/* FILE DATA ELEMENTS */
RECORD_TYPE = STREAM
/* POINTERS TO DATA OBJECTS */
^COMPRESSED_FILE = "H5253_0000_S13.JP2"
/* IDENTIFICATION DATA ELEMENTS */
DATA_SET_ID = "MEX-M-HRSC-5-REFDR-MAPPROJECTED-V3.0"
DATA_SET_NAME = "MARS EXPRESS HRSC MAP PROJECTED REFDR V3.0"
DETECTOR_ID = MEX_HRSC_S1
EVENT_TYPE = "MARS-LOCAL-STEREO-Fl-Eb-Tc"
INSTRUMENT_HOST_ID = MEX
INSTRUMENT_HOST_NAME = "MARS EXPRESS"
INSTRUMENT_ID = HRSC
INSTRUMENT_NAME = "HIGH RESOLUTION STEREO CAMERA"
MISSION_NAME = "MARS EXPRESS"
MISSION_PHASE_NAME = ME_Phase_11
PROCESSING_LEVEL_ID = 3
PRODUCT_CREATION_TIME = 2016-05-13T12:18:58.000Z
PRODUCT_ID = "H5253_0000_S13.JP2"
RELEASE_ID = 0060
REVISION_ID = 0000
/* QUALITY DATA ELEMENTS */
DATA_QUALITY_ID = 2
DATA_QUALITY_DESC = "Data calculated based on photogrammetrically improved orbit and attitude data"
/* TIME DATA ELEMENTS */
SPACECRAFT_CLOCK_START_COUNT = "1/0150133699.08426"
SPACECRAFT_CLOCK_STOP_COUNT = "1/0150133872.25198"
START_TIME = 2008-02-03T15:48:22.921Z
STOP_TIME = 2008-02-03T15:50:14.182Z
/* ORBITAL DATA ELEMENTS */
ASCENDING_NODE_LONGITUDE = 118.87
MAXIMUM_RESOLUTION = 14.1
FOOTPRINT_POINT_LATITUDE = (28.1812,28.1832,28.1838,28.184,28.1836 ,28.1827,28.1291,27.9861,27.8432,27.7, 27.5567,27.4137,27.2704,27.1269,26.9833 ,26.8399,26.6963,26.5525,26.4087, 26.2651,26.1212,25.9774,25.7613,25.5452 ,25.4008,25.2566,25.1123,24.8958, 24.7515,24.6094,24.4674,24.3236,24.1779 ,24.0326,23.8885,23.7433,23.5271, 23.3831,23.1622,23.0144,22.7289,22.5124 ,22.3679,22.1435,21.9239,21.7776, 21.6352,21.4919,21.2775,21.1317,20.9859 ,20.8994,20.8991,20.8978,20.8954, 20.9644,21.1826,21.3283,21.4741,21.6926 ,21.8386,21.9842,22.1302,22.2755, 22.4212,22.5669,22.7106,22.8509,22.9933 ,23.1373,23.2821,23.4269,23.5721, 23.7171,23.9346,24.1544,24.3039,24.4474 ,24.592,24.7363,24.9535,25.0988,25.3153 ,25.456,25.6002,25.8162,26.0324,26.2484 ,26.3924,26.5363,26.6804,26.8245, 27.0394,27.1827,27.3266,27.4705,27.6135 ,27.7566,27.9712,28.1812)
FOOTPRINT_POINT_LONGITUDE = (339.494,339.168,338.96,338.752,338.545 ,338.338,338.164,338.167,338.17,338.172 ,338.175,338.177,338.18,338.182,338.185 ,338.187,338.189,338.192,338.194, 338.196,338.198,338.2,338.203,338.206, 338.208,338.21,338.212,338.215,338.216, 338.219,338.221,338.222,338.224,338.225 ,338.227,338.228,338.23,338.232,338.233 ,338.233,338.237,338.239,338.24,338.24, 338.241,338.241,338.243,338.244,338.246 ,338.247,338.247,338.371,338.655, 338.853,339.151,339.505,339.506,339.506 ,339.506,339.506,339.506,339.506, 339.506,339.507,339.507,339.507,339.507 ,339.51,339.511,339.512,339.512,339.512 ,339.513,339.513,339.513,339.512,339.51 ,339.511,339.511,339.512,339.512, 339.512,339.512,339.514,339.514,339.514 ,339.515,339.515,339.515,339.515, 339.516,339.516,339.516,339.517,339.517 ,339.517,339.517,339.517,339.518, 339.494)
ORBIT_NUMBER = 5253
ORBITAL_ECCENTRICITY = 0.572
ORBITAL_INCLINATION = 86.74
ORBITAL_SEMIMAJOR_AXIS = 8707.31
PERIAPSIS_ALTITUDE = 330.95
PERIAPSIS_ARGUMENT_ANGLE = 154.19
PERIAPSIS_TIME = 2008-02-03T15:49:28.000Z
SPACECRAFT_ORIENTATION = (0.0,-1.0,0.0)
^MEX_ORIENTATION_DESC = "MEX_ORIENTATION_DESC.TXT"
SPACECRAFT_POINTING_MODE = ACROSSTRACK
^MEX_POINTING_DESC = "MEX_POINTING_DESC.TXT"
RIGHT_ASCENSION = -1e+32
DECLINATION = -1e+32
OFFSET_ANGLE = 0.15
SPACECRAFT_SOLAR_DISTANCE = 2.4215e+08
TARGET_NAME = MARS
/* CAMERA DATA ELEMENTS */
DETECTOR_TEMPERATURE = 17.1471
FOCAL_PLANE_TEMPERATURE = 8.3794
INST_CMPRS_NAME = "DISCRETE COSINE TRANSFORMATION (DCT)"
INST_CMPRS_RATIO = 7.78514
INST_CMPRS_QUALITY = 0
INST_CMPRS_QUANTZ_TBL_ID = 0
INSTRUMENT_TEMPERATURE = 11.0301
LENS_TEMPERATURE = 8.7872
MACROPIXEL_SIZE = 1
MISSING_FRAMES = 0
PIXEL_SUBSAMPLING_FLAG = N
SIGNAL_CHAIN_ID = 2
/* RADIOMETRIC DATA ELEMENTS */
BANDWIDTH = 180.0
CENTER_FILTER_WAVELENGTH = 677.0
RADIANCE_OFFSET = 2.61478
RADIANCE_SCALING_FACTOR = 0.0182009
REFLECTANCE_SCALING_FACTOR = 0.000556807
MEX:REFLECTANCE_OFFSET = 0.079992
/* IMAGE OBJECT DEFINITIONS */
OBJECT = IMAGE
  INTERCHANGE_FORMAT = BINARY
  LINES = 34386
  LINE_SAMPLES = 5987
  SAMPLE_TYPE = UNSIGNED_INTEGER
  SAMPLE_BITS = 8
  BANDS = 1
  BAND_STORAGE_TYPE = BAND_SEQUENTIAL
  MAXIMUM = 255
  MEAN = 97.602
  MINIMUM = 1
  STANDARD_DEVIATION = 31.9633
END_OBJECT = IMAGE
/* MAP OBJECT DEFINITIONS */
OBJECT = IMAGE_MAP_PROJECTION
  ^DATA_SET_MAP_PROJECTION_CATALOG= "DSMAP.CAT"
  A_AXIS_RADIUS = 3396.0
  B_AXIS_RADIUS = 3396.0
  C_AXIS_RADIUS = 3396.0
  CENTER_LATITUDE = 0.0
  CENTER_LONGITUDE = 339.0
  COORDINATE_SYSTEM_NAME = PLANETOGRAPHIC
  COORDINATE_SYSTEM_TYPE = "BODY-FIXED ROTATING"
  EASTERNMOST_LONGITUDE = 339.518
  FIRST_STANDARD_PARALLEL = "N/A"
  LINE_FIRST_PIXEL = 1
  LINE_LAST_PIXEL = 34386
  LINE_PROJECTION_OFFSET = 133580.0
  MAP_PROJECTION_ROTATION = 0.0
  MAP_PROJECTION_TYPE = SINUSOIDAL
  MAP_RESOLUTION = 4741.71043093333
  MAP_SCALE = 0.0125
  MAXIMUM_LATITUDE = 28.184
  MINIMUM_LATITUDE = 20.8954
  POSITIVE_LONGITUDE_DIRECTION = EAST
  REFERENCE_LATITUDE = "N/A"
  REFERENCE_LONGITUDE = "N/A"
  SAMPLE_FIRST_PIXEL = 1
  SAMPLE_LAST_PIXEL = 5987
  SAMPLE_PROJECTION_OFFSET = 3560.0
  SECOND_STANDARD_PARALLEL = "N/A"
  WESTERNMOST_LONGITUDE = 338.164
END_OBJECT = IMAGE_MAP_PROJECTION
/* The JPEG2000 image data file associated with this label. */
OBJECT = COMPRESSED_FILE
  FILE_NAME = "H5253_0000_S13.JP2"
  RECORD_TYPE = UNDEFINED
  FILE_RECORDS = UNK
  ENCODING_TYPE = "JP2"
  INTERCHANGE_FORMAT = BINARY
  UNCOMPRESSED_FILE_NAME = "H5253_0000_S13.IMG"
  REQUIRED_STORAGE_BYTES = "205898917"
  ^DESCRIPTION = "JP2INFO.TXT"
END_OBJECT = COMPRESSED_FILE
END
