PDS_VERSION_ID = PDS3
/* FILE DATA ELEMENTS */
RECORD_TYPE = STREAM
/* POINTERS TO DATA OBJECTS */
^COMPRESSED_FILE = "H5258_0000_ND3.JP2"
/* IDENTIFICATION DATA ELEMENTS */
DATA_SET_ID = "MEX-M-HRSC-5-REFDR-MAPPROJECTED-V3.0"
DATA_SET_NAME = "MARS EXPRESS HRSC MAP PROJECTED REFDR V3.0"
DETECTOR_ID = MEX_HRSC_NADIR
EVENT_TYPE = "MARS-REGIONAL-MAPPING-Vo-Eo-La"
INSTRUMENT_HOST_ID = MEX
INSTRUMENT_HOST_NAME = "MARS EXPRESS"
INSTRUMENT_ID = HRSC
INSTRUMENT_NAME = "HIGH RESOLUTION STEREO CAMERA"
MISSION_NAME = "MARS EXPRESS"
MISSION_PHASE_NAME = ME_Phase_11
PROCESSING_LEVEL_ID = 3
PRODUCT_CREATION_TIME = 2016-05-13T12:18:58.000Z
PRODUCT_ID = "H5258_0000_ND3.JP2"
RELEASE_ID = 0060
REVISION_ID = 0000
/* QUALITY DATA ELEMENTS */
DATA_QUALITY_ID = 1
DATA_QUALITY_DESC = "Data calculated based on original SPICE kernels"
/* TIME DATA ELEMENTS */
SPACECRAFT_CLOCK_START_COUNT = "1/0150256974.09086"
SPACECRAFT_CLOCK_STOP_COUNT = "1/0150257190.25236"
START_TIME = 2008-02-05T02:03:27.573Z
STOP_TIME = 2008-02-05T02:05:56.552Z
/* ORBITAL DATA ELEMENTS */
ASCENDING_NODE_LONGITUDE = 118.77
MAXIMUM_RESOLUTION = 13.6
FOOTPRINT_POINT_LATITUDE = (21.5936,21.5928,21.5916,21.4967, 21.1193,20.7421,20.3651,19.9883,19.7961 ,19.6015,19.4071,19.2126,19.0183,18.824 ,18.6297,18.4356,18.2415,18.0475, 17.8535,17.6596,17.4658,17.2721,17.0785 ,16.8849,16.6914,16.498,16.3047,16.1115 ,15.9183,15.7253,15.5323,15.3394, 15.1467,14.954,14.7614,14.5689,14.3765, 14.1843,13.9921,13.8,13.608,13.4162, 13.2244,13.0328,12.8413,12.6499,12.4586 ,12.2674,11.9785,11.978,11.9772,11.9763 ,11.9743,11.9731,12.1643,12.3556,12.547 ,12.7385,12.9301,13.1219,13.3137, 13.5057,13.6978,13.89,14.0823,14.2747, 14.4672,14.6598,14.8525,15.0453,15.2382 ,15.4312,15.6242,15.8174,16.0107,16.204 ,16.3975,16.591,16.7846,16.9783,17.1721 ,17.366,17.5599,17.7539,17.948,18.1422, 18.3364,18.5307,18.7251,18.9195,19.114, 19.3086,19.5033,19.6979,19.9878,20.3649 ,20.7423,21.1198,21.4976,21.5936)
FOOTPRINT_POINT_LONGITUDE = (198.839,198.382,198.075,197.887, 197.888,197.889,197.889,197.889,197.889 ,197.889,197.889,197.889,197.889, 197.888,197.888,197.888,197.887,197.886 ,197.886,197.885,197.884,197.883, 197.882,197.881,197.88,197.879,197.878, 197.877,197.876,197.874,197.873,197.871 ,197.87,197.868,197.867,197.865,197.863 ,197.861,197.859,197.858,197.856, 197.854,197.851,197.849,197.847,197.845 ,197.842,197.84,197.929,198.128,198.38, 198.58,198.966,199.187,199.186,199.186, 199.185,199.184,199.184,199.183,199.183 ,199.182,199.182,199.181,199.181,199.18 ,199.18,199.179,199.179,199.178,199.178 ,199.177,199.177,199.176,199.176, 199.176,199.175,199.175,199.174,199.174 ,199.174,199.173,199.173,199.172, 199.172,199.172,199.171,199.171,199.171 ,199.171,199.17,199.17,199.17,199.169, 199.169,199.168,199.168,199.167,199.167 ,198.839)
ORBIT_NUMBER = 5258
ORBITAL_ECCENTRICITY = 0.572
ORBITAL_INCLINATION = 86.74
ORBITAL_SEMIMAJOR_AXIS = 8706.44
PERIAPSIS_ALTITUDE = 331.34
PERIAPSIS_ARGUMENT_ANGLE = 153.31
PERIAPSIS_TIME = 2008-02-05T02:02:10.000Z
SPACECRAFT_ORIENTATION = (0.0,-1.0,0.0)
^MEX_ORIENTATION_DESC = "MEX_ORIENTATION_DESC.TXT"
SPACECRAFT_POINTING_MODE = ACROSSTRACK
^MEX_POINTING_DESC = "MEX_POINTING_DESC.TXT"
RIGHT_ASCENSION = -1e+32
DECLINATION = -1e+32
OFFSET_ANGLE = 0.15
SPACECRAFT_SOLAR_DISTANCE = 2.42343e+08
TARGET_NAME = MARS
/* CAMERA DATA ELEMENTS */
DETECTOR_TEMPERATURE = 18.3705
FOCAL_PLANE_TEMPERATURE = 7.9716
INST_CMPRS_NAME = "DISCRETE COSINE TRANSFORMATION (DCT)"
INST_CMPRS_RATIO = 7.47551
INST_CMPRS_QUALITY = 0
INST_CMPRS_QUANTZ_TBL_ID = 0
INSTRUMENT_TEMPERATURE = 11.0301
LENS_TEMPERATURE = 8.3794
MACROPIXEL_SIZE = 1
MISSING_FRAMES = 0
PIXEL_SUBSAMPLING_FLAG = N
SIGNAL_CHAIN_ID = 0
/* RADIOMETRIC DATA ELEMENTS */
BANDWIDTH = 177.0
CENTER_FILTER_WAVELENGTH = 677.5
RADIANCE_OFFSET = 4.20125
RADIANCE_SCALING_FACTOR = 0.0181231
REFLECTANCE_SCALING_FACTOR = 0.000565429
MEX:REFLECTANCE_OFFSET = 0.131077
/* IMAGE OBJECT DEFINITIONS */
OBJECT = IMAGE
  INTERCHANGE_FORMAT = BINARY
  LINES = 45614
  LINE_SAMPLES = 6568
  SAMPLE_TYPE = UNSIGNED_INTEGER
  SAMPLE_BITS = 8
  BANDS = 1
  BAND_STORAGE_TYPE = BAND_SEQUENTIAL
  MAXIMUM = 255
  MEAN = 142.648
  MINIMUM = 1
  STANDARD_DEVIATION = 7.79642
END_OBJECT = IMAGE
/* MAP OBJECT DEFINITIONS */
OBJECT = IMAGE_MAP_PROJECTION
  ^DATA_SET_MAP_PROJECTION_CATALOG= "DSMAP.CAT"
  A_AXIS_RADIUS = 3396.0
  B_AXIS_RADIUS = 3396.0
  C_AXIS_RADIUS = 3396.0
  CENTER_LATITUDE = 0.0
  CENTER_LONGITUDE = 199.0
  COORDINATE_SYSTEM_NAME = PLANETOGRAPHIC
  COORDINATE_SYSTEM_TYPE = "BODY-FIXED ROTATING"
  EASTERNMOST_LONGITUDE = 199.187
  FIRST_STANDARD_PARALLEL = "N/A"
  LINE_FIRST_PIXEL = 1
  LINE_LAST_PIXEL = 45614
  LINE_PROJECTION_OFFSET = 102390.0
  MAP_PROJECTION_ROTATION = 0.0
  MAP_PROJECTION_TYPE = SINUSOIDAL
  MAP_RESOLUTION = 4741.71043093333
  MAP_SCALE = 0.0125
  MAXIMUM_LATITUDE = 21.5936
  MINIMUM_LATITUDE = 11.9731
  POSITIVE_LONGITUDE_DIRECTION = EAST
  REFERENCE_LATITUDE = "N/A"
  REFERENCE_LONGITUDE = "N/A"
  SAMPLE_FIRST_PIXEL = 1
  SAMPLE_LAST_PIXEL = 6568
  SAMPLE_PROJECTION_OFFSET = 5511.0
  SECOND_STANDARD_PARALLEL = "N/A"
  WESTERNMOST_LONGITUDE = 197.84
END_OBJECT = IMAGE_MAP_PROJECTION
/* The JPEG2000 image data file associated with this label. */
OBJECT = COMPRESSED_FILE
  FILE_NAME = "H5258_0000_ND3.JP2"
  RECORD_TYPE = UNDEFINED
  FILE_RECORDS = UNK
  ENCODING_TYPE = "JP2"
  INTERCHANGE_FORMAT = BINARY
  UNCOMPRESSED_FILE_NAME = "H5258_0000_ND3.IMG"
  REQUIRED_STORAGE_BYTES = "299625592"
  ^DESCRIPTION = "JP2INFO.TXT"
END_OBJECT = COMPRESSED_FILE
END
