PDS_VERSION_ID = PDS3
/* FILE DATA ELEMENTS */
RECORD_TYPE = STREAM
/* POINTERS TO DATA OBJECTS */
^COMPRESSED_FILE = "H5260_0000_ND3.JP2"
/* IDENTIFICATION DATA ELEMENTS */
DATA_SET_ID = "MEX-M-HRSC-5-REFDR-MAPPROJECTED-V3.0"
DATA_SET_NAME = "MARS EXPRESS HRSC MAP PROJECTED REFDR V3.0"
DETECTOR_ID = MEX_HRSC_NADIR
EVENT_TYPE = "MARS-LOCAL-STEREO-Im-Tc"
INSTRUMENT_HOST_ID = MEX
INSTRUMENT_HOST_NAME = "MARS EXPRESS"
INSTRUMENT_ID = HRSC
INSTRUMENT_NAME = "HIGH RESOLUTION STEREO CAMERA"
MISSION_NAME = "MARS EXPRESS"
MISSION_PHASE_NAME = ME_Phase_11
PROCESSING_LEVEL_ID = 3
PRODUCT_CREATION_TIME = 2016-05-13T12:18:58.000Z
PRODUCT_ID = "H5260_0000_ND3.JP2"
RELEASE_ID = 0060
REVISION_ID = 0000
/* QUALITY DATA ELEMENTS */
DATA_QUALITY_ID = 2
DATA_QUALITY_DESC = "Data calculated based on photogrammetrically improved orbit and attitude data"
/* TIME DATA ELEMENTS */
SPACECRAFT_CLOCK_START_COUNT = "1/0150306413.07279"
SPACECRAFT_CLOCK_STOP_COUNT = "1/0150306654.55399"
START_TIME = 2008-02-05T15:47:30.914Z
STOP_TIME = 2008-02-05T15:50:06.891Z
/* ORBITAL DATA ELEMENTS */
ASCENDING_NODE_LONGITUDE = 118.73
MAXIMUM_RESOLUTION = 15.5
FOOTPRINT_POINT_LATITUDE = (10.4593,10.4612,10.4622,10.4634, 10.4647,10.1864,10.0008,9.81529,9.62995 ,9.44474,9.25968,9.07474,8.88994, 8.70527,8.52076,8.33638,7.96804,7.60028 ,7.23313,6.9525,6.76444,6.57654,6.38879 ,6.2012,6.01379,5.82188,5.53395,5.34222 ,5.15066,4.95929,4.76432,4.56842, 4.37272,4.17721,3.98189,3.78422,3.58445 ,3.38487,3.18557,2.98643,2.68268,2.4792 ,2.27597,2.073,1.76385,1.55663,1.34968, 1.14295,0.933257,0.800937,0.79739, 0.795299,0.792698,0.789256,0.892794, 1.10324,1.31015,1.51731,1.72472,2.03472 ,2.23791,2.4413,2.64492,2.94949,3.14883 ,3.34837,3.54818,3.74816,3.94657,4.142, 4.33766,4.53356,4.72963,4.92533,5.11688 ,5.3086,5.50051,5.69259,5.88485,6.07513 ,6.26279,6.45062,6.63861,6.82676, 7.01507,7.20234,7.56983,7.93792,8.30658 ,8.49112,8.67588,8.8607,9.04558,9.23069 ,9.41592,9.60128,9.78682,9.97246, 10.1583,10.4593)
FOOTPRINT_POINT_LONGITUDE = (358.758,358.448,358.246,357.99,357.612 ,357.515,357.512,357.509,357.506, 357.503,357.5,357.497,357.494,357.491, 357.487,357.484,357.477,357.471,357.463 ,357.458,357.454,357.45,357.446,357.442 ,357.438,357.434,357.427,357.423, 357.419,357.414,357.41,357.405,357.4, 357.396,357.391,357.386,357.381,357.376 ,357.37,357.364,357.357,357.352,357.347 ,357.341,357.332,357.326,357.32,357.315 ,357.308,357.55,357.91,358.123,358.385, 358.728,358.965,358.963,358.961,358.959 ,358.957,358.954,358.953,358.951, 358.949,358.946,358.945,358.943,358.943 ,358.942,358.94,358.937,358.935,358.934 ,358.933,358.931,358.93,358.929,358.927 ,358.926,358.925,358.923,358.922, 358.921,358.919,358.918,358.917,358.916 ,358.914,358.912,358.91,358.909,358.909 ,358.909,358.906,358.905,358.904, 358.902,358.902,358.901,358.903, 358.758)
ORBIT_NUMBER = 5260
ORBITAL_ECCENTRICITY = 0.572
ORBITAL_INCLINATION = 86.73
ORBITAL_SEMIMAJOR_AXIS = 8708.24
PERIAPSIS_ALTITUDE = 331.79
PERIAPSIS_ARGUMENT_ANGLE = 152.95
PERIAPSIS_TIME = 2008-02-05T15:43:14.000Z
SPACECRAFT_ORIENTATION = (0.0,-1.0,0.0)
^MEX_ORIENTATION_DESC = "MEX_ORIENTATION_DESC.TXT"
SPACECRAFT_POINTING_MODE = NADIR
^MEX_POINTING_DESC = "MEX_POINTING_DESC.TXT"
RIGHT_ASCENSION = -1e+32
DECLINATION = -1e+32
OFFSET_ANGLE = -1e+32
SPACECRAFT_SOLAR_DISTANCE = 2.4242e+08
TARGET_NAME = MARS
/* CAMERA DATA ELEMENTS */
DETECTOR_TEMPERATURE = 18.1666
FOCAL_PLANE_TEMPERATURE = 8.7872
INST_CMPRS_NAME = "DISCRETE COSINE TRANSFORMATION (DCT)"
INST_CMPRS_RATIO = 6.01434
INST_CMPRS_QUALITY = 0
INST_CMPRS_QUANTZ_TBL_ID = 0
INSTRUMENT_TEMPERATURE = 11.0301
LENS_TEMPERATURE = 9.195
MACROPIXEL_SIZE = 1
MISSING_FRAMES = 0
PIXEL_SUBSAMPLING_FLAG = N
SIGNAL_CHAIN_ID = 0
/* RADIOMETRIC DATA ELEMENTS */
BANDWIDTH = 177.0
CENTER_FILTER_WAVELENGTH = 677.5
RADIANCE_OFFSET = 2.86141
RADIANCE_SCALING_FACTOR = 0.0214751
REFLECTANCE_SCALING_FACTOR = 0.000670436
MEX:REFLECTANCE_OFFSET = 0.089331
/* IMAGE OBJECT DEFINITIONS */
OBJECT = IMAGE
  INTERCHANGE_FORMAT = BINARY
  LINES = 45897
  LINE_SAMPLES = 8208
  SAMPLE_TYPE = UNSIGNED_INTEGER
  SAMPLE_BITS = 8
  BANDS = 1
  BAND_STORAGE_TYPE = BAND_SEQUENTIAL
  MAXIMUM = 255
  MEAN = 103.408
  MINIMUM = 1
  STANDARD_DEVIATION = 36.2177
END_OBJECT = IMAGE
/* MAP OBJECT DEFINITIONS */
OBJECT = IMAGE_MAP_PROJECTION
  ^DATA_SET_MAP_PROJECTION_CATALOG= "DSMAP.CAT"
  A_AXIS_RADIUS = 3396.0
  B_AXIS_RADIUS = 3396.0
  C_AXIS_RADIUS = 3396.0
  CENTER_LATITUDE = 0.0
  CENTER_LONGITUDE = 358.0
  COORDINATE_SYSTEM_NAME = PLANETOGRAPHIC
  COORDINATE_SYSTEM_TYPE = "BODY-FIXED ROTATING"
  EASTERNMOST_LONGITUDE = 358.965
  FIRST_STANDARD_PARALLEL = "N/A"
  LINE_FIRST_PIXEL = 1
  LINE_LAST_PIXEL = 45897
  LINE_PROJECTION_OFFSET = 49629.0
  MAP_PROJECTION_ROTATION = 0.0
  MAP_PROJECTION_TYPE = SINUSOIDAL
  MAP_RESOLUTION = 4741.71043093333
  MAP_SCALE = 0.0125
  MAXIMUM_LATITUDE = 10.4647
  MINIMUM_LATITUDE = 0.789256
  POSITIVE_LONGITUDE_DIRECTION = EAST
  REFERENCE_LATITUDE = "N/A"
  REFERENCE_LONGITUDE = "N/A"
  SAMPLE_FIRST_PIXEL = 1
  SAMPLE_LAST_PIXEL = 8208
  SAMPLE_PROJECTION_OFFSET = 3458.0
  SECOND_STANDARD_PARALLEL = "N/A"
  WESTERNMOST_LONGITUDE = 357.308
END_OBJECT = IMAGE_MAP_PROJECTION
/* The JPEG2000 image data file associated with this label. */
OBJECT = COMPRESSED_FILE
  FILE_NAME = "H5260_0000_ND3.JP2"
  RECORD_TYPE = UNDEFINED
  FILE_RECORDS = UNK
  ENCODING_TYPE = "JP2"
  INTERCHANGE_FORMAT = BINARY
  UNCOMPRESSED_FILE_NAME = "H5260_0000_ND3.IMG"
  REQUIRED_STORAGE_BYTES = "376755408"
  ^DESCRIPTION = "JP2INFO.TXT"
END_OBJECT = COMPRESSED_FILE
END
