PDS_VERSION_ID = PDS3
/* FILE DATA ELEMENTS */
RECORD_TYPE = STREAM
/* POINTERS TO DATA OBJECTS */
^COMPRESSED_FILE = "H5260_0000_S23.JP2"
/* IDENTIFICATION DATA ELEMENTS */
DATA_SET_ID = "MEX-M-HRSC-5-REFDR-MAPPROJECTED-V3.0"
DATA_SET_NAME = "MARS EXPRESS HRSC MAP PROJECTED REFDR V3.0"
DETECTOR_ID = MEX_HRSC_S2
EVENT_TYPE = "MARS-LOCAL-STEREO-Im-Tc"
INSTRUMENT_HOST_ID = MEX
INSTRUMENT_HOST_NAME = "MARS EXPRESS"
INSTRUMENT_ID = HRSC
INSTRUMENT_NAME = "HIGH RESOLUTION STEREO CAMERA"
MISSION_NAME = "MARS EXPRESS"
MISSION_PHASE_NAME = ME_Phase_11
PROCESSING_LEVEL_ID = 3
PRODUCT_CREATION_TIME = 2016-05-13T12:18:58.000Z
PRODUCT_ID = "H5260_0000_S23.JP2"
RELEASE_ID = 0060
REVISION_ID = 0000
/* QUALITY DATA ELEMENTS */
DATA_QUALITY_ID = 2
DATA_QUALITY_DESC = "Data calculated based on photogrammetrically improved orbit and attitude data"
/* TIME DATA ELEMENTS */
SPACECRAFT_CLOCK_START_COUNT = "1/0150306413.07279"
SPACECRAFT_CLOCK_STOP_COUNT = "1/0150306654.55399"
START_TIME = 2008-02-05T15:48:08.298Z
STOP_TIME = 2008-02-05T15:50:56.658Z
/* ORBITAL DATA ELEMENTS */
ASCENDING_NODE_LONGITUDE = 118.73
MAXIMUM_RESOLUTION = 17.3
FOOTPRINT_POINT_LATITUDE = (10.4574,10.4586,10.4612,10.463,10.3934 ,10.2138,10.0352,9.67912,9.40744,9.1342 ,8.86093,8.67846,8.49684,8.21801, 8.03204,7.84648,7.66083,7.47598,7.19283 ,7.00419,6.81587,6.6284,6.34291,6.15062 ,5.95922,5.76791,5.57695,5.38152,5.1862 ,4.99162,4.79728,4.60115,4.40304, 4.20554,4.00675,3.70798,3.50727,3.20893 ,2.90638,2.70226,2.49573,2.29143, 2.08428,1.77426,1.56785,1.3578,1.04274, 0.834407,0.816025,0.810313,0.80686, 0.805029,0.803427,0.801312,0.905469, 1.11523,1.32556,1.53632,1.84684,2.05403 ,2.36514,2.56809,2.77086,2.97489, 3.17714,3.48279,3.68526,3.88634,4.08128 ,4.37458,4.57377,4.77037,4.96443, 5.15917,5.35447,5.54973,5.74074,5.93266 ,6.12478,6.31671,6.60186,6.78964, 6.97776,7.16654,7.35611,7.54351,7.82184 ,8.00786,8.19423,8.4736,8.66103,8.8431, 9.11046,9.29296,9.47533,9.65627,10.0147 ,10.2018,10.3801,10.4574)
FOOTPRINT_POINT_LONGITUDE = (358.618,358.39,357.991,357.763,357.479 ,357.476,357.472,357.465,357.46,357.454 ,357.449,357.445,357.442,357.436, 357.432,357.428,357.424,357.42,357.413, 357.409,357.404,357.4,357.393,357.388, 357.383,357.378,357.373,357.368,357.363 ,357.358,357.353,357.347,357.342, 357.336,357.331,357.322,357.316,357.306 ,357.297,357.29,357.285,357.279,357.272 ,357.262,357.255,357.248,357.238,357.23 ,357.497,357.889,358.174,358.352,358.53 ,358.798,359.037,359.034,359.031, 359.028,359.024,359.021,359.018,359.015 ,359.012,359.009,359.007,359.005, 359.003,359.0,358.997,358.993,358.991, 358.989,358.986,358.984,358.982,358.98, 358.978,358.976,358.974,358.972,358.969 ,358.967,358.965,358.964,358.962,358.96 ,358.958,358.957,358.955,358.953, 358.953,358.952,358.947,358.946,358.944 ,358.943,358.94,358.942,358.94,358.618)
ORBIT_NUMBER = 5260
ORBITAL_ECCENTRICITY = 0.572
ORBITAL_INCLINATION = 86.73
ORBITAL_SEMIMAJOR_AXIS = 8708.24
PERIAPSIS_ALTITUDE = 331.79
PERIAPSIS_ARGUMENT_ANGLE = 152.95
PERIAPSIS_TIME = 2008-02-05T15:43:14.000Z
SPACECRAFT_ORIENTATION = (0.0,-1.0,0.0)
^MEX_ORIENTATION_DESC = "MEX_ORIENTATION_DESC.TXT"
SPACECRAFT_POINTING_MODE = NADIR
^MEX_POINTING_DESC = "MEX_POINTING_DESC.TXT"
RIGHT_ASCENSION = -1e+32
DECLINATION = -1e+32
OFFSET_ANGLE = -1e+32
SPACECRAFT_SOLAR_DISTANCE = 2.4242e+08
TARGET_NAME = MARS
/* CAMERA DATA ELEMENTS */
DETECTOR_TEMPERATURE = 18.1666
FOCAL_PLANE_TEMPERATURE = 8.7872
INST_CMPRS_NAME = "DISCRETE COSINE TRANSFORMATION (DCT)"
INST_CMPRS_RATIO = 7.06163
INST_CMPRS_QUALITY = 0
INST_CMPRS_QUANTZ_TBL_ID = 0
INSTRUMENT_TEMPERATURE = 11.0301
LENS_TEMPERATURE = 9.195
MACROPIXEL_SIZE = 1
MISSING_FRAMES = 0
PIXEL_SUBSAMPLING_FLAG = N
SIGNAL_CHAIN_ID = 1
/* RADIOMETRIC DATA ELEMENTS */
BANDWIDTH = 178.0
CENTER_FILTER_WAVELENGTH = 679.0
RADIANCE_OFFSET = 3.32125
RADIANCE_SCALING_FACTOR = 0.0230289
REFLECTANCE_SCALING_FACTOR = 0.000716705
MEX:REFLECTANCE_OFFSET = 0.103364
/* IMAGE OBJECT DEFINITIONS */
OBJECT = IMAGE
  INTERCHANGE_FORMAT = BINARY
  LINES = 45897
  LINE_SAMPLES = 8208
  SAMPLE_TYPE = UNSIGNED_INTEGER
  SAMPLE_BITS = 8
  BANDS = 1
  BAND_STORAGE_TYPE = BAND_SEQUENTIAL
  MAXIMUM = 255
  MEAN = 95.5724
  MINIMUM = 1
  STANDARD_DEVIATION = 34.8136
END_OBJECT = IMAGE
/* MAP OBJECT DEFINITIONS */
OBJECT = IMAGE_MAP_PROJECTION
  ^DATA_SET_MAP_PROJECTION_CATALOG= "DSMAP.CAT"
  A_AXIS_RADIUS = 3396.0
  B_AXIS_RADIUS = 3396.0
  C_AXIS_RADIUS = 3396.0
  CENTER_LATITUDE = 0.0
  CENTER_LONGITUDE = 358.0
  COORDINATE_SYSTEM_NAME = PLANETOGRAPHIC
  COORDINATE_SYSTEM_TYPE = "BODY-FIXED ROTATING"
  EASTERNMOST_LONGITUDE = 359.037
  FIRST_STANDARD_PARALLEL = "N/A"
  LINE_FIRST_PIXEL = 1
  LINE_LAST_PIXEL = 45897
  LINE_PROJECTION_OFFSET = 49629.0
  MAP_PROJECTION_ROTATION = 0.0
  MAP_PROJECTION_TYPE = SINUSOIDAL
  MAP_RESOLUTION = 4741.71043093333
  MAP_SCALE = 0.0125
  MAXIMUM_LATITUDE = 10.463
  MINIMUM_LATITUDE = 0.801312
  POSITIVE_LONGITUDE_DIRECTION = EAST
  REFERENCE_LATITUDE = "N/A"
  REFERENCE_LONGITUDE = "N/A"
  SAMPLE_FIRST_PIXEL = 1
  SAMPLE_LAST_PIXEL = 8208
  SAMPLE_PROJECTION_OFFSET = 3458.0
  SECOND_STANDARD_PARALLEL = "N/A"
  WESTERNMOST_LONGITUDE = 357.23
END_OBJECT = IMAGE_MAP_PROJECTION
/* The JPEG2000 image data file associated with this label. */
OBJECT = COMPRESSED_FILE
  FILE_NAME = "H5260_0000_S23.JP2"
  RECORD_TYPE = UNDEFINED
  FILE_RECORDS = UNK
  ENCODING_TYPE = "JP2"
  INTERCHANGE_FORMAT = BINARY
  UNCOMPRESSED_FILE_NAME = "H5260_0000_S23.IMG"
  REQUIRED_STORAGE_BYTES = "376755408"
  ^DESCRIPTION = "JP2INFO.TXT"
END_OBJECT = COMPRESSED_FILE
END
