PDS_VERSION_ID = PDS3
/* FILE DATA ELEMENTS */
RECORD_TYPE = STREAM
/* POINTERS TO DATA OBJECTS */
^COMPRESSED_FILE = "H5263_0000_ND3.JP2"
/* IDENTIFICATION DATA ELEMENTS */
DATA_SET_ID = "MEX-M-HRSC-5-REFDR-MAPPROJECTED-V3.0"
DATA_SET_NAME = "MARS EXPRESS HRSC MAP PROJECTED REFDR V3.0"
DETECTOR_ID = MEX_HRSC_NADIR
EVENT_TYPE = "MARS-REGIONAL-MAPPING-Vo-Im-Eo"
INSTRUMENT_HOST_ID = MEX
INSTRUMENT_HOST_NAME = "MARS EXPRESS"
INSTRUMENT_ID = HRSC
INSTRUMENT_NAME = "HIGH RESOLUTION STEREO CAMERA"
MISSION_NAME = "MARS EXPRESS"
MISSION_PHASE_NAME = ME_Phase_11
PROCESSING_LEVEL_ID = 3
PRODUCT_CREATION_TIME = 2016-05-13T12:18:58.000Z
PRODUCT_ID = "H5263_0000_ND3.JP2"
RELEASE_ID = 0060
REVISION_ID = 0000
/* QUALITY DATA ELEMENTS */
DATA_QUALITY_ID = 2
DATA_QUALITY_DESC = "Data calculated based on photogrammetrically improved orbit and attitude data"
/* TIME DATA ELEMENTS */
SPACECRAFT_CLOCK_START_COUNT = "1/0150380252.08257"
SPACECRAFT_CLOCK_STOP_COUNT = "1/0150380657.47387"
START_TIME = 2008-02-06T12:18:07.806Z
STOP_TIME = 2008-02-06T12:23:18.809Z
/* ORBITAL DATA ELEMENTS */
ASCENDING_NODE_LONGITUDE = 118.66
MAXIMUM_RESOLUTION = 14.4
FOOTPRINT_POINT_LATITUDE = (14.7787,14.781,14.1048,13.4299,13.0392 ,12.6377,12.2367,11.8362,11.4363, 11.0369,10.6382,10.24,9.84256,9.44568, 9.04942,8.65382,8.25896,7.8647,7.47105, 7.07819,6.68605,6.29461,5.90389,5.51392 ,5.12471,4.73624,4.34856,3.96163, 3.57551,3.19041,2.80585,2.42206,2.03926 ,1.65725,1.2761,0.895776,0.51631, 0.137815,-0.239776,-0.616569,-0.992441, -1.36742,-1.74122,-2.11433,-2.48655, -2.85787,-3.22844,-3.59782,-4.33375, -4.35828,-4.36412,-4.37192,-4.00602, -3.63726,-3.26754,-2.89687,-2.52527, -2.15272,-1.77927,-1.40487,-1.02951, -0.653288,-0.27618,0.101842,0.480738, 0.860509,1.24115,1.62263,2.00498, 2.38816,2.77217,3.157,3.54265,3.92909, 4.31633,4.70434,5.09314,5.4827,5.873, 6.26403,6.65584,7.04833,7.44154,7.83544 ,8.22995,8.62524,9.02124,9.41781, 9.81499,10.2128,10.6113,11.0103,11.41, 11.8103,12.2111,12.6124,13.0143,13.4084 ,14.0839,14.7787)
FOOTPRINT_POINT_LONGITUDE = (58.6145,57.8548,57.5854,57.5776, 57.5729,57.5677,57.5623,57.5564,57.551, 57.5455,57.5395,57.5328,57.5256,57.5186 ,57.5115,57.5041,57.4955,57.4876, 57.4805,57.472,57.4632,57.4545,57.4456, 57.4364,57.4271,57.4177,57.4079,57.3983 ,57.3885,57.3757,57.366,57.3568,57.3455 ,57.3346,57.3233,57.3124,57.3013, 57.2889,57.2761,57.2642,57.2519,57.2396 ,57.2239,57.2109,57.1982,57.1857, 57.1754,57.162,57.1354,57.6556,58.1413, 58.8359,59.0285,59.0235,59.019,59.0145, 59.0096,59.0053,59.0003,58.996,58.9933, 58.9894,58.9852,58.9817,58.9781,58.9745 ,58.9711,58.9675,58.9643,58.961,58.9578 ,58.9547,58.9519,58.9488,58.9461, 58.9431,58.9408,58.9381,58.9356,58.9325 ,58.9312,58.9288,58.9266,58.9244, 58.9202,58.9188,58.9194,58.9174,58.9147 ,58.9132,58.9111,58.9091,58.9093, 58.9089,58.9075,58.906,58.9047,58.9035, 58.9014,58.6145)
ORBIT_NUMBER = 5263
ORBITAL_ECCENTRICITY = 0.573
ORBITAL_INCLINATION = 86.74
ORBITAL_SEMIMAJOR_AXIS = 8713.75
PERIAPSIS_ALTITUDE = 331.52
PERIAPSIS_ARGUMENT_ANGLE = 152.46
PERIAPSIS_TIME = 2008-02-06T12:14:51.000Z
SPACECRAFT_ORIENTATION = (0.0,-1.0,0.0)
^MEX_ORIENTATION_DESC = "MEX_ORIENTATION_DESC.TXT"
SPACECRAFT_POINTING_MODE = ACROSSTRACK
^MEX_POINTING_DESC = "MEX_POINTING_DESC.TXT"
RIGHT_ASCENSION = -1e+32
DECLINATION = -1e+32
OFFSET_ANGLE = 0.22
SPACECRAFT_SOLAR_DISTANCE = 2.42534e+08
TARGET_NAME = MARS
/* CAMERA DATA ELEMENTS */
DETECTOR_TEMPERATURE = 18.3705
FOCAL_PLANE_TEMPERATURE = 8.3794
INST_CMPRS_NAME = "DISCRETE COSINE TRANSFORMATION (DCT)"
INST_CMPRS_RATIO = 7.82005
INST_CMPRS_QUALITY = 0
INST_CMPRS_QUANTZ_TBL_ID = 0
INSTRUMENT_TEMPERATURE = 11.0301
LENS_TEMPERATURE = 8.5833
MACROPIXEL_SIZE = 1
MISSING_FRAMES = 0
PIXEL_SUBSAMPLING_FLAG = N
SIGNAL_CHAIN_ID = 0
/* RADIOMETRIC DATA ELEMENTS */
BANDWIDTH = 177.0
CENTER_FILTER_WAVELENGTH = 677.5
RADIANCE_OFFSET = 2.3467
RADIANCE_SCALING_FACTOR = 0.0266879
REFLECTANCE_SCALING_FACTOR = 0.000833958
MEX:REFLECTANCE_OFFSET = 0.0733308
/* IMAGE OBJECT DEFINITIONS */
OBJECT = IMAGE
  INTERCHANGE_FORMAT = BINARY
  LINES = 90826
  LINE_SAMPLES = 9345
  SAMPLE_TYPE = UNSIGNED_INTEGER
  SAMPLE_BITS = 8
  BANDS = 1
  BAND_STORAGE_TYPE = BAND_SEQUENTIAL
  MAXIMUM = 255
  MEAN = 120.64
  MINIMUM = 1
  STANDARD_DEVIATION = 35.9735
END_OBJECT = IMAGE
/* MAP OBJECT DEFINITIONS */
OBJECT = IMAGE_MAP_PROJECTION
  ^DATA_SET_MAP_PROJECTION_CATALOG= "DSMAP.CAT"
  A_AXIS_RADIUS = 3396.0
  B_AXIS_RADIUS = 3396.0
  C_AXIS_RADIUS = 3396.0
  CENTER_LATITUDE = 0.0
  CENTER_LONGITUDE = 58.0
  COORDINATE_SYSTEM_NAME = PLANETOGRAPHIC
  COORDINATE_SYSTEM_TYPE = "BODY-FIXED ROTATING"
  EASTERNMOST_LONGITUDE = 59.0285
  FIRST_STANDARD_PARALLEL = "N/A"
  LINE_FIRST_PIXEL = 1
  LINE_LAST_PIXEL = 90826
  LINE_PROJECTION_OFFSET = 70099.0
  MAP_PROJECTION_ROTATION = 0.0
  MAP_PROJECTION_TYPE = SINUSOIDAL
  MAP_RESOLUTION = 4741.71043093333
  MAP_SCALE = 0.0125
  MAXIMUM_LATITUDE = 14.781
  MINIMUM_LATITUDE = -4.37192
  POSITIVE_LONGITUDE_DIRECTION = EAST
  REFERENCE_LATITUDE = "N/A"
  REFERENCE_LONGITUDE = "N/A"
  SAMPLE_FIRST_PIXEL = 1
  SAMPLE_LAST_PIXEL = 9345
  SAMPLE_PROJECTION_OFFSET = 4204.0
  SECOND_STANDARD_PARALLEL = "N/A"
  WESTERNMOST_LONGITUDE = 57.1354
END_OBJECT = IMAGE_MAP_PROJECTION
/* The JPEG2000 image data file associated with this label. */
OBJECT = COMPRESSED_FILE
  FILE_NAME = "H5263_0000_ND3.JP2"
  RECORD_TYPE = UNDEFINED
  FILE_RECORDS = UNK
  ENCODING_TYPE = "JP2"
  INTERCHANGE_FORMAT = BINARY
  UNCOMPRESSED_FILE_NAME = "H5263_0000_ND3.IMG"
  REQUIRED_STORAGE_BYTES = "848806350"
  ^DESCRIPTION = "JP2INFO.TXT"
END_OBJECT = COMPRESSED_FILE
END
