PDS_VERSION_ID = PDS3
/* FILE DATA ELEMENTS */
RECORD_TYPE = STREAM
/* POINTERS TO DATA OBJECTS */
^COMPRESSED_FILE = "H5263_0001_GR3.JP2"
/* IDENTIFICATION DATA ELEMENTS */
DATA_SET_ID = "MEX-M-HRSC-5-REFDR-MAPPROJECTED-V3.0"
DATA_SET_NAME = "MARS EXPRESS HRSC MAP PROJECTED REFDR V3.0"
DETECTOR_ID = MEX_HRSC_GREEN
EVENT_TYPE = "MARS-REGIONAL-MAPPING-Fl-Pf"
INSTRUMENT_HOST_ID = MEX
INSTRUMENT_HOST_NAME = "MARS EXPRESS"
INSTRUMENT_ID = HRSC
INSTRUMENT_NAME = "HIGH RESOLUTION STEREO CAMERA"
MISSION_NAME = "MARS EXPRESS"
MISSION_PHASE_NAME = ME_Phase_11
PROCESSING_LEVEL_ID = 3
PRODUCT_CREATION_TIME = 2016-05-13T12:18:58.000Z
PRODUCT_ID = "H5263_0001_GR3.JP2"
RELEASE_ID = 0060
REVISION_ID = 0000
/* QUALITY DATA ELEMENTS */
DATA_QUALITY_ID = 2
DATA_QUALITY_DESC = "Data calculated based on photogrammetrically improved orbit and attitude data"
/* TIME DATA ELEMENTS */
SPACECRAFT_CLOCK_START_COUNT = "1/0150380915.08368"
SPACECRAFT_CLOCK_STOP_COUNT = "1/0150382101.64878"
START_TIME = 2008-02-06T12:30:04.596Z
STOP_TIME = 2008-02-06T12:38:26.961Z
/* ORBITAL DATA ELEMENTS */
ASCENDING_NODE_LONGITUDE = 118.66
MAXIMUM_RESOLUTION = 156
FOOTPRINT_POINT_LATITUDE = (-26.8081,-26.807,-26.8019,-26.7972, -26.7897,-26.7802,-26.7689,-27.5034, -28.2502,-29.0084,-29.7798,-30.5633, -31.3601,-32.1692,-32.5801,-32.9942, -33.4106,-33.8305,-34.2532,-34.6799, -35.1103,-35.5443,-35.9822,-36.4239, -36.8689,-37.3183,-37.771,-38.2281, -38.6894,-39.1526,-39.8445,-40.3017, -40.7563,-41.2075,-41.6569,-42.1026, -42.5466,-42.9868,-43.4246,-43.8596, -44.2919,-44.7218,-45.1482,-45.5723, -45.9933,-46.4118,-46.8278,-47.2409, -48.029,-48.0475,-48.0677,-48.089, -48.0876,-48.0808,-48.0695,-48.0457, -48.0122,-47.7855,-47.3799,-46.9721, -46.5619,-46.1482,-45.7321,-45.3131, -44.8913,-44.4665,-44.0391,-43.6084, -43.1749,-42.7384,-42.2996,-41.8573, -41.4122,-40.9638,-40.5127,-40.0587, -39.6016,-39.1414,-38.6792,-38.2202, -37.7648,-37.3138,-36.8662,-36.4229, -35.9824,-35.5465,-35.1139,-34.6853, -34.2598,-33.8382,-33.4194,-33.0037, -32.1832,-31.3758,-30.58,-29.797, -29.0256,-28.2671,-27.5198,-26.8081)
FOOTPRINT_POINT_LONGITUDE = (59.6833,59.1511,58.3384,57.8797, 57.3167,56.7541,55.8905,55.8312,55.7692 ,55.7048,55.6347,55.5632,55.4872, 55.4095,55.3666,55.3232,55.2812,55.2385 ,55.1956,55.1507,55.1045,55.058,55.0099 ,54.9607,54.9105,54.8589,54.8065, 54.7524,54.6961,54.6412,54.5545,54.4966 ,54.4377,54.3792,54.3176,54.2571, 54.1935,54.1313,54.0676,54.0034,53.938, 53.8711,53.8059,53.7386,53.6719,53.604, 53.5348,53.4658,53.3303,53.9813,54.8852 ,56.6882,57.9183,58.7404,59.4818, 60.4668,61.5375,62.1013,62.016,61.9344, 61.856,61.7767,61.7004,61.6256,61.5521, 61.4801,61.4105,61.3411,61.2732,61.207, 61.1437,61.0806,61.019,60.9579,60.8988, 60.8416,60.7855,60.7302,60.6764,60.6245 ,60.5736,60.5254,60.4791,60.4347, 60.3905,60.3499,60.3101,60.2728,60.2348 ,60.199,60.1637,60.1293,60.0643,60.0035 ,59.9428,59.8867,59.8317,59.7821, 59.7353,59.6833)
ORBIT_NUMBER = 5263
ORBITAL_ECCENTRICITY = 0.573
ORBITAL_INCLINATION = 86.74
ORBITAL_SEMIMAJOR_AXIS = 8713.75
PERIAPSIS_ALTITUDE = 331.52
PERIAPSIS_ARGUMENT_ANGLE = 152.46
PERIAPSIS_TIME = 2008-02-06T12:14:51.000Z
SPACECRAFT_ORIENTATION = (0.0,-1.0,0.0)
^MEX_ORIENTATION_DESC = "MEX_ORIENTATION_DESC.TXT"
SPACECRAFT_POINTING_MODE = ACROSSTRACK
^MEX_POINTING_DESC = "MEX_POINTING_DESC.TXT"
RIGHT_ASCENSION = -1e+32
DECLINATION = -1e+32
OFFSET_ANGLE = 0.22
SPACECRAFT_SOLAR_DISTANCE = 2.42534e+08
TARGET_NAME = MARS
/* CAMERA DATA ELEMENTS */
DETECTOR_TEMPERATURE = 20.0017
FOCAL_PLANE_TEMPERATURE = 8.7872
INST_CMPRS_NAME = "DISCRETE COSINE TRANSFORMATION (DCT)"
INST_CMPRS_RATIO = 14.5028
INST_CMPRS_QUALITY = 0
INST_CMPRS_QUANTZ_TBL_ID = 0
INSTRUMENT_TEMPERATURE = 13.4769
LENS_TEMPERATURE = 8.9911
MACROPIXEL_SIZE = 4
MISSING_FRAMES = 0
PIXEL_SUBSAMPLING_FLAG = N
SIGNAL_CHAIN_ID = 2
/* RADIOMETRIC DATA ELEMENTS */
BANDWIDTH = 88.0
CENTER_FILTER_WAVELENGTH = 538.0
RADIANCE_OFFSET = 0.829652
RADIANCE_SCALING_FACTOR = 0.00369412
REFLECTANCE_SCALING_FACTOR = 0.00018709
MEX:REFLECTANCE_OFFSET = 0.042018
/* IMAGE OBJECT DEFINITIONS */
OBJECT = IMAGE
  INTERCHANGE_FORMAT = BINARY
  LINES = 6318
  LINE_SAMPLES = 1825
  SAMPLE_TYPE = UNSIGNED_INTEGER
  SAMPLE_BITS = 8
  BANDS = 1
  BAND_STORAGE_TYPE = BAND_SEQUENTIAL
  MAXIMUM = 255
  MEAN = 134.603
  MINIMUM = 1
  STANDARD_DEVIATION = 47.5417
END_OBJECT = IMAGE
/* MAP OBJECT DEFINITIONS */
OBJECT = IMAGE_MAP_PROJECTION
  ^DATA_SET_MAP_PROJECTION_CATALOG= "DSMAP.CAT"
  A_AXIS_RADIUS = 3396.0
  B_AXIS_RADIUS = 3396.0
  C_AXIS_RADIUS = 3396.0
  CENTER_LATITUDE = 0.0
  CENTER_LONGITUDE = 58.0
  COORDINATE_SYSTEM_NAME = PLANETOGRAPHIC
  COORDINATE_SYSTEM_TYPE = "BODY-FIXED ROTATING"
  EASTERNMOST_LONGITUDE = 62.1013
  FIRST_STANDARD_PARALLEL = "N/A"
  LINE_FIRST_PIXEL = 1
  LINE_LAST_PIXEL = 6318
  LINE_PROJECTION_OFFSET = -7931.125
  MAP_PROJECTION_ROTATION = 0.0
  MAP_PROJECTION_TYPE = SINUSOIDAL
  MAP_RESOLUTION = 296.356901933333
  MAP_SCALE = 0.2
  MAXIMUM_LATITUDE = -26.7689
  MINIMUM_LATITUDE = -48.089
  POSITIVE_LONGITUDE_DIRECTION = EAST
  REFERENCE_LATITUDE = "N/A"
  REFERENCE_LONGITUDE = "N/A"
  SAMPLE_FIRST_PIXEL = 1
  SAMPLE_LAST_PIXEL = 1825
  SAMPLE_PROJECTION_OFFSET = 972.375
  SECOND_STANDARD_PARALLEL = "N/A"
  WESTERNMOST_LONGITUDE = 53.3303
END_OBJECT = IMAGE_MAP_PROJECTION
/* The JPEG2000 image data file associated with this label. */
OBJECT = COMPRESSED_FILE
  FILE_NAME = "H5263_0001_GR3.JP2"
  RECORD_TYPE = UNDEFINED
  FILE_RECORDS = UNK
  ENCODING_TYPE = "JP2"
  INTERCHANGE_FORMAT = BINARY
  UNCOMPRESSED_FILE_NAME = "H5263_0001_GR3.IMG"
  REQUIRED_STORAGE_BYTES = "11550425"
  ^DESCRIPTION = "JP2INFO.TXT"
END_OBJECT = COMPRESSED_FILE
END
