PDS_VERSION_ID = PDS3
/* FILE DATA ELEMENTS */
RECORD_TYPE = STREAM
/* POINTERS TO DATA OBJECTS */
^COMPRESSED_FILE = "H5263_0001_ND3.JP2"
/* IDENTIFICATION DATA ELEMENTS */
DATA_SET_ID = "MEX-M-HRSC-5-REFDR-MAPPROJECTED-V3.0"
DATA_SET_NAME = "MARS EXPRESS HRSC MAP PROJECTED REFDR V3.0"
DETECTOR_ID = MEX_HRSC_NADIR
EVENT_TYPE = "MARS-REGIONAL-MAPPING-Fl-Pf"
INSTRUMENT_HOST_ID = MEX
INSTRUMENT_HOST_NAME = "MARS EXPRESS"
INSTRUMENT_ID = HRSC
INSTRUMENT_NAME = "HIGH RESOLUTION STEREO CAMERA"
MISSION_NAME = "MARS EXPRESS"
MISSION_PHASE_NAME = ME_Phase_11
PROCESSING_LEVEL_ID = 3
PRODUCT_CREATION_TIME = 2016-05-13T12:18:58.000Z
PRODUCT_ID = "H5263_0001_ND3.JP2"
RELEASE_ID = 0060
REVISION_ID = 0000
/* QUALITY DATA ELEMENTS */
DATA_QUALITY_ID = 2
DATA_QUALITY_DESC = "Data calculated based on photogrammetrically improved orbit and attitude data"
/* TIME DATA ELEMENTS */
SPACECRAFT_CLOCK_START_COUNT = "1/0150380915.08368"
SPACECRAFT_CLOCK_STOP_COUNT = "1/0150382101.64878"
START_TIME = 2008-02-06T12:30:24.942Z
STOP_TIME = 2008-02-06T12:39:14.903Z
/* ORBITAL DATA ELEMENTS */
ASCENDING_NODE_LONGITUDE = 118.66
MAXIMUM_RESOLUTION = 40
FOOTPRINT_POINT_LATITUDE = (-26.8049,-26.8036,-26.7989,-26.7854, -26.7722,-27.1435,-27.9095,-28.6879, -29.479,-30.2826,-31.0999,-31.5135, -31.9308,-32.3516,-32.7754,-33.2028, -33.6342,-34.0692,-34.5082,-34.9508, -35.397,-35.8473,-36.3014,-36.7596, -37.2217,-37.6877,-38.1527,-38.6144, -39.073,-39.5284,-39.9806,-40.4297, -40.8757,-41.3186,-41.7583,-42.1949, -42.6285,-43.0592,-43.4868,-43.9115, -44.3332,-44.7521,-45.168,-45.5812, -46.399,-47.2056,-48.0011,-48.0481, -48.0656,-48.0772,-48.0825,-48.0832, -48.0786,-48.071,-48.0557,-48.0178, -47.9869,-47.9518,-47.1675,-46.3714, -45.5635,-45.1549,-44.7433,-44.3288, -43.911,-43.4903,-43.0664,-42.6394, -42.2092,-41.7759,-41.3393,-40.8996, -40.4566,-40.0104,-39.5609,-39.1081, -38.652,-38.1926,-37.7299,-37.2657, -36.8052,-36.3485,-35.8957,-35.4465, -35.0013,-34.5597,-34.1217,-33.6875, -33.2569,-32.8301,-32.4067,-31.9864, -31.5695,-30.7466,-29.9367,-29.1398, -28.3556,-27.5838,-26.8232,-26.8049)
FOOTPRINT_POINT_LONGITUDE = (59.1916,58.575,57.8825,56.8466,56.1556 ,55.7892,55.7236,55.6539,55.5831, 55.5042,55.423,55.382,55.3392,55.2962, 55.2499,55.2023,55.1564,55.1096,55.0618 ,55.0119,54.9616,54.9097,54.8563, 54.8018,54.7456,54.6884,54.6307,54.5706 ,54.5121,54.4528,54.3919,54.3315, 54.2697,54.2078,54.1435,54.0789,54.0131 ,53.9474,53.8808,53.8132,53.7446, 53.6753,53.6061,53.536,53.3951,53.2506, 53.1025,54.0078,54.8269,55.6442,56.37, 57.0958,57.9133,58.5495,59.3694,60.7338 ,61.5541,62.3301,62.1577,61.9928, 61.8336,61.7575,61.6832,61.6086,61.5379 ,61.4665,61.3961,61.3283,61.2632, 61.1975,61.1342,61.0708,61.01,60.9506, 60.8921,60.8348,60.7786,60.7238,60.6694 ,60.6167,60.5667,60.5182,60.471,60.4261 ,60.3844,60.3433,60.3019,60.2636, 60.2255,60.188,60.1526,60.1188,60.0852, 60.0199,59.9574,59.8981,59.843,59.7917, 59.7462,59.1916)
ORBIT_NUMBER = 5263
ORBITAL_ECCENTRICITY = 0.573
ORBITAL_INCLINATION = 86.74
ORBITAL_SEMIMAJOR_AXIS = 8713.75
PERIAPSIS_ALTITUDE = 331.52
PERIAPSIS_ARGUMENT_ANGLE = 152.46
PERIAPSIS_TIME = 2008-02-06T12:14:51.000Z
SPACECRAFT_ORIENTATION = (0.0,-1.0,0.0)
^MEX_ORIENTATION_DESC = "MEX_ORIENTATION_DESC.TXT"
SPACECRAFT_POINTING_MODE = ACROSSTRACK
^MEX_POINTING_DESC = "MEX_POINTING_DESC.TXT"
RIGHT_ASCENSION = -1e+32
DECLINATION = -1e+32
OFFSET_ANGLE = 0.22
SPACECRAFT_SOLAR_DISTANCE = 2.42534e+08
TARGET_NAME = MARS
/* CAMERA DATA ELEMENTS */
DETECTOR_TEMPERATURE = 20.0017
FOCAL_PLANE_TEMPERATURE = 8.7872
INST_CMPRS_NAME = "DISCRETE COSINE TRANSFORMATION (DCT)"
INST_CMPRS_RATIO = 7.16247
INST_CMPRS_QUALITY = 0
INST_CMPRS_QUANTZ_TBL_ID = 0
INSTRUMENT_TEMPERATURE = 13.4769
LENS_TEMPERATURE = 8.9911
MACROPIXEL_SIZE = 1
MISSING_FRAMES = 0
PIXEL_SUBSAMPLING_FLAG = N
SIGNAL_CHAIN_ID = 0
/* RADIOMETRIC DATA ELEMENTS */
BANDWIDTH = 177.0
CENTER_FILTER_WAVELENGTH = 677.5
RADIANCE_OFFSET = 1.89308
RADIANCE_SCALING_FACTOR = 0.0134557
REFLECTANCE_SCALING_FACTOR = 0.000420474
MEX:REFLECTANCE_OFFSET = 0.0591564
/* IMAGE OBJECT DEFINITIONS */
OBJECT = IMAGE
  INTERCHANGE_FORMAT = BINARY
  LINES = 25272
  LINE_SAMPLES = 7298
  SAMPLE_TYPE = UNSIGNED_INTEGER
  SAMPLE_BITS = 8
  BANDS = 1
  BAND_STORAGE_TYPE = BAND_SEQUENTIAL
  MAXIMUM = 255
  MEAN = 129.786
  MINIMUM = 1
  STANDARD_DEVIATION = 48.104
END_OBJECT = IMAGE
/* MAP OBJECT DEFINITIONS */
OBJECT = IMAGE_MAP_PROJECTION
  ^DATA_SET_MAP_PROJECTION_CATALOG= "DSMAP.CAT"
  A_AXIS_RADIUS = 3396.0
  B_AXIS_RADIUS = 3396.0
  C_AXIS_RADIUS = 3396.0
  CENTER_LATITUDE = 0.0
  CENTER_LONGITUDE = 58.0
  COORDINATE_SYSTEM_NAME = PLANETOGRAPHIC
  COORDINATE_SYSTEM_TYPE = "BODY-FIXED ROTATING"
  EASTERNMOST_LONGITUDE = 62.3301
  FIRST_STANDARD_PARALLEL = "N/A"
  LINE_FIRST_PIXEL = 1
  LINE_LAST_PIXEL = 25272
  LINE_PROJECTION_OFFSET = -31723.0
  MAP_PROJECTION_ROTATION = 0.0
  MAP_PROJECTION_TYPE = SINUSOIDAL
  MAP_RESOLUTION = 1185.42760773333
  MAP_SCALE = 0.05
  MAXIMUM_LATITUDE = -26.7722
  MINIMUM_LATITUDE = -48.0832
  POSITIVE_LONGITUDE_DIRECTION = EAST
  REFERENCE_LATITUDE = "N/A"
  REFERENCE_LONGITUDE = "N/A"
  SAMPLE_FIRST_PIXEL = 1
  SAMPLE_LAST_PIXEL = 7298
  SAMPLE_PROJECTION_OFFSET = 3891.0
  SECOND_STANDARD_PARALLEL = "N/A"
  WESTERNMOST_LONGITUDE = 53.1025
END_OBJECT = IMAGE_MAP_PROJECTION
/* The JPEG2000 image data file associated with this label. */
OBJECT = COMPRESSED_FILE
  FILE_NAME = "H5263_0001_ND3.JP2"
  RECORD_TYPE = UNDEFINED
  FILE_RECORDS = UNK
  ENCODING_TYPE = "JP2"
  INTERCHANGE_FORMAT = BINARY
  UNCOMPRESSED_FILE_NAME = "H5263_0001_ND3.IMG"
  REQUIRED_STORAGE_BYTES = "184464248"
  ^DESCRIPTION = "JP2INFO.TXT"
END_OBJECT = COMPRESSED_FILE
END
