PDS_VERSION_ID = PDS3
/* FILE DATA ELEMENTS */
RECORD_TYPE = STREAM
/* POINTERS TO DATA OBJECTS */
^COMPRESSED_FILE = "H5271_0000_S13.JP2"
/* IDENTIFICATION DATA ELEMENTS */
DATA_SET_ID = "MEX-M-HRSC-5-REFDR-MAPPROJECTED-V3.0"
DATA_SET_NAME = "MARS EXPRESS HRSC MAP PROJECTED REFDR V3.0"
DETECTOR_ID = MEX_HRSC_S1
EVENT_TYPE = "MARS-LOCAL-STEREO-Fl-Eb-Tc"
INSTRUMENT_HOST_ID = MEX
INSTRUMENT_HOST_NAME = "MARS EXPRESS"
INSTRUMENT_ID = HRSC
INSTRUMENT_NAME = "HIGH RESOLUTION STEREO CAMERA"
MISSION_NAME = "MARS EXPRESS"
MISSION_PHASE_NAME = ME_Phase_11
PROCESSING_LEVEL_ID = 3
PRODUCT_CREATION_TIME = 2016-05-13T12:18:58.000Z
PRODUCT_ID = "H5271_0000_S13.JP2"
RELEASE_ID = 0060
REVISION_ID = 0000
/* QUALITY DATA ELEMENTS */
DATA_QUALITY_ID = 2
DATA_QUALITY_DESC = "Data calculated based on photogrammetrically improved orbit and attitude data"
/* TIME DATA ELEMENTS */
SPACECRAFT_CLOCK_START_COUNT = "1/0150577130.09062"
SPACECRAFT_CLOCK_STOP_COUNT = "1/0150577304.42556"
START_TIME = 2008-02-08T18:58:53.938Z
STOP_TIME = 2008-02-08T19:00:44.172Z
/* ORBITAL DATA ELEMENTS */
ASCENDING_NODE_LONGITUDE = 118.51
MAXIMUM_RESOLUTION = 14.3
FOOTPRINT_POINT_LATITUDE = (27.765,27.7667,27.7679,27.7686,27.7687 ,27.7685,27.6439,27.4297,27.2869, 27.1439,26.9295,26.7864,26.6432,26.5002 ,26.357,26.2137,25.9988,25.7838,25.6401 ,25.4966,25.2814,25.1377,24.9939, 24.7785,24.6348,24.491,24.2753,24.1284, 23.985,23.8413,23.6255,23.4814,23.337, 23.1927,23.0489,22.906,22.7622,22.6183, 22.4754,22.329,22.1806,22.0327,21.8871, 21.7426,21.5996,21.4581,21.248,20.9612, 20.8165,20.6688,20.5189,20.4975,20.4914 ,20.4908,20.4928,20.4899,20.6383, 20.7857,20.9302,21.0747,21.2201,21.365, 21.5081,21.6515,21.8664,22.0854,22.2311 ,22.3752,22.5201,22.7316,23.0179, 23.1693,23.3147,23.4573,23.6006,23.7449 ,23.8889,24.0318,24.1761,24.3959, 24.5398,24.7523,24.8949,25.0385,25.1823 ,25.3979,25.5416,25.7572,25.901,26.0442 ,26.1878,26.4746,26.6897,26.8331, 26.9764,27.191,27.4053,27.5484,27.6915, 27.765)
FOOTPRINT_POINT_LONGITUDE = (338.108,337.901,337.695,337.489, 337.284,337.092,337.013,337.016,337.018 ,337.02,337.023,337.025,337.026,337.028 ,337.03,337.032,337.034,337.037,337.038 ,337.04,337.042,337.043,337.044,337.046 ,337.048,337.049,337.05,337.052,337.053 ,337.054,337.055,337.056,337.057, 337.057,337.058,337.059,337.06,337.061, 337.062,337.062,337.061,337.061,337.061 ,337.062,337.062,337.063,337.065, 337.066,337.066,337.066,337.066,337.318 ,337.495,337.775,338.054,338.258, 338.353,338.354,338.354,338.354,338.353 ,338.353,338.353,338.354,338.355, 338.353,338.353,338.353,338.353,338.355 ,338.356,338.352,338.352,338.352, 338.353,338.353,338.353,338.353,338.353 ,338.353,338.352,338.354,338.354, 338.354,338.354,338.354,338.354,338.354 ,338.354,338.354,338.354,338.353, 338.353,338.353,338.353,338.353,338.353 ,338.353,338.353,338.108)
ORBIT_NUMBER = 5271
ORBITAL_ECCENTRICITY = 0.572
ORBITAL_INCLINATION = 86.74
ORBITAL_SEMIMAJOR_AXIS = 8703.08
PERIAPSIS_ALTITUDE = 332.86
PERIAPSIS_ARGUMENT_ANGLE = 151.02
PERIAPSIS_TIME = 2008-02-08T18:59:05.000Z
SPACECRAFT_ORIENTATION = (0.0,-1.0,0.0)
^MEX_ORIENTATION_DESC = "MEX_ORIENTATION_DESC.TXT"
SPACECRAFT_POINTING_MODE = ACROSSTRACK
^MEX_POINTING_DESC = "MEX_POINTING_DESC.TXT"
RIGHT_ASCENSION = -1e+32
DECLINATION = -1e+32
OFFSET_ANGLE = 0.2
SPACECRAFT_SOLAR_DISTANCE = 2.42834e+08
TARGET_NAME = MARS
/* CAMERA DATA ELEMENTS */
DETECTOR_TEMPERATURE = 17.5549
FOCAL_PLANE_TEMPERATURE = 8.3794
INST_CMPRS_NAME = "DISCRETE COSINE TRANSFORMATION (DCT)"
INST_CMPRS_RATIO = 7.42482
INST_CMPRS_QUALITY = 0
INST_CMPRS_QUANTZ_TBL_ID = 0
INSTRUMENT_TEMPERATURE = 11.234
LENS_TEMPERATURE = 8.5833
MACROPIXEL_SIZE = 1
MISSING_FRAMES = 2
PIXEL_SUBSAMPLING_FLAG = N
SIGNAL_CHAIN_ID = 2
/* RADIOMETRIC DATA ELEMENTS */
BANDWIDTH = 180.0
CENTER_FILTER_WAVELENGTH = 677.0
RADIANCE_OFFSET = 2.84675
RADIANCE_SCALING_FACTOR = 0.0181101
REFLECTANCE_SCALING_FACTOR = 0.000557165
MEX:REFLECTANCE_OFFSET = 0.0875817
/* IMAGE OBJECT DEFINITIONS */
OBJECT = IMAGE
  INTERCHANGE_FORMAT = BINARY
  LINES = 34265
  LINE_SAMPLES = 6076
  SAMPLE_TYPE = UNSIGNED_INTEGER
  SAMPLE_BITS = 8
  BANDS = 1
  BAND_STORAGE_TYPE = BAND_SEQUENTIAL
  MAXIMUM = 255
  MEAN = 97.2229
  MINIMUM = 1
  STANDARD_DEVIATION = 30.5656
END_OBJECT = IMAGE
/* MAP OBJECT DEFINITIONS */
OBJECT = IMAGE_MAP_PROJECTION
  ^DATA_SET_MAP_PROJECTION_CATALOG= "DSMAP.CAT"
  A_AXIS_RADIUS = 3396.0
  B_AXIS_RADIUS = 3396.0
  C_AXIS_RADIUS = 3396.0
  CENTER_LATITUDE = 0.0
  CENTER_LONGITUDE = 338.0
  COORDINATE_SYSTEM_NAME = PLANETOGRAPHIC
  COORDINATE_SYSTEM_TYPE = "BODY-FIXED ROTATING"
  EASTERNMOST_LONGITUDE = 338.356
  FIRST_STANDARD_PARALLEL = "N/A"
  LINE_FIRST_PIXEL = 1
  LINE_LAST_PIXEL = 34265
  LINE_PROJECTION_OFFSET = 131591.0
  MAP_PROJECTION_ROTATION = 0.0
  MAP_PROJECTION_TYPE = SINUSOIDAL
  MAP_RESOLUTION = 4741.71043093333
  MAP_SCALE = 0.0125
  MAXIMUM_LATITUDE = 27.7687
  MINIMUM_LATITUDE = 20.4899
  POSITIVE_LONGITUDE_DIRECTION = EAST
  REFERENCE_LATITUDE = "N/A"
  REFERENCE_LONGITUDE = "N/A"
  SAMPLE_FIRST_PIXEL = 1
  SAMPLE_LAST_PIXEL = 6076
  SAMPLE_PROJECTION_OFFSET = 4300.0
  SECOND_STANDARD_PARALLEL = "N/A"
  WESTERNMOST_LONGITUDE = 337.013
END_OBJECT = IMAGE_MAP_PROJECTION
/* The JPEG2000 image data file associated with this label. */
OBJECT = COMPRESSED_FILE
  FILE_NAME = "H5271_0000_S13.JP2"
  RECORD_TYPE = UNDEFINED
  FILE_RECORDS = UNK
  ENCODING_TYPE = "JP2"
  INTERCHANGE_FORMAT = BINARY
  UNCOMPRESSED_FILE_NAME = "H5271_0000_S13.IMG"
  REQUIRED_STORAGE_BYTES = "208224520"
  ^DESCRIPTION = "JP2INFO.TXT"
END_OBJECT = COMPRESSED_FILE
END
