PDS_VERSION_ID = PDS3
/* FILE DATA ELEMENTS */
RECORD_TYPE = STREAM
/* POINTERS TO DATA OBJECTS */
^COMPRESSED_FILE = "H5273_0000_S23.JP2"
/* IDENTIFICATION DATA ELEMENTS */
DATA_SET_ID = "MEX-M-HRSC-5-REFDR-MAPPROJECTED-V3.0"
DATA_SET_NAME = "MARS EXPRESS HRSC MAP PROJECTED REFDR V3.0"
DETECTOR_ID = MEX_HRSC_S2
EVENT_TYPE = "MARS-LOCAL-STEREO-Lc-La-Tc"
INSTRUMENT_HOST_ID = MEX
INSTRUMENT_HOST_NAME = "MARS EXPRESS"
INSTRUMENT_ID = HRSC
INSTRUMENT_NAME = "HIGH RESOLUTION STEREO CAMERA"
MISSION_NAME = "MARS EXPRESS"
MISSION_PHASE_NAME = ME_Phase_11
PROCESSING_LEVEL_ID = 3
PRODUCT_CREATION_TIME = 2016-05-13T12:18:58.000Z
PRODUCT_ID = "H5273_0000_S23.JP2"
RELEASE_ID = 0060
REVISION_ID = 0000
/* QUALITY DATA ELEMENTS */
DATA_QUALITY_ID = 2
DATA_QUALITY_DESC = "Data calculated based on photogrammetrically improved orbit and attitude data"
/* TIME DATA ELEMENTS */
SPACECRAFT_CLOCK_START_COUNT = "1/0150626858.09054"
SPACECRAFT_CLOCK_STOP_COUNT = "1/0150627097.07723"
START_TIME = 2008-02-09T08:49:31.072Z
STOP_TIME = 2008-02-09T08:51:38.941Z
/* ORBITAL DATA ELEMENTS */
ASCENDING_NODE_LONGITUDE = 118.46
MAXIMUM_RESOLUTION = 25.4
FOOTPRINT_POINT_LATITUDE = (-2.10176,-2.10029,-2.09907,-2.09682, -2.09517,-2.09307,-2.09073,-2.08814, -2.08534,-2.08235,-2.07913,-2.05433, -2.40973,-2.64739,-2.88667,-3.12816, -3.30883,-3.55381,-3.73796,-3.98639, -4.17538,-4.36169,-4.48659,-4.67326, -4.79805,-4.92351,-5.04995,-5.17505, -5.30136,-5.42909,-5.55621,-5.68296, -5.81094,-5.93967,-6.13237,-6.32708, -6.45604,-6.58583,-6.71743,-6.84777, -7.04068,-7.17309,-7.30812,-7.43827, -7.57178,-7.70474,-7.90414,-8.03743, -8.17238,-8.40828,-8.414,-8.41741, -8.42026,-8.42381,-8.42498,-8.42758, -8.43152,-8.43489,-8.43954,-8.44199, -8.44262,-8.4482,-8.44803,-8.44877, -8.44926,-8.31327,-8.1089,-7.97421, -7.8388,-7.63848,-7.50452,-7.37241, -7.23919,-7.10636,-6.97557,-6.84615, -6.71836,-6.58173,-6.44876,-6.24663, -6.04987,-5.9199,-5.72649,-5.41588, -5.28965,-5.16526,-5.03131,-4.89967, -4.77198,-4.52556,-4.35086,-4.10147, -3.85252,-3.60884,-3.36708,-3.06731, -2.8216,-2.58503,-2.28501,-2.10176)
FOOTPRINT_POINT_LONGITUDE = (138.089,137.883,137.739,137.513, 137.369,137.204,137.04,136.875,136.711, 136.546,136.381,136.139,136.123,136.112 ,136.102,136.091,136.082,136.071, 136.063,136.052,136.044,136.035,136.029 ,136.02,136.014,136.008,136.002,135.995 ,135.989,135.983,135.976,135.97,135.963 ,135.957,135.947,135.937,135.93,135.924 ,135.917,135.91,135.899,135.892,135.885 ,135.878,135.871,135.863,135.852, 135.844,135.837,135.875,136.052,136.178 ,136.304,136.505,136.631,136.807, 136.932,137.083,137.285,137.461,137.662 ,137.863,138.014,138.14,138.291,138.375 ,138.371,138.367,138.364,138.359, 138.356,138.353,138.35,138.347,138.343, 138.34,138.335,138.334,138.332,138.33, 138.326,138.324,138.319,138.31,138.306, 138.303,138.303,138.302,138.3,138.293, 138.285,138.28,138.275,138.27,138.264, 138.258,138.254,138.249,138.243, 138.089)
ORBIT_NUMBER = 5273
ORBITAL_ECCENTRICITY = 0.572
ORBITAL_INCLINATION = 86.72
ORBITAL_SEMIMAJOR_AXIS = 8708.21
PERIAPSIS_ALTITUDE = 333.16
PERIAPSIS_ARGUMENT_ANGLE = 150.69
PERIAPSIS_TIME = 2008-02-09T08:40:12.000Z
SPACECRAFT_ORIENTATION = (0.0,-1.0,0.0)
^MEX_ORIENTATION_DESC = "MEX_ORIENTATION_DESC.TXT"
SPACECRAFT_POINTING_MODE = NADIR
^MEX_POINTING_DESC = "MEX_POINTING_DESC.TXT"
RIGHT_ASCENSION = -1e+32
DECLINATION = -1e+32
OFFSET_ANGLE = -1e+32
SPACECRAFT_SOLAR_DISTANCE = 2.42909e+08
TARGET_NAME = MARS
/* CAMERA DATA ELEMENTS */
DETECTOR_TEMPERATURE = 18.5744
FOCAL_PLANE_TEMPERATURE = 8.5833
INST_CMPRS_NAME = "DISCRETE COSINE TRANSFORMATION (DCT)"
INST_CMPRS_RATIO = 8.41287
INST_CMPRS_QUALITY = 0
INST_CMPRS_QUANTZ_TBL_ID = 0
INSTRUMENT_TEMPERATURE = 11.234
LENS_TEMPERATURE = 8.9911
MACROPIXEL_SIZE = 1
MISSING_FRAMES = 1
PIXEL_SUBSAMPLING_FLAG = N
SIGNAL_CHAIN_ID = 1
/* RADIOMETRIC DATA ELEMENTS */
BANDWIDTH = 178.0
CENTER_FILTER_WAVELENGTH = 679.0
RADIANCE_OFFSET = 2.84926
RADIANCE_SCALING_FACTOR = 0.0236121
REFLECTANCE_SCALING_FACTOR = 0.000737825
MEX:REFLECTANCE_OFFSET = 0.0890331
/* IMAGE OBJECT DEFINITIONS */
OBJECT = IMAGE
  INTERCHANGE_FORMAT = BINARY
  LINES = 15079
  LINE_SAMPLES = 5418
  SAMPLE_TYPE = UNSIGNED_INTEGER
  SAMPLE_BITS = 8
  BANDS = 1
  BAND_STORAGE_TYPE = BAND_SEQUENTIAL
  MAXIMUM = 255
  MEAN = 126.384
  MINIMUM = 1
  STANDARD_DEVIATION = 46.5929
END_OBJECT = IMAGE
/* MAP OBJECT DEFINITIONS */
OBJECT = IMAGE_MAP_PROJECTION
  ^DATA_SET_MAP_PROJECTION_CATALOG= "DSMAP.CAT"
  A_AXIS_RADIUS = 3396.0
  B_AXIS_RADIUS = 3396.0
  C_AXIS_RADIUS = 3396.0
  CENTER_LATITUDE = 0.0
  CENTER_LONGITUDE = 137.0
  COORDINATE_SYSTEM_NAME = PLANETOGRAPHIC
  COORDINATE_SYSTEM_TYPE = "BODY-FIXED ROTATING"
  EASTERNMOST_LONGITUDE = 138.375
  FIRST_STANDARD_PARALLEL = "N/A"
  LINE_FIRST_PIXEL = 1
  LINE_LAST_PIXEL = 15079
  LINE_PROJECTION_OFFSET = -4937.0
  MAP_PROJECTION_ROTATION = 0.0
  MAP_PROJECTION_TYPE = SINUSOIDAL
  MAP_RESOLUTION = 2370.85521546667
  MAP_SCALE = 0.025
  MAXIMUM_LATITUDE = -2.05433
  MINIMUM_LATITUDE = -8.449260000000001
  POSITIVE_LONGITUDE_DIRECTION = EAST
  REFERENCE_LATITUDE = "N/A"
  REFERENCE_LONGITUDE = "N/A"
  SAMPLE_FIRST_PIXEL = 1
  SAMPLE_LAST_PIXEL = 5418
  SAMPLE_PROJECTION_OFFSET = 2439.0
  SECOND_STANDARD_PARALLEL = "N/A"
  WESTERNMOST_LONGITUDE = 135.837
END_OBJECT = IMAGE_MAP_PROJECTION
/* The JPEG2000 image data file associated with this label. */
OBJECT = COMPRESSED_FILE
  FILE_NAME = "H5273_0000_S23.JP2"
  RECORD_TYPE = UNDEFINED
  FILE_RECORDS = UNK
  ENCODING_TYPE = "JP2"
  INTERCHANGE_FORMAT = BINARY
  UNCOMPRESSED_FILE_NAME = "H5273_0000_S23.IMG"
  REQUIRED_STORAGE_BYTES = "81725112"
  ^DESCRIPTION = "JP2INFO.TXT"
END_OBJECT = COMPRESSED_FILE
END
