PDS_VERSION_ID = PDS3
/* FILE DATA ELEMENTS */
RECORD_TYPE = STREAM
/* POINTERS TO DATA OBJECTS */
^COMPRESSED_FILE = "H5279_0001_BL3.JP2"
/* IDENTIFICATION DATA ELEMENTS */
DATA_SET_ID = "MEX-M-HRSC-5-REFDR-MAPPROJECTED-V3.0"
DATA_SET_NAME = "MARS EXPRESS HRSC MAP PROJECTED REFDR V3.0"
DETECTOR_ID = MEX_HRSC_BLUE
EVENT_TYPE = "MARS-REGIONAL-MAPPING-Vo-Te"
INSTRUMENT_HOST_ID = MEX
INSTRUMENT_HOST_NAME = "MARS EXPRESS"
INSTRUMENT_ID = HRSC
INSTRUMENT_NAME = "HIGH RESOLUTION STEREO CAMERA"
MISSION_NAME = "MARS EXPRESS"
MISSION_PHASE_NAME = ME_Phase_11
PROCESSING_LEVEL_ID = 3
PRODUCT_CREATION_TIME = 2016-05-13T12:18:58.000Z
PRODUCT_ID = "H5279_0001_BL3.JP2"
RELEASE_ID = 0060
REVISION_ID = 0000
/* QUALITY DATA ELEMENTS */
DATA_QUALITY_ID = 1
DATA_QUALITY_DESC = "Data calculated based on original SPICE kernels"
/* TIME DATA ELEMENTS */
SPACECRAFT_CLOCK_START_COUNT = "1/0150774588.08243"
SPACECRAFT_CLOCK_STOP_COUNT = "1/0150774795.52784"
START_TIME = 2008-02-11T01:50:43.492Z
STOP_TIME = 2008-02-11T01:52:24.138Z
/* ORBITAL DATA ELEMENTS */
ASCENDING_NODE_LONGITUDE = 118.34
MAXIMUM_RESOLUTION = 154.6
FOOTPRINT_POINT_LATITUDE = (3.28766,3.2887,3.28989,3.29092,3.29196 ,3.293,3.29405,3.2951,3.29614,3.29718, 3.29857,3.2996,3.18394,2.97028,2.75693, 2.5439,2.38314,2.16602,1.94923,1.73277, 1.40286,1.18268,0.962847,0.794909, 0.682966,0.571127,0.347724,0.179236, 0.0655625,-0.0480421,-0.161548, -0.274937,-0.388237,-0.502815,-0.618171 ,-0.733433,-0.8486,-0.963665,-1.07862, -1.25354,-1.37047,-1.4873,-1.60402, -1.72066,-1.89799,-2.01661,-2.13504, -2.25341,-2.37172,-2.54682,-2.54895, -2.55191,-2.55368,-2.55539,-2.55712, -2.55867,-2.56057,-2.56202,-2.56407, -2.56591,-2.50463,-2.38443,-2.26603, -2.14749,-2.02885,-1.91006,-1.73253, -1.61572,-1.44034,-1.32342,-1.20629, -1.08988,-0.974756,-0.859485,-0.744079, -0.628633,-0.513143,-0.398581,-0.285132 ,-0.171578,-0.0579267,0.112733,0.226502 ,0.450053,0.561943,0.673918,0.785999, 0.953994,1.1741,1.39455,1.61537,1.77892 ,1.99576,2.21292,2.43028,2.64345, 2.85694,3.07076,3.23116,3.28766)
FOOTPRINT_POINT_LONGITUDE = (257.808,257.68,257.536,257.409,257.281 ,257.154,257.027,256.9,256.774,256.647, 256.473,256.347,256.296,256.29,256.283, 256.277,256.272,256.265,256.258,256.251 ,256.24,256.233,256.225,256.22,256.216, 256.212,256.205,256.199,256.195,256.191 ,256.187,256.183,256.179,256.175, 256.171,256.166,256.162,256.158,256.154 ,256.147,256.143,256.139,256.134,256.13 ,256.123,256.119,256.114,256.11,256.105 ,256.099,256.276,256.512,256.675, 256.819,256.965,257.11,257.31,257.456, 257.675,257.858,258.035,258.033,258.031 ,258.03,258.028,258.027,258.025,258.023 ,258.021,258.019,258.018,258.016, 258.015,258.013,258.012,258.011,258.009 ,258.008,258.006,258.005,258.004, 258.002,258.0,257.998,257.996,257.995, 257.994,257.992,257.989,257.987,257.985 ,257.983,257.981,257.978,257.976, 257.974,257.972,257.97,257.968,257.808)
ORBIT_NUMBER = 5279
ORBITAL_ECCENTRICITY = 0.573
ORBITAL_INCLINATION = 86.73
ORBITAL_SEMIMAJOR_AXIS = 8715.41
PERIAPSIS_ALTITUDE = 333.12
PERIAPSIS_ARGUMENT_ANGLE = 149.6
PERIAPSIS_TIME = 2008-02-11T01:43:29.000Z
SPACECRAFT_ORIENTATION = (0.0,-1.0,0.0)
^MEX_ORIENTATION_DESC = "MEX_ORIENTATION_DESC.TXT"
SPACECRAFT_POINTING_MODE = ACROSSTRACK
^MEX_POINTING_DESC = "MEX_POINTING_DESC.TXT"
RIGHT_ASCENSION = -1e+32
DECLINATION = -1e+32
OFFSET_ANGLE = 0.3
SPACECRAFT_SOLAR_DISTANCE = 2.43129e+08
TARGET_NAME = MARS
/* CAMERA DATA ELEMENTS */
DETECTOR_TEMPERATURE = 20.4095
FOCAL_PLANE_TEMPERATURE = 8.3794
INST_CMPRS_NAME = "DISCRETE COSINE TRANSFORMATION (DCT)"
INST_CMPRS_RATIO = 23.0338
INST_CMPRS_QUALITY = 0
INST_CMPRS_QUANTZ_TBL_ID = 0
INSTRUMENT_TEMPERATURE = 12.6613
LENS_TEMPERATURE = 8.7872
MACROPIXEL_SIZE = 8
MISSING_FRAMES = 0
PIXEL_SUBSAMPLING_FLAG = N
SIGNAL_CHAIN_ID = 2
/* RADIOMETRIC DATA ELEMENTS */
BANDWIDTH = 76.0
CENTER_FILTER_WAVELENGTH = 444.0
RADIANCE_OFFSET = 0.63972
RADIANCE_SCALING_FACTOR = 0.00234366
REFLECTANCE_SCALING_FACTOR = 0.00014234
MEX:REFLECTANCE_OFFSET = 0.0388528
/* IMAGE OBJECT DEFINITIONS */
OBJECT = IMAGE
  INTERCHANGE_FORMAT = BINARY
  LINES = 1739
  LINE_SAMPLES = 607
  SAMPLE_TYPE = UNSIGNED_INTEGER
  SAMPLE_BITS = 8
  BANDS = 1
  BAND_STORAGE_TYPE = BAND_SEQUENTIAL
  MAXIMUM = 255
  MEAN = 122.469
  MINIMUM = 1
  STANDARD_DEVIATION = 29.3018
END_OBJECT = IMAGE
/* MAP OBJECT DEFINITIONS */
OBJECT = IMAGE_MAP_PROJECTION
  ^DATA_SET_MAP_PROJECTION_CATALOG= "DSMAP.CAT"
  A_AXIS_RADIUS = 3396.0
  B_AXIS_RADIUS = 3396.0
  C_AXIS_RADIUS = 3396.0
  CENTER_LATITUDE = 0.0
  CENTER_LONGITUDE = 257.0
  COORDINATE_SYSTEM_NAME = PLANETOGRAPHIC
  COORDINATE_SYSTEM_TYPE = "BODY-FIXED ROTATING"
  EASTERNMOST_LONGITUDE = 258.035
  FIRST_STANDARD_PARALLEL = "N/A"
  LINE_FIRST_PIXEL = 1
  LINE_LAST_PIXEL = 1739
  LINE_PROJECTION_OFFSET = 979.0625
  MAP_PROJECTION_ROTATION = 0.0
  MAP_PROJECTION_TYPE = SINUSOIDAL
  MAP_RESOLUTION = 296.356901933333
  MAP_SCALE = 0.2
  MAXIMUM_LATITUDE = 3.2996
  MINIMUM_LATITUDE = -2.56591
  POSITIVE_LONGITUDE_DIRECTION = EAST
  REFERENCE_LATITUDE = "N/A"
  REFERENCE_LONGITUDE = "N/A"
  SAMPLE_FIRST_PIXEL = 1
  SAMPLE_LAST_PIXEL = 607
  SAMPLE_PROJECTION_OFFSET = 280.6875
  SECOND_STANDARD_PARALLEL = "N/A"
  WESTERNMOST_LONGITUDE = 256.099
END_OBJECT = IMAGE_MAP_PROJECTION
/* The JPEG2000 image data file associated with this label. */
OBJECT = COMPRESSED_FILE
  FILE_NAME = "H5279_0001_BL3.JP2"
  RECORD_TYPE = UNDEFINED
  FILE_RECORDS = UNK
  ENCODING_TYPE = "JP2"
  INTERCHANGE_FORMAT = BINARY
  UNCOMPRESSED_FILE_NAME = "H5279_0001_BL3.IMG"
  REQUIRED_STORAGE_BYTES = "1073176"
  ^DESCRIPTION = "JP2INFO.TXT"
END_OBJECT = COMPRESSED_FILE
END
